From mboxrd@z Thu Jan 1 00:00:00 1970 Return-Path: Received: from mails.dpdk.org (mails.dpdk.org [217.70.189.124]) by inbox.dpdk.org (Postfix) with ESMTP id A9F24488FE for ; Fri, 10 Oct 2025 13:10:00 +0200 (CEST) Received: from mails.dpdk.org (localhost [127.0.0.1]) by mails.dpdk.org (Postfix) with ESMTP id A3A304027A; Fri, 10 Oct 2025 13:10:00 +0200 (CEST) Received: from mail-pf1-f227.google.com (mail-pf1-f227.google.com [209.85.210.227]) by mails.dpdk.org (Postfix) with ESMTP id DF2194027A for ; Fri, 10 Oct 2025 13:09:59 +0200 (CEST) Received: by mail-pf1-f227.google.com with SMTP id d2e1a72fcca58-7810289cd4bso1939491b3a.2 for ; Fri, 10 Oct 2025 04:09:59 -0700 (PDT) DKIM-Signature: v=1; a=rsa-sha256; c=relaxed/relaxed; d=iol.unh.edu; s=unh-iol; t=1760094599; x=1760699399; darn=dpdk.org; h=references:in-reply-to:cc:to:from:subject:message-id:date:from:to :cc:subject:date:message-id:reply-to; bh=6sPUCxyDK4NMqkrRvM9LMxil+cs9fQ1HRMUepgYwNzA=; b=YbdHm7LHgYEnO5dMjbymefpIt/G3S783KCiYvfb36wpxLGKlV4oahptA6sPhzC/vih IIF+UilowOSgEFy7r8Q83bNOlbttq/Y0MtGgNpY1kEcmw2LSQvaueFlJ+QoWM9HbaL5l GpPJ6pPc+03cGzcW0fIcN7hs1QkC7Oj+MorO8= X-Google-DKIM-Signature: v=1; a=rsa-sha256; c=relaxed/relaxed; d=1e100.net; s=20230601; t=1760094599; x=1760699399; h=references:in-reply-to:cc:to:from:subject:message-id:date :x-gm-message-state:from:to:cc:subject:date:message-id:reply-to; bh=6sPUCxyDK4NMqkrRvM9LMxil+cs9fQ1HRMUepgYwNzA=; b=nl0LJfsKmWED1KclXxi0MtPV3RTTZkUlJ20iaovLw/pgmNt/ZG88l+g+MnlbZZC0ob ReUrerKvINnpJhR5WPFyoms1L85Sk65XMEfSKnSPz10Foi6mOewx5rlufF/kVaG9CzX4 QYbuEuEjrpPDdiAkzunG8Jp7qwkkvFbcnr58yQ1h/944Nnzy7JbMRAO27iXLmRHqAJew I11lao5q7SKg4Bh+HcXVyUrw0dX0xChrDtFc00YMhP/P9Ma20u3WEGRA9FAoqMhbfa9z XR6zd/a5ywsXSFvxhdzyWLJVHIXDjUiilh2B6oSsoNytoa4azbRyJTtxigZyq19Q/HYy JRfg== X-Gm-Message-State: AOJu0YxnZPJXqgOv/EuuW4pupxZO/18r+fNClNPidzFlOWirflKtA6zx JrslNwwWXwZcYo7Sva3dpWfE8DbspK1IPf3COYmQVtN+Su4lDp1NRp5Q9ZdDFHqCwtSE5J9tkUx IOIUF1KzaqhXFX3lu6HmRNC4/WnaoDBW97YcSL2gLIp/nBkDYNEI0pA9aKXGh X-Gm-Gg: ASbGncuEScO3cz/n72C49XrGRL2QABRq/qBUpCjiTGrlsL+jsCyyy4hvTs4C27dosPj D+dNPnth0ynCeuSjU0/zUoj2XmT1ZW4KvReUT7yMrutrPpo/vIUV1alPCHwb1VIsAoxO79LDrep VBIzikq4EKbCRh2rgo2RVIQ31vqLXclHftakv1HR8G2TKqEtzTPyuxfLWJEQG41+FPOxRenuj6E mssoIyaGj/XOaBz0CzYoEHnNncQTgTeZfRlEs5I9vhVpDGbM5q0VIKijz9biG3kgzoUtTzGAJl2 4xa3H7PbmyrPaOENHFv7pTn+tiy9kSmplD5QUdocj4H1L/NCzg== X-Google-Smtp-Source: AGHT+IFmF7lWDgY0+FGV13aUeoqeOfek3n0LnkTh+9BqRfB/WehdUPcud1uFqLf4EYL8zsQlV1lF3SaectdF X-Received: by 2002:a05:6a20:2590:b0:309:e824:b92d with SMTP id adf61e73a8af0-32da83de1f6mr15786739637.38.1760094598994; Fri, 10 Oct 2025 04:09:58 -0700 (PDT) Received: from postal.iol.unh.edu (postal.iol.unh.edu. [2606:4100:3880:1234::84]) by smtp-relay.gmail.com with ESMTPS id 41be03b00d2f7-b678ddcc5f9sm131752a12.5.2025.10.10.04.09.58 (version=TLS1_2 cipher=ECDHE-ECDSA-AES128-GCM-SHA256 bits=128/128); Fri, 10 Oct 2025 04:09:58 -0700 (PDT) X-Relaying-Domain: iol.unh.edu Date: Fri, 10 Oct 2025 04:09:58 -0700 (PDT) Message-ID: <68e8e986.630a0220.2b726a.6efaSMTPIN_ADDED_MISSING@mx.google.com> Received: from [172.21.0.2] (unknown [172.18.0.240]) by postal.iol.unh.edu (Postfix) with ESMTP id 6DE786051830; Fri, 10 Oct 2025 07:09:58 -0400 (EDT) Subject: |SUCCESS| pw157450 [PATCH] [v3] vhost: fix a double fetch when deque From: dpdklab@iol.unh.edu To: Test Report Cc: dpdk-test-reports@iol.unh.edu, Chenbo Xia , Maxime Coquelin In-Reply-To: <1760085696-35028-1-git-send-email-wangyunjian@huawei.com> References: <1760085696-35028-1-git-send-email-wangyunjian@huawei.com> Content-Type: text/plain X-BeenThere: test-report@dpdk.org X-Mailman-Version: 2.1.29 Precedence: list List-Id: automatic DPDK test reports List-Unsubscribe: , List-Archive: List-Post: List-Help: List-Subscribe: , Errors-To: test-report-bounces@dpdk.org Test-Label: iol-compile-amd64-testing Test-Status: SUCCESS http://dpdk.org/patch/157450 _Testing PASS_ Submitter: Yunjian Wang Date: Friday, October 10 2025 08:41:36 DPDK git baseline: Repo:dpdk-next-virtio Branch: master CommitID:4159ea62922ce41566c7bab44655ad78bee85458 157450 --> testing pass Upstream job id: Windows-Compile-DPDK-VS#7157 Test environment and result as below: +-------------------------------+--------------------+-------------------+------------------+-------------------+ | Environment | dpdk_meson_compile | dpdk_compile_spdk | dpdk_compile_ovs | dpdk_msvc_compile | +===============================+====================+===================+==================+===================+ | CentOS Stream 10 | PASS | SKIPPED | SKIPPED | SKIPPED | +-------------------------------+--------------------+-------------------+------------------+-------------------+ | CentOS Stream 9 | PASS | PASS | SKIPPED | SKIPPED | +-------------------------------+--------------------+-------------------+------------------+-------------------+ | Debian GNU/Linux 12 | PASS | PASS | SKIPPED | SKIPPED | +-------------------------------+--------------------+-------------------+------------------+-------------------+ | Fedora Linux 42 | PASS | PASS | PASS | SKIPPED | +-------------------------------+--------------------+-------------------+------------------+-------------------+ | openSUSE Leap 15.6 | PASS | SKIPPED | SKIPPED | SKIPPED | +-------------------------------+--------------------+-------------------+------------------+-------------------+ | Red Hat Enterprise Linux 8.10 | PASS | SKIPPED | SKIPPED | SKIPPED | +-------------------------------+--------------------+-------------------+------------------+-------------------+ | Ubuntu 20.04 | PASS | SKIPPED | SKIPPED | SKIPPED | +-------------------------------+--------------------+-------------------+------------------+-------------------+ | Red Hat Enterprise Linux 9.5 | PASS | SKIPPED | SKIPPED | SKIPPED | +-------------------------------+--------------------+-------------------+------------------+-------------------+ | FreeBSD 14.2 | PASS | SKIPPED | SKIPPED | SKIPPED | +-------------------------------+--------------------+-------------------+------------------+-------------------+ | Ubuntu 22.04 | PASS | PASS | SKIPPED | SKIPPED | +-------------------------------+--------------------+-------------------+------------------+-------------------+ | Ubuntu 24.04 | PASS | PASS | PASS | SKIPPED | +-------------------------------+--------------------+-------------------+------------------+-------------------+ | Alpine Linux 3.22.0 | PASS | SKIPPED | SKIPPED | SKIPPED | +-------------------------------+--------------------+-------------------+------------------+-------------------+ | Windows Server 2022 | SKIPPED | SKIPPED | SKIPPED | PASS | +-------------------------------+--------------------+-------------------+------------------+-------------------+ CentOS Stream 10 Kernel: 5.15 Compiler: gcc gcc (GCC) 14.2.1 20250110 (Red Hat 14.2.1-8) CentOS Stream 9 Kernel: 5.15 Compiler: gcc gcc (GCC) 11.5.0 20240719 (Red Hat 11.5.0-11) Debian GNU/Linux 12 Kernel: 5.15 Compiler: gcc gcc (Debian 12.2.0-14+deb12u1) 12.2.0 Fedora Linux 42 Kernel: 5.15 Compiler: clang gcc (GCC) 15.2.1 20250808 (Red Hat 15.2.1-1) openSUSE Leap 15.6 Kernel: 5.15 Compiler: gcc gcc (SUSE Linux) 7.5.0 Red Hat Enterprise Linux 8.10 Kernel: 5.15 Compiler: gcc gcc (GCC) 8.5.0 20210514 (Red Hat 8.5.0-22) Ubuntu 20.04 Kernel: 4.19 Compiler: gcc gcc (Ubuntu 9.4.0-1ubuntu1~20.04.2) 9.4.0 Red Hat Enterprise Linux 9.5 Kernel: 5.15 Compiler: gcc gcc (GCC) 11.5.0 20240719 (Red Hat 11.5.0-2) FreeBSD 14.2 Kernel: 14.2-RELEASE Compiler: clang 18.1.6 Ubuntu 22.04 Kernel: 5.15 Compiler: gcc gcc (Ubuntu 11.4.0-1ubuntu1~22.04) 11.4.0 Ubuntu 24.04 Kernel: 5.15 Compiler: gcc gcc (Ubuntu 13.3.0-6ubuntu2~24.04) 13.3.0 Alpine Linux 3.22.0 Kernel: 5.15 Compiler: gcc gcc (Alpine 14.2.0) 14.2.0 Windows Server 2022 Kernel: 10.0.20348.2031 Compiler: clang 15.0.7, gcc 14.1.0 (MinGW), and MSVC VS 19.39.33521 To view detailed results, visit: https://lab.dpdk.org/results/dashboard/patchsets/34250/ UNH-IOL DPDK Community Lab To manage your email subscriptions, visit: https://lab.dpdk.org/results/dashboard/preferences/subscriptions/