From mboxrd@z Thu Jan 1 00:00:00 1970 Return-Path: Received: from mails.dpdk.org (mails.dpdk.org [217.70.189.124]) by inbox.dpdk.org (Postfix) with ESMTP id 3D0B9488FE for ; Fri, 10 Oct 2025 13:14:40 +0200 (CEST) Received: from mails.dpdk.org (localhost [127.0.0.1]) by mails.dpdk.org (Postfix) with ESMTP id 2ACEF4027A; Fri, 10 Oct 2025 13:14:40 +0200 (CEST) Received: from mail-yw1-f226.google.com (mail-yw1-f226.google.com [209.85.128.226]) by mails.dpdk.org (Postfix) with ESMTP id D89B44027A for ; Fri, 10 Oct 2025 13:14:38 +0200 (CEST) Received: by mail-yw1-f226.google.com with SMTP id 00721157ae682-71d603acc23so19714657b3.1 for ; Fri, 10 Oct 2025 04:14:38 -0700 (PDT) DKIM-Signature: v=1; a=rsa-sha256; c=relaxed/relaxed; d=iol.unh.edu; s=unh-iol; t=1760094878; x=1760699678; darn=dpdk.org; h=references:in-reply-to:cc:to:from:subject:message-id:date:from:to :cc:subject:date:message-id:reply-to; bh=xz7tlHr1BUsNHQAGOsFaM56vl1ThQJkrNN7JDZoVTqE=; b=NYPLE3dj9CPVeQQGaBWh/1aiFY/5krzbBxqJnIMGrM4wBd+mZjXhX6WK3Mh6jTaJ2M b1VpS1WdMpaNt4XOK9qdjKPyQbmrJoNnoCtpszsNtdOeQvdZsKp1qWZQbtU48YrOWj4q HSYQ5fEHUrpUOMeDFG1mgytbHU88+wwDYArfQ= X-Google-DKIM-Signature: v=1; a=rsa-sha256; c=relaxed/relaxed; d=1e100.net; s=20230601; t=1760094878; x=1760699678; h=references:in-reply-to:cc:to:from:subject:message-id:date :x-gm-message-state:from:to:cc:subject:date:message-id:reply-to; bh=xz7tlHr1BUsNHQAGOsFaM56vl1ThQJkrNN7JDZoVTqE=; b=cBViOk6c/lirj8uT5HPivJAW5WTzyGe4jdexdSUK0idRRbMe3ZMyswtNEB72eG32UQ 5CAHSvxTckob3FomK1hfI88UWluyBGSxeHQDK7aksLJMvBev8jK6ZdjnA7snNQS7kpoN Bqm0rhS0CmMd0KMYKp9TDpfk9VNvAktvzNQY5zzg1ZTMX8hDo1mqwIpNJ08fNywRYRnh 0Hq8pBLMI2QbIVsBXdcOyGCXTNg/bWwjrY29VkuXLo0JUjY7TLKlgGpyj6dSVrIMqG0I t78xFZK/NoMNa+pQ4sY0UJ1Ad8g4AHIfIiWBL3L7vh0bb1yL1OXqLr9l9HWl8zbTosR2 iB9Q== X-Gm-Message-State: AOJu0YxWXNrJdVcABXpk3C6gSw3IvepnTd6yKUGH9XQSqJqOqtYmuFYp AadSDQRj+eFSx51ObuwBzaXmWdDVUpsNaSDxOnsmGcex1+RoO3gj7YV1LkTdJ1cAnxe5uQWypsf +p25y/zd/KlJeZKgXn1ik1ngHePcdhbHdT10kGgnI001w X-Gm-Gg: ASbGnctNO2LFj19e5ZdkvBarCO+DPfCrYxjIfE9AUYCdPx28ntS6RF5UvTvIKXaRev8 2EDQnIxBmmr4K5yRJXc3ZObepIyhli+7SGR1aayGyT5WK3rbjg3E+fPZC6NrSBBIKlbbXbPrH59 vGwHyH8CtrZquB2ikFAeqUDy3gHqrCU69xMLXhBwydY3IvJv8NDWB7EA/6k3zA+s5vqiZgfrvrk pgdb0QikLStXTpmKCeT+VXxPQVUIwP/SAISLruPQ9hdqJ5iWRuVvI8q9P17NxUfXTrewUEW9keP VIObWzmGaUEk05+no9t/uBmMOo3MjP79MGqZeAiQcsmGlwINX9TMymFwu740BFR4ziidihG+ X-Google-Smtp-Source: AGHT+IEqBXzY67zfWAuhfUAIW9pcyRQxgx5gSUYKI9PR1FhOaH02j34E9XB2aIheBXkikjsIPlu/Eq7/ylSG X-Received: by 2002:a05:690c:6610:b0:781:64f:2b0b with SMTP id 00721157ae682-781064f3944mr33779397b3.61.1760094878176; Fri, 10 Oct 2025 04:14:38 -0700 (PDT) Received: from postal.iol.unh.edu (postal.iol.unh.edu. [132.177.123.84]) by smtp-relay.gmail.com with ESMTPS id 00721157ae682-78106fac042sm1190517b3.18.2025.10.10.04.14.38 (version=TLS1_2 cipher=ECDHE-ECDSA-AES128-GCM-SHA256 bits=128/128); Fri, 10 Oct 2025 04:14:38 -0700 (PDT) X-Relaying-Domain: iol.unh.edu Date: Fri, 10 Oct 2025 04:14:38 -0700 (PDT) Message-ID: <68e8ea9e.050a0220.2dc414.5f3dSMTPIN_ADDED_MISSING@mx.google.com> Received: from [172.21.0.2] (unknown [172.18.0.240]) by postal.iol.unh.edu (Postfix) with ESMTP id C43936051830; Fri, 10 Oct 2025 07:14:37 -0400 (EDT) Subject: |SUCCESS| pw157448 [PATCH] lib/net: Add ICMP support to rte_net_get_ From: dpdklab@iol.unh.edu To: Test Report Cc: dpdk-test-reports@iol.unh.edu In-Reply-To: <20251009152740.10437-1-eimear.morrissey@huawei.com> References: <20251009152740.10437-1-eimear.morrissey@huawei.com> Content-Type: text/plain X-BeenThere: test-report@dpdk.org X-Mailman-Version: 2.1.29 Precedence: list List-Id: automatic DPDK test reports List-Unsubscribe: , List-Archive: List-Post: List-Help: List-Subscribe: , Errors-To: test-report-bounces@dpdk.org Test-Label: iol-compile-amd64-testing Test-Status: SUCCESS http://dpdk.org/patch/157448 _Testing PASS_ Submitter: Eimear Morrissey Date: Thursday, October 09 2025 15:27:40 DPDK git baseline: Repo:dpdk Branch: master CommitID:2b403dd8fb37d0ba13723e44ffc7ee2c2795f838 157448 --> testing pass Upstream job id: Windows-Compile-DPDK-Native#31535 Test environment and result as below: +-------------------------------+--------------------+-------------------+------------------+-------------------+-------------------------+ | Environment | dpdk_meson_compile | dpdk_compile_spdk | dpdk_compile_ovs | dpdk_msvc_compile | dpdk_llvm_clang_compile | +===============================+====================+===================+==================+===================+=========================+ | Ubuntu 20.04 | PASS | SKIPPED | SKIPPED | SKIPPED | SKIPPED | +-------------------------------+--------------------+-------------------+------------------+-------------------+-------------------------+ | FreeBSD 14.2 | PASS | SKIPPED | SKIPPED | SKIPPED | SKIPPED | +-------------------------------+--------------------+-------------------+------------------+-------------------+-------------------------+ | CentOS Stream 9 | PASS | PASS | SKIPPED | SKIPPED | SKIPPED | +-------------------------------+--------------------+-------------------+------------------+-------------------+-------------------------+ | CentOS Stream 10 | PASS | SKIPPED | SKIPPED | SKIPPED | SKIPPED | +-------------------------------+--------------------+-------------------+------------------+-------------------+-------------------------+ | Debian GNU/Linux 12 | PASS | PASS | SKIPPED | SKIPPED | SKIPPED | +-------------------------------+--------------------+-------------------+------------------+-------------------+-------------------------+ | Fedora Linux 42 | PASS | PASS | PASS | SKIPPED | SKIPPED | +-------------------------------+--------------------+-------------------+------------------+-------------------+-------------------------+ | openSUSE Leap 15.6 | PASS | SKIPPED | SKIPPED | SKIPPED | SKIPPED | +-------------------------------+--------------------+-------------------+------------------+-------------------+-------------------------+ | Red Hat Enterprise Linux 8.10 | PASS | SKIPPED | SKIPPED | SKIPPED | SKIPPED | +-------------------------------+--------------------+-------------------+------------------+-------------------+-------------------------+ | Red Hat Enterprise Linux 9.5 | PASS | SKIPPED | SKIPPED | SKIPPED | SKIPPED | +-------------------------------+--------------------+-------------------+------------------+-------------------+-------------------------+ | Ubuntu 22.04 | PASS | PASS | SKIPPED | SKIPPED | SKIPPED | +-------------------------------+--------------------+-------------------+------------------+-------------------+-------------------------+ | Ubuntu 24.04 | PASS | PASS | PASS | SKIPPED | SKIPPED | +-------------------------------+--------------------+-------------------+------------------+-------------------+-------------------------+ | Alpine Linux 3.22.0 | PASS | SKIPPED | SKIPPED | SKIPPED | SKIPPED | +-------------------------------+--------------------+-------------------+------------------+-------------------+-------------------------+ | Windows Server 2022 | SKIPPED | SKIPPED | SKIPPED | PASS | PASS | +-------------------------------+--------------------+-------------------+------------------+-------------------+-------------------------+ Ubuntu 20.04 Kernel: 4.19 Compiler: gcc gcc (Ubuntu 9.4.0-1ubuntu1~20.04.2) 9.4.0 FreeBSD 14.2 Kernel: 14.2-RELEASE Compiler: clang 18.1.6 CentOS Stream 9 Kernel: 5.15 Compiler: gcc gcc (GCC) 11.5.0 20240719 (Red Hat 11.5.0-11) CentOS Stream 10 Kernel: 5.15 Compiler: gcc gcc (GCC) 14.2.1 20250110 (Red Hat 14.2.1-8) Debian GNU/Linux 12 Kernel: 5.15 Compiler: gcc gcc (Debian 12.2.0-14+deb12u1) 12.2.0 Fedora Linux 42 Kernel: 5.15 Compiler: clang gcc (GCC) 15.2.1 20250808 (Red Hat 15.2.1-1) openSUSE Leap 15.6 Kernel: 5.15 Compiler: gcc gcc (SUSE Linux) 7.5.0 Red Hat Enterprise Linux 8.10 Kernel: 5.15 Compiler: gcc gcc (GCC) 8.5.0 20210514 (Red Hat 8.5.0-22) Red Hat Enterprise Linux 9.5 Kernel: 5.15 Compiler: gcc gcc (GCC) 11.5.0 20240719 (Red Hat 11.5.0-2) Ubuntu 22.04 Kernel: 5.15 Compiler: gcc gcc (Ubuntu 11.4.0-1ubuntu1~22.04) 11.4.0 Ubuntu 24.04 Kernel: 5.15 Compiler: gcc gcc (Ubuntu 13.3.0-6ubuntu2~24.04) 13.3.0 Alpine Linux 3.22.0 Kernel: 5.15 Compiler: gcc gcc (Alpine 14.2.0) 14.2.0 Windows Server 2022 Kernel: 10.0.20348.2031 Compiler: clang 15.0.7, gcc 14.1.0 (MinGW), and MSVC VS 19.39.33521 To view detailed results, visit: https://lab.dpdk.org/results/dashboard/patchsets/34248/ UNH-IOL DPDK Community Lab To manage your email subscriptions, visit: https://lab.dpdk.org/results/dashboard/preferences/subscriptions/