From mboxrd@z Thu Jan 1 00:00:00 1970 Return-Path: Received: from mails.dpdk.org (mails.dpdk.org [217.70.189.124]) by inbox.dpdk.org (Postfix) with ESMTP id 82D71488FE for ; Fri, 10 Oct 2025 13:22:21 +0200 (CEST) Received: from mails.dpdk.org (localhost [127.0.0.1]) by mails.dpdk.org (Postfix) with ESMTP id 7C92F4026F; Fri, 10 Oct 2025 13:22:21 +0200 (CEST) Received: from mail-qk1-f226.google.com (mail-qk1-f226.google.com [209.85.222.226]) by mails.dpdk.org (Postfix) with ESMTP id 65CF74026F for ; Fri, 10 Oct 2025 13:22:20 +0200 (CEST) Received: by mail-qk1-f226.google.com with SMTP id af79cd13be357-85a4ceb4c3dso181682885a.3 for ; Fri, 10 Oct 2025 04:22:20 -0700 (PDT) DKIM-Signature: v=1; a=rsa-sha256; c=relaxed/relaxed; d=iol.unh.edu; s=unh-iol; t=1760095339; x=1760700139; darn=dpdk.org; h=references:in-reply-to:cc:to:from:subject:message-id:date:from:to :cc:subject:date:message-id:reply-to; bh=0w7hqLBUxb7pwwL0vEHBew04bmf00pnOPjvGk4jqXiw=; b=VjPuH2v9v0W5mh9dGB7Mm/R8NnrXVIsKesRUIHxviwh6W2JPCst0MlVg95tJx6Dsn5 /QtaOIU0PrFxKRqvoku07iobZY+iRcOQZk1RzhqzHIJMsyZAuJaI0hLeFBxRV8HJCI0f a1nxPVOHgbzYuWzxIr6WURg9D6ekUzKsGq55E= X-Google-DKIM-Signature: v=1; a=rsa-sha256; c=relaxed/relaxed; d=1e100.net; s=20230601; t=1760095339; x=1760700139; h=references:in-reply-to:cc:to:from:subject:message-id:date :x-gm-message-state:from:to:cc:subject:date:message-id:reply-to; bh=0w7hqLBUxb7pwwL0vEHBew04bmf00pnOPjvGk4jqXiw=; b=krE1Ln8fcTacL4r3uJu3V43P7YB3w0gMdS+RPHhFPZMI0KnzK1Xr1956N28DwU7rw9 f7lewPGLRRIzN2Hb28FN4aBHSoGJpxS3uZBrQkC3cyF6B6S60/oRI9wNvNY+6+e0JPB+ S1vbTXV30UbkQOdAt3zUamXGrF0GeUqPbIZjsa4JktR+/FtR2bcj4P6MhPJFkODAUdEM rZ/BbqYGWmUFHIoSyQuKgx7MjCXNV6Py3NHU3Lei8Cgpuk9bBaFubx348L0hI+l3FzkG H0mJBqsDtdDOoC7DO4si+93kfu7Uzb3DPaukBzVAPXSvQ/gSkfqizD7POYhHXURuHfxc 3RDQ== X-Gm-Message-State: AOJu0YxpxxIp0odDo2Wke4cDceMjSqoTaOv/MQie9jqdJdfzoHZ1yH2w 8gTxACfNh4Bxqbc8fIdJGz4i+MNF6uaXCFJVGTU5vRgfdu6v3gfqjz4pIUzfVs4WH8fY3wUvSR3 KYysL6V+DW5jvGS4xgShfHd+kdmqTEohUwILN3Z2r35rHMhLBtEfIriUr3th8 X-Gm-Gg: ASbGncsfMz3mYCyFKyLn5hA3/gYkt/ntUO2m3IBFKqj9FqFuXC1mtn6wLFbwR661ptl Ti66wYPoZ4M1P3ZDTT9rvjX8+jIHNxFu8Hs4s7Ncox0JxZIDcEwvMf/0iEN/WQV2N24/VnXzmC6 Qd6AvcOTRfeIE21S+K34IuNFJqVTBg61W0P0eKI0cj7F+KitWrYW3pola1U0G5abS/rkd8wezOm EW9lZ1wLaan/cJnybvgAsxCZpu/A63ddce24ajKnCIE/hYZkX1ndTECjo1a7Mcae82t+GQDLvI1 oS9onIvxxiVSUrJim0ci7cK4Cd7yj/MrmnKeLsQHkUmVfXbf9w== X-Google-Smtp-Source: AGHT+IFUCg91ZxoMblnBf3qSyYFG/RBhqIsRbAuAXoMnxdwnLWLcBzSQkXunjxb/NJeQsNsY2o1JJdH0ArGB X-Received: by 2002:a05:620a:f07:b0:85d:df83:f6a8 with SMTP id af79cd13be357-883529b5d46mr1504401185a.2.1760095339596; Fri, 10 Oct 2025 04:22:19 -0700 (PDT) Received: from postal.iol.unh.edu (postal.iol.unh.edu. [2606:4100:3880:1234::84]) by smtp-relay.gmail.com with ESMTPS id d75a77b69052e-4e706feb51dsm1520501cf.13.2025.10.10.04.22.19 (version=TLS1_2 cipher=ECDHE-ECDSA-AES128-GCM-SHA256 bits=128/128); Fri, 10 Oct 2025 04:22:19 -0700 (PDT) X-Relaying-Domain: iol.unh.edu Date: Fri, 10 Oct 2025 04:22:19 -0700 (PDT) Message-ID: <68e8ec6b.050a0220.2eb370.7d17SMTPIN_ADDED_MISSING@mx.google.com> Received: from [172.21.0.3] (unknown [172.18.0.240]) by postal.iol.unh.edu (Postfix) with ESMTP id 5618F6051830; Fri, 10 Oct 2025 07:22:19 -0400 (EDT) Subject: |SUCCESS| pw157444-157447 [PATCH] [v3,4/4] net/rnp: resolve coredump From: dpdklab@iol.unh.edu To: Test Report Cc: dpdk-test-reports@iol.unh.edu, Stephen Hemminger In-Reply-To: <20251010070122.161401-5-caowenbo@mucse.com> References: <20251010070122.161401-5-caowenbo@mucse.com> Content-Type: text/plain X-BeenThere: test-report@dpdk.org X-Mailman-Version: 2.1.29 Precedence: list List-Id: automatic DPDK test reports List-Unsubscribe: , List-Archive: List-Post: List-Help: List-Subscribe: , Errors-To: test-report-bounces@dpdk.org Test-Label: iol-compile-arm64-testing Test-Status: SUCCESS http://dpdk.org/patch/157447 _Testing PASS_ Submitter: Wenbo Cao Date: Friday, October 10 2025 07:01:22 DPDK git baseline: Repo:dpdk-next-net Branch: master CommitID:c04bbd131b2c14b3049bf86d3ef367b34e6fdf1e 157444-157447 --> testing pass Upstream job id: Generic-DPDK-Compile-Meson#433074 Test environment and result as below: +------------------------------+--------------------+ | Environment | dpdk_meson_compile | +==============================+====================+ | Ubuntu 20.04 | PASS | +------------------------------+--------------------+ | Debian GNU/Linux 12 | PASS | +------------------------------+--------------------+ | Red Hat Enterprise Linux 9.5 | PASS | +------------------------------+--------------------+ | Fedora Linux 42 | PASS | +------------------------------+--------------------+ | Ubuntu 22.04 | PASS | +------------------------------+--------------------+ | CentOS Stream 10 | PASS | +------------------------------+--------------------+ | Ubuntu 24.04 | PASS | +------------------------------+--------------------+ | CentOS Stream 9 | PASS | +------------------------------+--------------------+ Ubuntu 20.04 Kernel: 5.15 Compiler: aarch64-linux-gnu-gcc gcc (Ubuntu 9.4.0-1ubuntu1~20.04.2) 9.4.0 Debian GNU/Linux 12 Kernel: 5.4 Compiler: gcc gcc (Debian 12.2.0-14+deb12u1) 12.2.0 Red Hat Enterprise Linux 9.5 Kernel: 5.4 Compiler: gcc gcc (GCC) 11.5.0 20240719 (Red Hat 11.5.0-2) Fedora Linux 42 Kernel: 5.4 Compiler: clang gcc (GCC) 15.2.1 20250808 (Red Hat 15.2.1-1) Ubuntu 22.04 Kernel: 5.4 Compiler: gcc gcc (Ubuntu 11.4.0-1ubuntu1~22.04) 11.4.0 CentOS Stream 10 Kernel: 5.4 Compiler: gcc gcc (GCC) 14.2.1 20250110 (Red Hat 14.2.1-8) Ubuntu 24.04 Kernel: 5.4 Compiler: gcc gcc (Ubuntu 13.3.0-6ubuntu2~24.04) 13.3.0 CentOS Stream 9 Kernel: 5.4 Compiler: gcc gcc (GCC) 11.5.0 20240719 (Red Hat 11.5.0-11) To view detailed results, visit: https://lab.dpdk.org/results/dashboard/patchsets/34249/ UNH-IOL DPDK Community Lab To manage your email subscriptions, visit: https://lab.dpdk.org/results/dashboard/preferences/subscriptions/