From mboxrd@z Thu Jan 1 00:00:00 1970 Return-Path: Received: from mails.dpdk.org (mails.dpdk.org [217.70.189.124]) by inbox.dpdk.org (Postfix) with ESMTP id 3DCB3488FE for ; Fri, 10 Oct 2025 13:23:57 +0200 (CEST) Received: from mails.dpdk.org (localhost [127.0.0.1]) by mails.dpdk.org (Postfix) with ESMTP id 368904026F; Fri, 10 Oct 2025 13:23:57 +0200 (CEST) Received: from mail-il1-f228.google.com (mail-il1-f228.google.com [209.85.166.228]) by mails.dpdk.org (Postfix) with ESMTP id 150194026F for ; Fri, 10 Oct 2025 13:23:56 +0200 (CEST) Received: by mail-il1-f228.google.com with SMTP id e9e14a558f8ab-42f8e93c54eso17859705ab.1 for ; Fri, 10 Oct 2025 04:23:56 -0700 (PDT) DKIM-Signature: v=1; a=rsa-sha256; c=relaxed/relaxed; d=iol.unh.edu; s=unh-iol; t=1760095435; x=1760700235; darn=dpdk.org; h=references:in-reply-to:cc:to:from:subject:message-id:date:from:to :cc:subject:date:message-id:reply-to; bh=QUZRPfNZlhclh0Dag0OrvqQID6lqwnSUNHSSZ4yQ+M4=; b=SXzCwoXVWVnqYL6wwdrCidZF8YEDnWw7aUk1jAaDUeB1p2jQMqNacgz0Tvs08kk0u4 D+UiGc+g0Kb82YKNh3YVcRUVE5Y+PbSB1osNB65oRNY0TCGkuR00jwU0pIMz6j4zfCm+ kJHfoMG5q7kPIcyPDRZ5PX1YOnY1q7h3XwDwk= X-Google-DKIM-Signature: v=1; a=rsa-sha256; c=relaxed/relaxed; d=1e100.net; s=20230601; t=1760095435; x=1760700235; h=references:in-reply-to:cc:to:from:subject:message-id:date :x-gm-message-state:from:to:cc:subject:date:message-id:reply-to; bh=QUZRPfNZlhclh0Dag0OrvqQID6lqwnSUNHSSZ4yQ+M4=; b=a5fRb1YUhdaSBuobwGyY3aZB2GRGcjKCkJX8Rcv2LpkhdstRYJ+Zg7O0VoqIqbcylf svZreiSJkF6DznAD0uieiX1bjsW1IWPjo+YXs5FUP/6SKs53mK3JcGtgRlvHXCm7FQMT 1/inbWl/Ex9SM3Tq/m7v+Jv1VsP9W+vTVE2WtXWAS0TUUQBeHNXLcslNzvCF7a0/OSSa EQJE+VZUSPzH0HSqdHQrvP4/xOe9fBQbqrPStiFt6L+8krtVR/wbZTj0eJiwNeslxAbp TB1cUrxwKsIo7OT01O1c0BTNfayzyHyJoBmrhKMSDjg70/9eW9GWQjpjGT7CVDtrx3HL GweA== X-Gm-Message-State: AOJu0YwOtUVix5ryl3D49ueCPL3wm+7Wlf2AOTofcl0HIsHOhmITmd1U 4L2qu1/Hj2sn3yXFem7k74A8lCF316aolM2BoGJ5acX4sP9J7FGnu1LlaOSl4+znlpD2eIMJnQo 0jcYesqM1AzJPVCj2WkVlh3/qF+6tRNQSWI8hlnLkiqccHFytwMa9oL7XTaBf X-Gm-Gg: ASbGnctuMT9Km7njQa8BYjxgLcvydTzb9VX5TMaqWDyR+TL+o0H7AoMUloEjtuoQkdi 92QoTxd7Qq1SbE1zIeoqDj4s9MQ516gLTCoi9qP2RtxiBrr9A2mlmc3is+ZPS0C6CYxwwbmWId8 N6i9NFnXJAxzu7TGUAJqcLFKUDLpvaSedWJogIRhrtqA4UA1EzNZbA0NA/Go0YMOFlpI/XoaBH0 Qm77aLRr5tdJBAzNxl4yP6Pw3fGxLI3CiB43YEqgfjXmyAyyuKSN+4WTKTYDVz6su20Kv/DLbig pSznIUx1G1T1Gedz3PnhUBidosWUMCh+M2Lmfw8OCRHEn7/TiA== X-Google-Smtp-Source: AGHT+IHiKBQ1pXi2SsiOkjbFMQJd66H4geC0L0fVH7T7jDKkDiWQdxreP9IqRC56trop2d3RGIERTWFmLIy1 X-Received: by 2002:a05:6602:1490:b0:8dd:d9c5:140d with SMTP id ca18e2360f4ac-93bd193c6b1mr1172805239f.12.1760095435245; Fri, 10 Oct 2025 04:23:55 -0700 (PDT) Received: from postal.iol.unh.edu (postal.iol.unh.edu. [2606:4100:3880:1234::84]) by smtp-relay.gmail.com with ESMTPS id 8926c6da1cb9f-58f726e7011sm191007173.48.2025.10.10.04.23.55 (version=TLS1_2 cipher=ECDHE-ECDSA-AES128-GCM-SHA256 bits=128/128); Fri, 10 Oct 2025 04:23:55 -0700 (PDT) X-Relaying-Domain: iol.unh.edu Date: Fri, 10 Oct 2025 04:23:55 -0700 (PDT) Message-ID: <68e8eccb.050a0220.1e6b53.a6f2SMTPIN_ADDED_MISSING@mx.google.com> Received: from [172.21.0.2] (unknown [172.18.0.240]) by postal.iol.unh.edu (Postfix) with ESMTP id CD25C6051830; Fri, 10 Oct 2025 07:23:54 -0400 (EDT) Subject: |SUCCESS| pw157450 [PATCH] [v3] vhost: fix a double fetch when deque From: dpdklab@iol.unh.edu To: Test Report Cc: dpdk-test-reports@iol.unh.edu, Chenbo Xia , Maxime Coquelin In-Reply-To: <1760085696-35028-1-git-send-email-wangyunjian@huawei.com> References: <1760085696-35028-1-git-send-email-wangyunjian@huawei.com> Content-Type: text/plain X-BeenThere: test-report@dpdk.org X-Mailman-Version: 2.1.29 Precedence: list List-Id: automatic DPDK test reports List-Unsubscribe: , List-Archive: List-Post: List-Help: List-Subscribe: , Errors-To: test-report-bounces@dpdk.org Test-Label: iol-unit-amd64-testing Test-Status: SUCCESS http://dpdk.org/patch/157450 _Testing PASS_ Submitter: Yunjian Wang Date: Friday, October 10 2025 08:41:36 DPDK git baseline: Repo:dpdk-next-virtio Branch: master CommitID:4159ea62922ce41566c7bab44655ad78bee85458 157450 --> testing pass Upstream job id: Generic-VM-Unit-Test-DPDK#31708 Test environment and result as below: +-------------------------------+----------------+ | Environment | dpdk_unit_test | +===============================+================+ | CentOS Stream 9 | PASS | +-------------------------------+----------------+ | Fedora Linux 40 | PASS | +-------------------------------+----------------+ | CentOS Stream 10 | PASS | +-------------------------------+----------------+ | Red Hat Enterprise Linux 8.10 | PASS | +-------------------------------+----------------+ | Fedora Linux 41 | PASS | +-------------------------------+----------------+ | Debian GNU/Linux 12 | PASS | +-------------------------------+----------------+ | Fedora Linux 42 | PASS | +-------------------------------+----------------+ | Red Hat Enterprise Linux 9.5 | PASS | +-------------------------------+----------------+ | Ubuntu 24.04 | PASS | +-------------------------------+----------------+ | Ubuntu 20.04 | PASS | +-------------------------------+----------------+ | Ubuntu 22.04 | PASS | +-------------------------------+----------------+ | Windows Server 2022 | PASS | +-------------------------------+----------------+ CentOS Stream 9 Kernel: 5.15 Compiler: gcc gcc (GCC) 11.5.0 20240719 (Red Hat 11.5.0-11) Fedora Linux 40 Kernel: 5.15 Compiler: gcc gcc (GCC) 14.2.1 20240912 (Red Hat 14.2.1-3) CentOS Stream 10 Kernel: 5.15 Compiler: gcc gcc (GCC) 14.2.1 20250110 (Red Hat 14.2.1-8) Red Hat Enterprise Linux 8.10 Kernel: 5.15 Compiler: gcc gcc (GCC) 8.5.0 20210514 (Red Hat 8.5.0-22) Fedora Linux 41 Kernel: 5.15 Compiler: clang gcc (GCC) 14.3.1 20250523 (Red Hat 14.3.1-1) Debian GNU/Linux 12 Kernel: 5.15 Compiler: gcc gcc (Debian 12.2.0-14+deb12u1) 12.2.0 Fedora Linux 42 Kernel: 5.15 Compiler: clang gcc (GCC) 15.2.1 20250808 (Red Hat 15.2.1-1) Red Hat Enterprise Linux 9.5 Kernel: 5.15 Compiler: gcc gcc (GCC) 11.5.0 20240719 (Red Hat 11.5.0-2) Ubuntu 24.04 Kernel: 5.15 Compiler: gcc gcc (Ubuntu 13.3.0-6ubuntu2~24.04) 13.3.0 Ubuntu 20.04 Kernel: 5.15 Compiler: gcc gcc (Ubuntu 9.4.0-1ubuntu1~20.04.2) 9.4.0 Ubuntu 22.04 Kernel: 5.15 Compiler: gcc gcc (Ubuntu 11.4.0-1ubuntu1~22.04) 11.4.0 Windows Server 2022 Kernel: 10.0.20348.2031 Compiler: clang 15.0.7, gcc 14.1.0 (MinGW), and MSVC VS 19.39.33521 To view detailed results, visit: https://lab.dpdk.org/results/dashboard/patchsets/34250/ UNH-IOL DPDK Community Lab To manage your email subscriptions, visit: https://lab.dpdk.org/results/dashboard/preferences/subscriptions/