From mboxrd@z Thu Jan 1 00:00:00 1970 Return-Path: Received: from mails.dpdk.org (mails.dpdk.org [217.70.189.124]) by inbox.dpdk.org (Postfix) with ESMTP id 6E259488FE for ; Fri, 10 Oct 2025 13:25:22 +0200 (CEST) Received: from mails.dpdk.org (localhost [127.0.0.1]) by mails.dpdk.org (Postfix) with ESMTP id 5FF034026F; Fri, 10 Oct 2025 13:25:22 +0200 (CEST) Received: from mail-il1-f226.google.com (mail-il1-f226.google.com [209.85.166.226]) by mails.dpdk.org (Postfix) with ESMTP id 82A644026F for ; Fri, 10 Oct 2025 13:25:21 +0200 (CEST) Received: by mail-il1-f226.google.com with SMTP id e9e14a558f8ab-42f6e0bdcf7so15777565ab.0 for ; Fri, 10 Oct 2025 04:25:21 -0700 (PDT) DKIM-Signature: v=1; a=rsa-sha256; c=relaxed/relaxed; d=iol.unh.edu; s=unh-iol; t=1760095521; x=1760700321; darn=dpdk.org; h=cc:to:from:subject:message-id:date:from:to:cc:subject:date :message-id:reply-to; bh=1JL4aN5YCaZkpIN7125SzpFrpPoUIDjrkCYRpcS7hkQ=; b=Ii6N+LEN4Vvyz2RgrIeWwUF91WgL3vEWV4s/wyms6a9p8X7aHENvmhHxqCYvnMxqQh JTORPlw65rb3y9imiNcCIOmTOtyPaUGMuoEFf+9MWDATLotINAuaVOsp/8FsRkZ5eVAT 9+GTqkYX1yTVufUufg87mQsXXkXfro9Fxb2jw= X-Google-DKIM-Signature: v=1; a=rsa-sha256; c=relaxed/relaxed; d=1e100.net; s=20230601; t=1760095521; x=1760700321; h=cc:to:from:subject:message-id:date:x-gm-message-state:from:to:cc :subject:date:message-id:reply-to; bh=1JL4aN5YCaZkpIN7125SzpFrpPoUIDjrkCYRpcS7hkQ=; b=nCFKLBIZsAoPkN4j6SxQUqVlbVvzHA9XzDi79vKKnSsrJmdbJd+SZJh+UbL8M8vzmA SB0hcJsGIa4b/MsfkpS7ZHKVf51ibE+wCAfqVHfX3co/Q/MiJClxbHE0dfnCclAmGYul uH9e51yGDCNk4isp2BuAjZ3HdMDpTJGAGzXfzzjzA0rnBnj5FaZhcx6YIGFNvDuqQFik XVIqQ8xePnyJgFOmZYi+eAXnHGWbB2tUShs9vARRaVIi2vDHvwp/L6cQsgUpZkyONpdV Ow0bW7UAOiVsBba5ja4BzvXMDGSH5dt9mHp9AJNv9UZsw1BK6cPRi4QVtL7FwGpu0PoU g9YA== X-Gm-Message-State: AOJu0Yx04OfC+v6yhHnrWDoZ03VnrL1pWXjVXEmawcvGW0Qta/WFPOjM V+Dn16bSnokexpmWPedvz50zzqhrIKE6wn+uIEORG29iPrRgohM1Rec/oEyN6sDt9rZEZAk237l 2bd3MaOdiZ6cCy9X4Wba4KcRM3KjphdgcYtRf9ZtJofnXRJBLrTXd X-Gm-Gg: ASbGnct+u0S5l0x/raX1vdQOeyPbjKrQplzpefdGiTyWL8ShgkaBV2LnTcnEjanpNKu TtkITNyrovyCGiiGs5IWU4HzmBvtE2ii6Qo5zQD2WwOm3fzy58rMk/jUBg2/zxHQ+YNUdTCLvuB n3k/eeKyokxsaX/fMjOErft8kt742ufCrpLBwfOjQNTZs65cux5CHxkoqZFcaRbTikPh7TInO71 cS9kmmHJmsMqLbLxIUFWxRHM5IdoN5+PqhzBN9AIAAGIyhSURE7DA5fxoWFEzcwTu55cGMwLHQP fv6o1GLVKklILTBMvTD1P7lWItLAmnSrRjBiz54tAhps65TcLg== X-Google-Smtp-Source: AGHT+IERQPQnTOuB+4boy1vEl6GLpBnZFpUR0yOTyisfO58OZUBrs7vXts2R4ISMN6DG0DtaIcXrIKrDJkbN X-Received: by 2002:a92:c241:0:b0:424:85b0:e1cb with SMTP id e9e14a558f8ab-42f8740330amr119519765ab.31.1760095520826; Fri, 10 Oct 2025 04:25:20 -0700 (PDT) Received: from postal.iol.unh.edu (postal.iol.unh.edu. [2606:4100:3880:1234::84]) by smtp-relay.gmail.com with ESMTPS id e9e14a558f8ab-42f90318eefsm3568705ab.23.2025.10.10.04.25.20 (version=TLS1_2 cipher=ECDHE-ECDSA-AES128-GCM-SHA256 bits=128/128); Fri, 10 Oct 2025 04:25:20 -0700 (PDT) X-Relaying-Domain: iol.unh.edu Date: Fri, 10 Oct 2025 04:25:20 -0700 (PDT) Message-ID: <68e8ed20.050a0220.d88ae.2abdSMTPIN_ADDED_MISSING@mx.google.com> Received: from [172.21.0.2] (unknown [172.18.0.240]) by postal.iol.unh.edu (Postfix) with ESMTP id 634476051830; Fri, 10 Oct 2025 07:25:20 -0400 (EDT) Subject: |SUCCESS| [GIT MASTER] b287e404643aeab5bb5db084c142789df187844e From: dpdklab@iol.unh.edu To: Test Report Cc: dpdk-test-reports@iol.unh.edu, Xueming Li , Christian Ehrhardt , Kevin Traynor , Luca Boccassi Content-Type: text/plain X-BeenThere: test-report@dpdk.org X-Mailman-Version: 2.1.29 Precedence: list List-Id: automatic DPDK test reports List-Unsubscribe: , List-Archive: List-Post: List-Help: List-Subscribe: , Errors-To: test-report-bounces@dpdk.org _Testing PASS_ Branch: tags/v24.11 b287e404643aeab5bb5db084c142789df187844e --> testing pass Upstream job id: Generic-DPDK-Compile-Meson#433065 Test environment and result as below: +------------------------------+--------------------+ | Environment | dpdk_meson_compile | +==============================+====================+ | Red Hat Enterprise Linux 9.5 | PASS | +------------------------------+--------------------+ | Ubuntu 20.04 | PASS | +------------------------------+--------------------+ | Debian GNU/Linux 12 | PASS | +------------------------------+--------------------+ | Fedora Linux 42 | PASS | +------------------------------+--------------------+ | Ubuntu 22.04 | PASS | +------------------------------+--------------------+ | Ubuntu 24.04 | PASS | +------------------------------+--------------------+ | CentOS Stream 9 | PASS | +------------------------------+--------------------+ | CentOS Stream 10 | PASS | +------------------------------+--------------------+ Red Hat Enterprise Linux 9.5 Kernel: 5.4 Compiler: gcc gcc (GCC) 11.5.0 20240719 (Red Hat 11.5.0-2) Ubuntu 20.04 Kernel: 5.15 Compiler: aarch64-linux-gnu-gcc gcc (Ubuntu 9.4.0-1ubuntu1~20.04.2) 9.4.0 Debian GNU/Linux 12 Kernel: 5.4 Compiler: gcc gcc (Debian 12.2.0-14+deb12u1) 12.2.0 Fedora Linux 42 Kernel: 5.4 Compiler: gcc gcc (GCC) 15.2.1 20250808 (Red Hat 15.2.1-1) Ubuntu 22.04 Kernel: 5.4 Compiler: gcc gcc (Ubuntu 11.4.0-1ubuntu1~22.04) 11.4.0 Ubuntu 24.04 Kernel: 5.4 Compiler: gcc gcc (Ubuntu 13.3.0-6ubuntu2~24.04) 13.3.0 CentOS Stream 9 Kernel: 5.4 Compiler: gcc gcc (GCC) 11.5.0 20240719 (Red Hat 11.5.0-11) CentOS Stream 10 Kernel: 5.4 Compiler: gcc gcc (GCC) 14.2.1 20250110 (Red Hat 14.2.1-8) To view detailed results, visit: https://lab.dpdk.org/results/dashboard/tarballs/35162/ UNH-IOL DPDK Community Lab To manage your email subscriptions, visit: https://lab.dpdk.org/results/dashboard/preferences/subscriptions/