From mboxrd@z Thu Jan 1 00:00:00 1970 Return-Path: Received: from mails.dpdk.org (mails.dpdk.org [217.70.189.124]) by inbox.dpdk.org (Postfix) with ESMTP id 7FD5F488FE for ; Fri, 10 Oct 2025 13:25:59 +0200 (CEST) Received: from mails.dpdk.org (localhost [127.0.0.1]) by mails.dpdk.org (Postfix) with ESMTP id 7A5094026F; Fri, 10 Oct 2025 13:25:59 +0200 (CEST) Received: from mail-pl1-f227.google.com (mail-pl1-f227.google.com [209.85.214.227]) by mails.dpdk.org (Postfix) with ESMTP id 7C5F04026F for ; Fri, 10 Oct 2025 13:25:58 +0200 (CEST) Received: by mail-pl1-f227.google.com with SMTP id d9443c01a7336-28a5b8b12a1so18699515ad.0 for ; Fri, 10 Oct 2025 04:25:58 -0700 (PDT) DKIM-Signature: v=1; a=rsa-sha256; c=relaxed/relaxed; d=iol.unh.edu; s=unh-iol; t=1760095557; x=1760700357; darn=dpdk.org; h=cc:to:from:subject:message-id:date:from:to:cc:subject:date :message-id:reply-to; bh=5CUCatzoUzqRhl9+7Y9hq92s8k2tTNTtgsJtMNf2nCY=; b=hSvfnaO49ez22xciYZ/sG2YK3Phi+9y6LxCsbRcNrSyzh1LuiIFW61rNjQu9WYDvc/ QVYKL9TJ7eMSHUKw67Yx8LMh+xLiSpv6IRVZdE+qsM0FX7v/gKt9whnzm4Hb2dx+Svph +veeX0XOI/kpT5NH3mS+s+rE+pg0LxHiP9u6U= X-Google-DKIM-Signature: v=1; a=rsa-sha256; c=relaxed/relaxed; d=1e100.net; s=20230601; t=1760095557; x=1760700357; h=cc:to:from:subject:message-id:date:x-gm-message-state:from:to:cc :subject:date:message-id:reply-to; bh=5CUCatzoUzqRhl9+7Y9hq92s8k2tTNTtgsJtMNf2nCY=; b=ltwkC3m0ciawXOmrJExt11Vkl7PTFEzgVCF9wHxPFy+xXNhES517IV0cqByfGr7eSL B6j9f7FuZ4kJe5Jy4Eld2FozEr/vCwpdd5bu4iLUwJr8l4/SjXjkvPJ8QmtFf7pMDRPS LJcJRO3+JgzGra/cgvPZ8ZGMAqFLiNTFB0Lerxj63Im06ZYRNmU84W8am+AhgrSS4xJ9 w18uYlsbLuNiqEcM1Rrwa8/rU1qV7MnydmEaeHJRI9V8SGtpJCnOVBq+ijryvsv6kj/c +rcxptRkA8PqhW/qBHiiU05ieVFVZUz2/uhGmVktHAL5jCh0G7/4HKpVRDpe4/SrDfpH 7vzQ== X-Gm-Message-State: AOJu0YyG7juPDfzX92dek2WIx908VobavWaYPCVBGOq5QdbgL+norBaB LoQKCcmzkeFpFG0+71huIMTS6qjMT/yujER/wHIEoPmJ1AyhNKYbxfIllkpR+qZF/NxNB1bJ3HR gJqkvtTPGHIDOXisNwUOMvOZK68JIIhYzdjntr0RMJAqfL35WciMEaxz3H+eO X-Gm-Gg: ASbGncvIDM/Rv9DmhGQ+oVHPnP2zuwqNWP3W2S2fBMwxaUmjJGRBnzaCqvlvGD7VwXh z3wPT/MnWL28PYVqQWvnLWk/2y1wzaRbHOj6QFtjZxsYWtDxYLgUsVKXzrhDAgr/qeq4LSjpdnK pUTe96xA2GDfVresYAmdrVn710NikkbqePEDuN1nTPOBpbd0yUQJegyv3yJMQ5T7lCc5QuCRLRc OYM2t2QfLja1ssF2u9QG6W06LeuZH5Mahh9f1GbxLofR9gU44FMj1ebbv1FWNgeoe0E39LMzFCG gzROOz+NMq3Hq0u/q1UhwgZru/VZmkjRI2LS4LQdadrJ3VdGYw== X-Google-Smtp-Source: AGHT+IHyIV1UwWCOgyJtXj54fta3a7nYP34mvhIhdoMSfzQS/qneVQHCot9g60sEtkATc8eG8u+xfBJwHGPK X-Received: by 2002:a17:902:ef09:b0:27d:6f37:7b66 with SMTP id d9443c01a7336-290273ffef7mr143383235ad.47.1760095557658; Fri, 10 Oct 2025 04:25:57 -0700 (PDT) Received: from postal.iol.unh.edu (postal.iol.unh.edu. [2606:4100:3880:1234::84]) by smtp-relay.gmail.com with ESMTPS id d9443c01a7336-29034e23631sm4622955ad.25.2025.10.10.04.25.57 (version=TLS1_2 cipher=ECDHE-ECDSA-AES128-GCM-SHA256 bits=128/128); Fri, 10 Oct 2025 04:25:57 -0700 (PDT) X-Relaying-Domain: iol.unh.edu Date: Fri, 10 Oct 2025 04:25:57 -0700 (PDT) Message-ID: <68e8ed45.170a0220.2438f8.7d47SMTPIN_ADDED_MISSING@mx.google.com> Received: from [172.21.0.2] (unknown [172.18.0.240]) by postal.iol.unh.edu (Postfix) with ESMTP id 8ED806051830; Fri, 10 Oct 2025 07:25:56 -0400 (EDT) Subject: |SUCCESS| [GIT MASTER] d0eb31b594b42fb1dd4e8f2afad3e2a5f1846c1a From: dpdklab@iol.unh.edu To: Test Report Cc: dpdk-test-reports@iol.unh.edu, Bruce Richardson Content-Type: text/plain X-BeenThere: test-report@dpdk.org X-Mailman-Version: 2.1.29 Precedence: list List-Id: automatic DPDK test reports List-Unsubscribe: , List-Archive: List-Post: List-Help: List-Subscribe: , Errors-To: test-report-bounces@dpdk.org _Testing PASS_ Branch: dpdk-next-net-intel d0eb31b594b42fb1dd4e8f2afad3e2a5f1846c1a --> testing pass Upstream job id: Generic-Unit-Test-DPDK#380226 Test environment and result as below: +-------------------------------+----------------+ | Environment | dpdk_unit_test | +===============================+================+ | Ubuntu 20.04 | PASS | +-------------------------------+----------------+ | Fedora Linux 42 | PASS | +-------------------------------+----------------+ | CentOS Stream 10 | PASS | +-------------------------------+----------------+ | Debian GNU/Linux 12 | PASS | +-------------------------------+----------------+ | Fedora Linux 40 | PASS | +-------------------------------+----------------+ | Red Hat Enterprise Linux 8.10 | PASS | +-------------------------------+----------------+ | Fedora Linux 41 | PASS | +-------------------------------+----------------+ | Red Hat Enterprise Linux 9.5 | PASS | +-------------------------------+----------------+ | Ubuntu 24.04 | PASS | +-------------------------------+----------------+ | CentOS Stream 9 | PASS | +-------------------------------+----------------+ | Ubuntu 22.04 | PASS | +-------------------------------+----------------+ Ubuntu 20.04 Kernel: 5.15 Compiler: gcc gcc (Ubuntu 9.4.0-1ubuntu1~20.04.2) 9.4.0 Fedora Linux 42 Kernel: 5.15 Compiler: clang gcc (GCC) 15.2.1 20250808 (Red Hat 15.2.1-1) CentOS Stream 10 Kernel: 5.15 Compiler: gcc gcc (GCC) 14.2.1 20250110 (Red Hat 14.2.1-8) Debian GNU/Linux 12 Kernel: 5.15 Compiler: gcc gcc (Debian 12.2.0-14+deb12u1) 12.2.0 Fedora Linux 40 Kernel: 5.15 Compiler: clang gcc (GCC) 14.2.1 20240912 (Red Hat 14.2.1-3) Red Hat Enterprise Linux 8.10 Kernel: 5.15 Compiler: gcc gcc (GCC) 8.5.0 20210514 (Red Hat 8.5.0-22) Fedora Linux 41 Kernel: 5.15 Compiler: gcc gcc (GCC) 14.3.1 20250523 (Red Hat 14.3.1-1) Red Hat Enterprise Linux 9.5 Kernel: 5.15 Compiler: gcc gcc (GCC) 11.5.0 20240719 (Red Hat 11.5.0-2) Ubuntu 24.04 Kernel: 5.15 Compiler: gcc gcc (Ubuntu 13.3.0-6ubuntu2~24.04) 13.3.0 CentOS Stream 9 Kernel: 5.15 Compiler: gcc gcc (GCC) 11.5.0 20240719 (Red Hat 11.5.0-11) Ubuntu 22.04 Kernel: 5.15 Compiler: gcc gcc (Ubuntu 11.4.0-1ubuntu1~22.04) 11.4.0 To view detailed results, visit: https://lab.dpdk.org/results/dashboard/tarballs/35167/ UNH-IOL DPDK Community Lab To manage your email subscriptions, visit: https://lab.dpdk.org/results/dashboard/preferences/subscriptions/