From mboxrd@z Thu Jan 1 00:00:00 1970 Return-Path: Received: from mails.dpdk.org (mails.dpdk.org [217.70.189.124]) by inbox.dpdk.org (Postfix) with ESMTP id CAA39488FE for ; Fri, 10 Oct 2025 13:51:48 +0200 (CEST) Received: from mails.dpdk.org (localhost [127.0.0.1]) by mails.dpdk.org (Postfix) with ESMTP id B204D4026F; Fri, 10 Oct 2025 13:51:48 +0200 (CEST) Received: from mail-pj1-f100.google.com (mail-pj1-f100.google.com [209.85.216.100]) by mails.dpdk.org (Postfix) with ESMTP id 963984026F for ; Fri, 10 Oct 2025 13:51:47 +0200 (CEST) Received: by mail-pj1-f100.google.com with SMTP id 98e67ed59e1d1-33226dc4fc9so1835357a91.1 for ; Fri, 10 Oct 2025 04:51:47 -0700 (PDT) DKIM-Signature: v=1; a=rsa-sha256; c=relaxed/relaxed; d=iol.unh.edu; s=unh-iol; t=1760097106; x=1760701906; darn=dpdk.org; h=references:in-reply-to:cc:to:from:subject:message-id:date:from:to :cc:subject:date:message-id:reply-to; bh=BrGd2vSDs8eu7YWfkxcQlDpG5PCT3jOV/tPBdrlCXaA=; b=NUq+aLylGFxQlIGu3c/MGRPO55OYayjmf/DC1bODkyKkRORw0XpOa+O1UfNVPS2AeH orG7FfAtY4JD56wFjKD8T2Rj1g8PCl/rPImPWEBCjDw8KOE2MayorSA0OAbz1wvJxQuy 62A7o4ykzykaopcK3obiL9odha8i+UnUDhzcI= X-Google-DKIM-Signature: v=1; a=rsa-sha256; c=relaxed/relaxed; d=1e100.net; s=20230601; t=1760097106; x=1760701906; h=references:in-reply-to:cc:to:from:subject:message-id:date :x-gm-message-state:from:to:cc:subject:date:message-id:reply-to; bh=BrGd2vSDs8eu7YWfkxcQlDpG5PCT3jOV/tPBdrlCXaA=; b=LIhtBbyP/E5gkw/p0WoktG0a91iuclU+nCE3sv1GjxkpyStjK0GFLp42DjKbzsorGb n22vHG+Ayh50imjNl667D4QSxtLj1l9PWcc0pxa6yIMC1f/TKuGRLyEGLlL3X8Hgt0Xu acGRoV9OkLT+qSzq2GTrDJUBLk1gPwS7bLGuOjw5ckmOXFq96xr8K9llemYianSz9ZAW L6sOIMO6t8SV+LW8E7wpVkEMrHEuQzJGpOfx62pbjac9nuagBBS9s6JrvQMpqGBXsmUT 9OwfX/Ij5p3abR4aKZeUxJQJO5MSam2BlDcE3gg3/9QtY0/1pR1GKppAPHJBriGWus5a vZzw== X-Gm-Message-State: AOJu0YyDPjDsN0yBOSNI2Q9h/rN/TvyuMVFrzFa53c7hegFh9nCPdH8E Woo1EkU2d2bIOz5bm4hCBJ8MxA+OJ9sH5YNl8XOmQiQUwksKC5kSnCoc/ZKKfXkYhM8tCrcd1I1 lXFVXeyi6pxxZ0A/0fhdsgqUZr/gWBB+63AAOV3B29M5+GxjU+MYqx/FEPwWj X-Gm-Gg: ASbGnctYRU64kkm1sbKuA9Z+OaFYCPOVt8CfaGKZzjEk/X/FFEWv/QNBE7E8AsSzCDx XGv8koVzucVlSS1WPItW04Fe4WnC3TOWC5yv52EH5MojOQ4aMHytGXpBw4DDPBd2wryufTGsHNn WhrQK8tlfWQpBDzHq0I0qQ77+oLzWewolaZxnaYnOsdf/MOsZ4vHPe5KwtaoeaBRn39Y1ptw6m5 eb2VPQeWYrG5JAWBiFv4b6+dwfjJNGpdg1jmRuF6OTJ0ASEKM76sXBn8WEzZdFBZmg5U0CocGjq nd+YYyUfFSplwm5Z7nR7dIRXe/ZlWZw1jpAgUeatQHUj5s3mag== X-Google-Smtp-Source: AGHT+IFxq2f2bkXEsjW2z2lQZj5LpyTQfRBZqhiOBAwNNRaHE1+U1m65L8B7Hek9sRYtjQTDMZA6jmh4ajlF X-Received: by 2002:a17:90b:17c2:b0:327:734a:ae7a with SMTP id 98e67ed59e1d1-33b5114ac35mr17050070a91.11.1760097106419; Fri, 10 Oct 2025 04:51:46 -0700 (PDT) Received: from postal.iol.unh.edu (postal.iol.unh.edu. [2606:4100:3880:1234::84]) by smtp-relay.gmail.com with ESMTPS id 41be03b00d2f7-b678ddcc5f9sm137119a12.5.2025.10.10.04.51.46 (version=TLS1_2 cipher=ECDHE-ECDSA-AES128-GCM-SHA256 bits=128/128); Fri, 10 Oct 2025 04:51:46 -0700 (PDT) X-Relaying-Domain: iol.unh.edu Date: Fri, 10 Oct 2025 04:51:46 -0700 (PDT) Message-ID: <68e8f352.630a0220.2b726a.7483SMTPIN_ADDED_MISSING@mx.google.com> Received: from [172.21.0.2] (unknown [172.18.0.240]) by postal.iol.unh.edu (Postfix) with ESMTP id 8607C6051830; Fri, 10 Oct 2025 07:51:45 -0400 (EDT) Subject: |SUCCESS| pw157450 [PATCH] [v3] vhost: fix a double fetch when deque From: dpdklab@iol.unh.edu To: Test Report Cc: dpdk-test-reports@iol.unh.edu, Chenbo Xia , Maxime Coquelin In-Reply-To: <1760085696-35028-1-git-send-email-wangyunjian@huawei.com> References: <1760085696-35028-1-git-send-email-wangyunjian@huawei.com> Content-Type: text/plain X-BeenThere: test-report@dpdk.org X-Mailman-Version: 2.1.29 Precedence: list List-Id: automatic DPDK test reports List-Unsubscribe: , List-Archive: List-Post: List-Help: List-Subscribe: , Errors-To: test-report-bounces@dpdk.org Test-Label: iol-unit-amd64-testing Test-Status: SUCCESS http://dpdk.org/patch/157450 _Testing PASS_ Submitter: Yunjian Wang Date: Friday, October 10 2025 08:41:36 DPDK git baseline: Repo:dpdk-next-virtio Branch: master CommitID:4159ea62922ce41566c7bab44655ad78bee85458 157450 --> testing pass Upstream job id: Generic-VM-Unit-Test-DPDK#31709 Test environment and result as below: +-------------------------------+----------------+ | Environment | dpdk_unit_test | +===============================+================+ | CentOS Stream 9 | PASS | +-------------------------------+----------------+ | Fedora Linux 40 | PASS | +-------------------------------+----------------+ | CentOS Stream 10 | PASS | +-------------------------------+----------------+ | Red Hat Enterprise Linux 8.10 | PASS | +-------------------------------+----------------+ | Fedora Linux 41 | PASS | +-------------------------------+----------------+ | Debian GNU/Linux 12 | PASS | +-------------------------------+----------------+ | Fedora Linux 42 | PASS | +-------------------------------+----------------+ | Red Hat Enterprise Linux 9.5 | PASS | +-------------------------------+----------------+ | Ubuntu 24.04 | PASS | +-------------------------------+----------------+ | Ubuntu 20.04 | PASS | +-------------------------------+----------------+ | Ubuntu 22.04 | PASS | +-------------------------------+----------------+ | Windows Server 2022 | PASS | +-------------------------------+----------------+ CentOS Stream 9 Kernel: 5.15 Compiler: gcc gcc (GCC) 11.5.0 20240719 (Red Hat 11.5.0-11) Fedora Linux 40 Kernel: 5.15 Compiler: gcc gcc (GCC) 14.2.1 20240912 (Red Hat 14.2.1-3) CentOS Stream 10 Kernel: 5.15 Compiler: gcc gcc (GCC) 14.2.1 20250110 (Red Hat 14.2.1-8) Red Hat Enterprise Linux 8.10 Kernel: 5.15 Compiler: gcc gcc (GCC) 8.5.0 20210514 (Red Hat 8.5.0-22) Fedora Linux 41 Kernel: 5.15 Compiler: clang gcc (GCC) 14.3.1 20250523 (Red Hat 14.3.1-1) Debian GNU/Linux 12 Kernel: 5.15 Compiler: gcc gcc (Debian 12.2.0-14+deb12u1) 12.2.0 Fedora Linux 42 Kernel: 5.15 Compiler: clang gcc (GCC) 15.2.1 20250808 (Red Hat 15.2.1-1) Red Hat Enterprise Linux 9.5 Kernel: 5.15 Compiler: gcc gcc (GCC) 11.5.0 20240719 (Red Hat 11.5.0-2) Ubuntu 24.04 Kernel: 5.15 Compiler: gcc gcc (Ubuntu 13.3.0-6ubuntu2~24.04) 13.3.0 Ubuntu 20.04 Kernel: 5.15 Compiler: gcc gcc (Ubuntu 9.4.0-1ubuntu1~20.04.2) 9.4.0 Ubuntu 22.04 Kernel: 5.15 Compiler: gcc gcc (Ubuntu 11.4.0-1ubuntu1~22.04) 11.4.0 Windows Server 2022 Kernel: 10.0.20348.2031 Compiler: clang 15.0.7, gcc 14.1.0 (MinGW), and MSVC VS 19.39.33521 To view detailed results, visit: https://lab.dpdk.org/results/dashboard/patchsets/34250/ UNH-IOL DPDK Community Lab To manage your email subscriptions, visit: https://lab.dpdk.org/results/dashboard/preferences/subscriptions/