From mboxrd@z Thu Jan 1 00:00:00 1970 Return-Path: Received: from mails.dpdk.org (mails.dpdk.org [217.70.189.124]) by inbox.dpdk.org (Postfix) with ESMTP id 5DA83488FE for ; Fri, 10 Oct 2025 13:57:24 +0200 (CEST) Received: from mails.dpdk.org (localhost [127.0.0.1]) by mails.dpdk.org (Postfix) with ESMTP id 34F5A4026F; Fri, 10 Oct 2025 13:57:24 +0200 (CEST) Received: from mail-pg1-f227.google.com (mail-pg1-f227.google.com [209.85.215.227]) by mails.dpdk.org (Postfix) with ESMTP id 2F1B14026F for ; Fri, 10 Oct 2025 13:57:23 +0200 (CEST) Received: by mail-pg1-f227.google.com with SMTP id 41be03b00d2f7-b555ab7fabaso1801492a12.0 for ; Fri, 10 Oct 2025 04:57:23 -0700 (PDT) DKIM-Signature: v=1; a=rsa-sha256; c=relaxed/relaxed; d=iol.unh.edu; s=unh-iol; t=1760097442; x=1760702242; darn=dpdk.org; h=cc:to:from:subject:message-id:date:from:to:cc:subject:date :message-id:reply-to; bh=jBVuZGY8EzgP3MnWvM+0lpYRqPiD8PMpoMpy5p7Oxm8=; b=PsCzoFsJeClctDxbgFYL8GAoG4CkbPQwjUB5yYBS1NH10T5WwU4KQJ8wwIyOLPVjo5 CPUOVlGGtuiBgUXcKnROsmpg8ILydFM5UMc+wvQj0Tqz0d1WN3N3uZfl61h/p9Rikucq dUS2iGs17T8zcNWKS3vEs24RCFQSBjvsC7TBc= X-Google-DKIM-Signature: v=1; a=rsa-sha256; c=relaxed/relaxed; d=1e100.net; s=20230601; t=1760097442; x=1760702242; h=cc:to:from:subject:message-id:date:x-gm-message-state:from:to:cc :subject:date:message-id:reply-to; bh=jBVuZGY8EzgP3MnWvM+0lpYRqPiD8PMpoMpy5p7Oxm8=; b=XOc5zqrRl5+zHQYAATkAKuUzHVvnGzsLOK35tfSbb9W1VOqZABgu0yZJtu1MaaGcrZ otQKt0ovoU/4pdHUJ+9BxOJ6pHH//kGinBwqml2FvurNXJ5gzFQwGXjxq8tpMbbawV0G RkyG5yA6vzu1wSx8fQI8N4QcxptP+l25PJzmtx8409QlMSbR2QsiqM/ADW4jyXz+N7f1 Ask2uxHJqBK1mclxc07B5Kyco/0l80gyns0yZD7eIIvq1JnGmaKmca/dMSzk5g5AC7BS ynu8ijzpI8aWgCLzHGU0q5k0bXRgp8xQUh+lBhwU69WJa8FAsZC2WgrVSWVVNItI4jpT NG6w== X-Gm-Message-State: AOJu0YwxTh8jFgu7DRX5iBipVVJ6OyZkCL3BYJ3uJv0/H7j8miV3OVWx P1CCTmS7Wd9oqeQjEPNTS5piYBmOJyVYocPJkpiSIBSx0y9iJESnTN+Z2kEB6Q/aquKtcbjF3W7 90laopqYtQDksJLQi7TRN/l6x3E6wO2kJep7KrmfS9NOE X-Gm-Gg: ASbGnculn43bCHG8FFzZwVakX6Nx5svyLY1JnwVaq9QlIQIQfBz791vaUPDudK/Cobo dXdUbEcnvbVEMqLFMZaqd2/vqomgkNG2gQcsaw028t4vVHMDB4u9awUM5RVxjPt5XIvs5PUSz61 U796PQHMjmyWkAXWi+hjO36AA29LsBvnWodj8wHXw/SmbuwXq3CmOnHbn5+qgyCNuI5uLBwY0M6 puPpjgVIiSDPJ9QcYVnZvwnTWtYkM+VOJNlP7dVejD4ta0hfdRDEDwp1g9ZnhP78M6MVFgeBLQB hQvHuvnl7vLrICEXbzutxuYxT/Iwxmxp/kcq+tAPqNOpjqnb6GE/4PUm34ntw5+RvkhSDv8u X-Google-Smtp-Source: AGHT+IHcWz/qYkY7EQQlm8EZxxCGpVMD0ST16zIFDBY4s04RWk1qF00KValuX8+w2b82XQDNzlzxtp3gkQ4A X-Received: by 2002:a17:902:fc46:b0:27e:ef12:6e94 with SMTP id d9443c01a7336-29027418f97mr139022555ad.55.1760097442212; Fri, 10 Oct 2025 04:57:22 -0700 (PDT) Received: from postal.iol.unh.edu (postal.iol.unh.edu. [132.177.123.84]) by smtp-relay.gmail.com with ESMTPS id d9443c01a7336-29034df7392sm4506865ad.6.2025.10.10.04.57.22 (version=TLS1_2 cipher=ECDHE-ECDSA-AES128-GCM-SHA256 bits=128/128); Fri, 10 Oct 2025 04:57:22 -0700 (PDT) X-Relaying-Domain: iol.unh.edu Date: Fri, 10 Oct 2025 04:57:22 -0700 (PDT) Message-ID: <68e8f4a2.170a0220.287ec8.76faSMTPIN_ADDED_MISSING@mx.google.com> Received: from [172.21.0.2] (unknown [172.18.0.240]) by postal.iol.unh.edu (Postfix) with ESMTP id 6D1186051830; Fri, 10 Oct 2025 07:57:21 -0400 (EDT) Subject: |SUCCESS| [GIT MASTER] d0eb31b594b42fb1dd4e8f2afad3e2a5f1846c1a From: dpdklab@iol.unh.edu To: Test Report Cc: dpdk-test-reports@iol.unh.edu, Bruce Richardson Content-Type: text/plain X-BeenThere: test-report@dpdk.org X-Mailman-Version: 2.1.29 Precedence: list List-Id: automatic DPDK test reports List-Unsubscribe: , List-Archive: List-Post: List-Help: List-Subscribe: , Errors-To: test-report-bounces@dpdk.org _Testing PASS_ Branch: dpdk-next-net-intel d0eb31b594b42fb1dd4e8f2afad3e2a5f1846c1a --> testing pass Upstream job id: Windows-Compile-DPDK-VS#7158 Test environment and result as below: +-------------------------------+--------------------+-------------------+------------------+-------------------+ | Environment | dpdk_meson_compile | dpdk_compile_spdk | dpdk_compile_ovs | dpdk_msvc_compile | +===============================+====================+===================+==================+===================+ | CentOS Stream 9 | PASS | PASS | SKIPPED | SKIPPED | +-------------------------------+--------------------+-------------------+------------------+-------------------+ | Red Hat Enterprise Linux 8.10 | PASS | SKIPPED | SKIPPED | SKIPPED | +-------------------------------+--------------------+-------------------+------------------+-------------------+ | CentOS Stream 10 | PASS | SKIPPED | SKIPPED | SKIPPED | +-------------------------------+--------------------+-------------------+------------------+-------------------+ | Fedora Linux 42 | PASS | PASS | PASS | SKIPPED | +-------------------------------+--------------------+-------------------+------------------+-------------------+ | Ubuntu 24.04 | PASS | PASS | PASS | SKIPPED | +-------------------------------+--------------------+-------------------+------------------+-------------------+ | Debian GNU/Linux 12 | PASS | PASS | SKIPPED | SKIPPED | +-------------------------------+--------------------+-------------------+------------------+-------------------+ | Red Hat Enterprise Linux 9.5 | PASS | SKIPPED | SKIPPED | SKIPPED | +-------------------------------+--------------------+-------------------+------------------+-------------------+ | Ubuntu 20.04 | PASS | SKIPPED | SKIPPED | SKIPPED | +-------------------------------+--------------------+-------------------+------------------+-------------------+ | openSUSE Leap 15.6 | PASS | SKIPPED | SKIPPED | SKIPPED | +-------------------------------+--------------------+-------------------+------------------+-------------------+ | FreeBSD 14.2 | PASS | SKIPPED | SKIPPED | SKIPPED | +-------------------------------+--------------------+-------------------+------------------+-------------------+ | Ubuntu 22.04 | PASS | PASS | SKIPPED | SKIPPED | +-------------------------------+--------------------+-------------------+------------------+-------------------+ | Alpine Linux 3.22.0 | PASS | SKIPPED | SKIPPED | SKIPPED | +-------------------------------+--------------------+-------------------+------------------+-------------------+ | Windows Server 2022 | SKIPPED | SKIPPED | SKIPPED | PASS | +-------------------------------+--------------------+-------------------+------------------+-------------------+ CentOS Stream 9 Kernel: 5.15 Compiler: gcc gcc (GCC) 11.5.0 20240719 (Red Hat 11.5.0-11) Red Hat Enterprise Linux 8.10 Kernel: 5.15 Compiler: gcc gcc (GCC) 8.5.0 20210514 (Red Hat 8.5.0-22) CentOS Stream 10 Kernel: 5.15 Compiler: gcc gcc (GCC) 14.2.1 20250110 (Red Hat 14.2.1-8) Fedora Linux 42 Kernel: 5.15 Compiler: gcc gcc (GCC) 15.2.1 20250808 (Red Hat 15.2.1-1) Ubuntu 24.04 Kernel: 5.15 Compiler: gcc gcc (Ubuntu 13.3.0-6ubuntu2~24.04) 13.3.0 Debian GNU/Linux 12 Kernel: 5.15 Compiler: gcc gcc (Debian 12.2.0-14+deb12u1) 12.2.0 Red Hat Enterprise Linux 9.5 Kernel: 5.15 Compiler: gcc gcc (GCC) 11.5.0 20240719 (Red Hat 11.5.0-2) Ubuntu 20.04 Kernel: 5.15 Compiler: gcc gcc (Ubuntu 9.4.0-1ubuntu1~20.04.2) 9.4.0 openSUSE Leap 15.6 Kernel: 5.15 Compiler: gcc gcc (SUSE Linux) 7.5.0 FreeBSD 14.2 Kernel: 14.2-RELEASE Compiler: clang 18.1.6 Ubuntu 22.04 Kernel: 5.15 Compiler: gcc gcc (Ubuntu 11.4.0-1ubuntu1~22.04) 11.4.0 Alpine Linux 3.22.0 Kernel: 5.15 Compiler: gcc gcc (Alpine 14.2.0) 14.2.0 Windows Server 2022 Kernel: 10.0.20348.2031 Compiler: clang 15.0.7, gcc 14.1.0 (MinGW), and MSVC VS 19.39.33521 To view detailed results, visit: https://lab.dpdk.org/results/dashboard/tarballs/35167/ UNH-IOL DPDK Community Lab To manage your email subscriptions, visit: https://lab.dpdk.org/results/dashboard/preferences/subscriptions/