From mboxrd@z Thu Jan 1 00:00:00 1970 Return-Path: Received: from mails.dpdk.org (mails.dpdk.org [217.70.189.124]) by inbox.dpdk.org (Postfix) with ESMTP id 57A1C488FE for ; Fri, 10 Oct 2025 13:58:17 +0200 (CEST) Received: from mails.dpdk.org (localhost [127.0.0.1]) by mails.dpdk.org (Postfix) with ESMTP id 524694026F; Fri, 10 Oct 2025 13:58:17 +0200 (CEST) Received: from mail-pf1-f226.google.com (mail-pf1-f226.google.com [209.85.210.226]) by mails.dpdk.org (Postfix) with ESMTP id 4B5044026F for ; Fri, 10 Oct 2025 13:58:16 +0200 (CEST) Received: by mail-pf1-f226.google.com with SMTP id d2e1a72fcca58-782a77b5ec7so1823327b3a.1 for ; Fri, 10 Oct 2025 04:58:16 -0700 (PDT) DKIM-Signature: v=1; a=rsa-sha256; c=relaxed/relaxed; d=iol.unh.edu; s=unh-iol; t=1760097495; x=1760702295; darn=dpdk.org; h=references:in-reply-to:cc:to:from:subject:message-id:date:from:to :cc:subject:date:message-id:reply-to; bh=qJ1BJfeInvvk4TA6SPlr3oK/jx/O4RJfETXmRkqVMsQ=; b=FmWE+87MjDBNBFBHcJ+NiMuT4cX0rrv2Nm0jjDp+u+RYw/oSDmznp4w146cZGhsmWU tJnNCIzKEJDf9GWs6PT+khdTZuODM0lqQF+iW+oT0pI6r8YAdQ7DpUaph9u0dFwQgICX oQj9H1NDYIlhQoj1hsLlBLRu7bcOlqyRGdkE0= X-Google-DKIM-Signature: v=1; a=rsa-sha256; c=relaxed/relaxed; d=1e100.net; s=20230601; t=1760097495; x=1760702295; h=references:in-reply-to:cc:to:from:subject:message-id:date :x-gm-message-state:from:to:cc:subject:date:message-id:reply-to; bh=qJ1BJfeInvvk4TA6SPlr3oK/jx/O4RJfETXmRkqVMsQ=; b=vte1YDS6fnkTBsL1jL02JhDXnLosd6s1x4K1gwEJTumz2xaYQCl6Si9y1jgswF8101 izonLDr3vBd8u8IKZU9mv17IEBYFb0SiiSQ1VJiRU7xkxd3bBmfl5zs3J7VH3uqYYpzK OeF4VpUKfeQee8TFXBuytKhdeVvkK3MrO16yRYkxPsXGEmiOfCFYZY/38yWCCYpFPiSD bxY2o7F0XZzH+HqJbyIMiFztt2goQVeFChxl5velkx5276Or7hnhMrXibFUvTkX38rOi gM4uNRVzDnNgWioMvST4GhYQbKNyAzbtoybPGvKD/x/hI2quoBI63yLKNgK0zxfthFGY Unqg== X-Gm-Message-State: AOJu0YyE/23yNoWwr48adHhGWJ5jO+eQ0MpmTkCqzgE61Y7unpIOX9Kh VjgqNUEpIqd0YysPka8HvsNQkRnJO/j43TV5sX6UeAQ4inkBH3LvvOMu9VafgRae8YFyjglB5mN 9aD7V+GZBtx4pBsjRoMoYbtF1imQXWHJicEkP4ghV9jhbf+We6iPFuYIlsQ6o X-Gm-Gg: ASbGncuCun/CmtcWB3ziOxuKalTzr1+uD9IQue0DXkXGi8QvCfMAfkfJAMMYg5FFdHq sOOWeSoqq4zGhKNNzG6qie5/7etG4vf8cYFv6PDnlVAF5Y8wj4E6G7zM4tF06Sqg2gJZLoZI/yS llHyuPu2z6TAOeqwjxbR8Mtiw528fo5J8J/+Wbl+Y5GnybBdA0HIJ9t1Tju74HMOicX1r97rkbS pEonQewqhiu4/C/eKBZ5PiTL2xLAbR8uXlfP3yGVkZ5Dqxh50r9MJPrLcboAN3RzhS8kzATljn4 o6ZGoGSlvWJN0oGiUaw7yoiTV+cBav7Vmy0rH4MiFUplJlBPkg== X-Google-Smtp-Source: AGHT+IFImjqo/GOhsjxzpHTc+Wpze0hZ7WicDdmjXGhRUH7RsJHvvqYAjT1myP/fljuF+BG5AQI/Lj2YitJV X-Received: by 2002:a05:6a20:3d05:b0:2fc:3b64:4473 with SMTP id adf61e73a8af0-32da836080dmr15305521637.24.1760097495415; Fri, 10 Oct 2025 04:58:15 -0700 (PDT) Received: from postal.iol.unh.edu (postal.iol.unh.edu. [2606:4100:3880:1234::84]) by smtp-relay.gmail.com with ESMTPS id 41be03b00d2f7-b678ddcc5basm134872a12.6.2025.10.10.04.58.15 (version=TLS1_2 cipher=ECDHE-ECDSA-AES128-GCM-SHA256 bits=128/128); Fri, 10 Oct 2025 04:58:15 -0700 (PDT) X-Relaying-Domain: iol.unh.edu Date: Fri, 10 Oct 2025 04:58:15 -0700 (PDT) Message-ID: <68e8f4d7.630a0220.1e9990.733eSMTPIN_ADDED_MISSING@mx.google.com> Received: from [172.21.0.2] (unknown [172.18.0.240]) by postal.iol.unh.edu (Postfix) with ESMTP id AAE896051830; Fri, 10 Oct 2025 07:58:14 -0400 (EDT) Subject: |SUCCESS| pw157448 [PATCH] lib/net: Add ICMP support to rte_net_get_ From: dpdklab@iol.unh.edu To: Test Report Cc: dpdk-test-reports@iol.unh.edu In-Reply-To: <20251009152740.10437-1-eimear.morrissey@huawei.com> References: <20251009152740.10437-1-eimear.morrissey@huawei.com> Content-Type: text/plain X-BeenThere: test-report@dpdk.org X-Mailman-Version: 2.1.29 Precedence: list List-Id: automatic DPDK test reports List-Unsubscribe: , List-Archive: List-Post: List-Help: List-Subscribe: , Errors-To: test-report-bounces@dpdk.org Test-Label: iol-compile-amd64-testing Test-Status: SUCCESS http://dpdk.org/patch/157448 _Testing PASS_ Submitter: Eimear Morrissey Date: Thursday, October 09 2025 15:27:40 DPDK git baseline: Repo:dpdk Branch: master CommitID:2b403dd8fb37d0ba13723e44ffc7ee2c2795f838 157448 --> testing pass Upstream job id: Windows-Compile-DPDK-Native#31536 Test environment and result as below: +-------------------------------+--------------------+-------------------+------------------+-------------------+-------------------------+----------------------+ | Environment | dpdk_meson_compile | dpdk_compile_spdk | dpdk_compile_ovs | dpdk_msvc_compile | dpdk_llvm_clang_compile | dpdk_mingw64_compile | +===============================+====================+===================+==================+===================+=========================+======================+ | Ubuntu 20.04 | PASS | SKIPPED | SKIPPED | SKIPPED | SKIPPED | SKIPPED | +-------------------------------+--------------------+-------------------+------------------+-------------------+-------------------------+----------------------+ | FreeBSD 14.2 | PASS | SKIPPED | SKIPPED | SKIPPED | SKIPPED | SKIPPED | +-------------------------------+--------------------+-------------------+------------------+-------------------+-------------------------+----------------------+ | CentOS Stream 9 | PASS | PASS | SKIPPED | SKIPPED | SKIPPED | SKIPPED | +-------------------------------+--------------------+-------------------+------------------+-------------------+-------------------------+----------------------+ | CentOS Stream 10 | PASS | SKIPPED | SKIPPED | SKIPPED | SKIPPED | SKIPPED | +-------------------------------+--------------------+-------------------+------------------+-------------------+-------------------------+----------------------+ | Debian GNU/Linux 12 | PASS | PASS | SKIPPED | SKIPPED | SKIPPED | SKIPPED | +-------------------------------+--------------------+-------------------+------------------+-------------------+-------------------------+----------------------+ | Fedora Linux 42 | PASS | PASS | PASS | SKIPPED | SKIPPED | SKIPPED | +-------------------------------+--------------------+-------------------+------------------+-------------------+-------------------------+----------------------+ | openSUSE Leap 15.6 | PASS | SKIPPED | SKIPPED | SKIPPED | SKIPPED | SKIPPED | +-------------------------------+--------------------+-------------------+------------------+-------------------+-------------------------+----------------------+ | Red Hat Enterprise Linux 8.10 | PASS | SKIPPED | SKIPPED | SKIPPED | SKIPPED | SKIPPED | +-------------------------------+--------------------+-------------------+------------------+-------------------+-------------------------+----------------------+ | Red Hat Enterprise Linux 9.5 | PASS | SKIPPED | SKIPPED | SKIPPED | SKIPPED | SKIPPED | +-------------------------------+--------------------+-------------------+------------------+-------------------+-------------------------+----------------------+ | Ubuntu 22.04 | PASS | PASS | SKIPPED | SKIPPED | SKIPPED | SKIPPED | +-------------------------------+--------------------+-------------------+------------------+-------------------+-------------------------+----------------------+ | Ubuntu 24.04 | PASS | PASS | PASS | SKIPPED | SKIPPED | SKIPPED | +-------------------------------+--------------------+-------------------+------------------+-------------------+-------------------------+----------------------+ | Alpine Linux 3.22.0 | PASS | SKIPPED | SKIPPED | SKIPPED | SKIPPED | SKIPPED | +-------------------------------+--------------------+-------------------+------------------+-------------------+-------------------------+----------------------+ | Windows Server 2022 | SKIPPED | SKIPPED | SKIPPED | PASS | PASS | PASS | +-------------------------------+--------------------+-------------------+------------------+-------------------+-------------------------+----------------------+ Ubuntu 20.04 Kernel: 4.19 Compiler: gcc gcc (Ubuntu 9.4.0-1ubuntu1~20.04.2) 9.4.0 FreeBSD 14.2 Kernel: 14.2-RELEASE Compiler: clang 18.1.6 CentOS Stream 9 Kernel: 5.15 Compiler: gcc gcc (GCC) 11.5.0 20240719 (Red Hat 11.5.0-11) CentOS Stream 10 Kernel: 5.15 Compiler: gcc gcc (GCC) 14.2.1 20250110 (Red Hat 14.2.1-8) Debian GNU/Linux 12 Kernel: 5.15 Compiler: gcc gcc (Debian 12.2.0-14+deb12u1) 12.2.0 Fedora Linux 42 Kernel: 5.15 Compiler: clang gcc (GCC) 15.2.1 20250808 (Red Hat 15.2.1-1) openSUSE Leap 15.6 Kernel: 5.15 Compiler: gcc gcc (SUSE Linux) 7.5.0 Red Hat Enterprise Linux 8.10 Kernel: 5.15 Compiler: gcc gcc (GCC) 8.5.0 20210514 (Red Hat 8.5.0-22) Red Hat Enterprise Linux 9.5 Kernel: 5.15 Compiler: gcc gcc (GCC) 11.5.0 20240719 (Red Hat 11.5.0-2) Ubuntu 22.04 Kernel: 5.15 Compiler: gcc gcc (Ubuntu 11.4.0-1ubuntu1~22.04) 11.4.0 Ubuntu 24.04 Kernel: 5.15 Compiler: gcc gcc (Ubuntu 13.3.0-6ubuntu2~24.04) 13.3.0 Alpine Linux 3.22.0 Kernel: 5.15 Compiler: gcc gcc (Alpine 14.2.0) 14.2.0 Windows Server 2022 Kernel: 10.0.20348.2031 Compiler: clang 15.0.7, gcc 14.1.0 (MinGW), and MSVC VS 19.39.33521 To view detailed results, visit: https://lab.dpdk.org/results/dashboard/patchsets/34248/ UNH-IOL DPDK Community Lab To manage your email subscriptions, visit: https://lab.dpdk.org/results/dashboard/preferences/subscriptions/