From mboxrd@z Thu Jan 1 00:00:00 1970 Return-Path: Received: from mails.dpdk.org (mails.dpdk.org [217.70.189.124]) by inbox.dpdk.org (Postfix) with ESMTP id 21E7D488FF for ; Fri, 10 Oct 2025 14:06:06 +0200 (CEST) Received: from mails.dpdk.org (localhost [127.0.0.1]) by mails.dpdk.org (Postfix) with ESMTP id ECDB64026F; Fri, 10 Oct 2025 14:06:05 +0200 (CEST) Received: from mail-pf1-f226.google.com (mail-pf1-f226.google.com [209.85.210.226]) by mails.dpdk.org (Postfix) with ESMTP id 804FF4026F for ; Fri, 10 Oct 2025 14:06:04 +0200 (CEST) Received: by mail-pf1-f226.google.com with SMTP id d2e1a72fcca58-781206cce18so2127733b3a.0 for ; Fri, 10 Oct 2025 05:06:04 -0700 (PDT) DKIM-Signature: v=1; a=rsa-sha256; c=relaxed/relaxed; d=iol.unh.edu; s=unh-iol; t=1760097963; x=1760702763; darn=dpdk.org; h=cc:to:from:subject:message-id:date:from:to:cc:subject:date :message-id:reply-to; bh=veamo918xu9e3pSgzAINlsoJ7PcK7BfxX80xSxtGTKE=; b=CpECmPIwof+QvVdbox0W/SwhBUcyBHQJ5eBNXkoSXKdsyXGD4/NEGoTyRMXWwYOmvY wK7kR7j9K38FIl6cd62S7nTZGDjhVBpyezO2DdOemGCcE9N6cqfF56Fkx+BkOHKmvdcR FfxU1gdZq3vBxKThC7aNOM9q+WP4oXisVp5PQ= X-Google-DKIM-Signature: v=1; a=rsa-sha256; c=relaxed/relaxed; d=1e100.net; s=20230601; t=1760097963; x=1760702763; h=cc:to:from:subject:message-id:date:x-gm-message-state:from:to:cc :subject:date:message-id:reply-to; bh=veamo918xu9e3pSgzAINlsoJ7PcK7BfxX80xSxtGTKE=; b=TvW37l4L5CGeBCDHjKM3aC7kl3++sh5gpetdiuGkN/DT9f7GLxbeLmgkVG+/ourH6T AcCJPu2XuS8lRX23pI3iOPZJCa6U9Do4x45gGXooUeE7wP7TCa/t0ePkRpzX3TeMYGhv lNAUiBp9jKYkDJkImI35cthiilNTzn9++SBAZzp2Ejjfv8/8BE8m5ceyYuGxB88FTLj1 KjOrEwcBPtGACbRcLI8fh1ZdJNIs6LK8DFa4F7Xn97HaeHw80MWyFH+kTNoulvfIs9TK fgRTxUoOk/rU6eSELDqM9YzZRfTGpCuzxDjRxOwb5+iiw/EsDN0OinaDLvfE0WySNSpt FIEA== X-Gm-Message-State: AOJu0YzPCHwjtTCNbM7QmHSzi+nFtSUXaW2cAvmOCvrzaqKZWXDQH72W IySZRmOfjTiO05FHBMB+woSTgVjQhfkbJO9MN98vPvZvrIvBC88a+PSsmXgMxB5lXU4NHGBYMEz GJ6eVPSnfcE3vtRPEfBm/Jo683DC6ZWiiYI4Ughangr2vM9gyKyc+5aqSvtB4 X-Gm-Gg: ASbGncvTQmXID88tiRGC4NPH8kIfXe4mmFNyayHgQ7codJxX28NwlTvLjwB8fTbfUNS oQfBF3LoKo2EgXUUkAiW5fm8IqQtoKXG1JKnfQt1fe+OMs5+/SKYahgmVTmbAnOUsV4cY4Jk5nX NmmAJpcFEFmXq40bbpBl+gTkmwdaS1ZyHqqGHpy/fMQiW7/7kmuwYMtmdLd30o7HBrrUyam5bB6 gYC2tk5O5joux/7RJ6JWQ2LaCGLPaEs+4JyxNzHoB7dQrxyOMJjIxeq2v/pA/x3okLMmOaDlj9e hV86AbHL1Yv2Bi9bnzQupntFLQOTv1i1oh4rVWG2+ou6J5Sa0g== X-Google-Smtp-Source: AGHT+IEfTQ25RJLtODhBHaI6SMzdypQBvFdrCSgK2itBNN8HFEwMTOHRB5RwzieG0Ru1/5VujJvZyhH5jQYP X-Received: by 2002:a62:fb1a:0:b0:78a:f579:15bb with SMTP id d2e1a72fcca58-7922fab21edmr13883118b3a.3.1760097963434; Fri, 10 Oct 2025 05:06:03 -0700 (PDT) Received: from postal.iol.unh.edu (postal.iol.unh.edu. [2606:4100:3880:1234::84]) by smtp-relay.gmail.com with ESMTPS id d2e1a72fcca58-799337eed2esm211160b3a.11.2025.10.10.05.06.03 (version=TLS1_2 cipher=ECDHE-ECDSA-AES128-GCM-SHA256 bits=128/128); Fri, 10 Oct 2025 05:06:03 -0700 (PDT) X-Relaying-Domain: iol.unh.edu Date: Fri, 10 Oct 2025 05:06:03 -0700 (PDT) Message-ID: <68e8f6ab.050a0220.21a3f4.b082SMTPIN_ADDED_MISSING@mx.google.com> Received: from [172.21.0.2] (unknown [172.18.0.240]) by postal.iol.unh.edu (Postfix) with ESMTP id 340126051830; Fri, 10 Oct 2025 08:06:02 -0400 (EDT) Subject: |SUCCESS| [GIT MASTER] d0eb31b594b42fb1dd4e8f2afad3e2a5f1846c1a From: dpdklab@iol.unh.edu To: Test Report Cc: dpdk-test-reports@iol.unh.edu, Bruce Richardson Content-Type: text/plain X-BeenThere: test-report@dpdk.org X-Mailman-Version: 2.1.29 Precedence: list List-Id: automatic DPDK test reports List-Unsubscribe: , List-Archive: List-Post: List-Help: List-Subscribe: , Errors-To: test-report-bounces@dpdk.org _Testing PASS_ Branch: dpdk-next-net-intel d0eb31b594b42fb1dd4e8f2afad3e2a5f1846c1a --> testing pass Upstream job id: Generic-VM-Unit-Test-DPDK#31710 Test environment and result as below: +-------------------------------+----------------+ | Environment | dpdk_unit_test | +===============================+================+ | Ubuntu 20.04 | PASS | +-------------------------------+----------------+ | Fedora Linux 42 | PASS | +-------------------------------+----------------+ | CentOS Stream 10 | PASS | +-------------------------------+----------------+ | Debian GNU/Linux 12 | PASS | +-------------------------------+----------------+ | Fedora Linux 40 | PASS | +-------------------------------+----------------+ | Red Hat Enterprise Linux 8.10 | PASS | +-------------------------------+----------------+ | Fedora Linux 41 | PASS | +-------------------------------+----------------+ | Red Hat Enterprise Linux 9.5 | PASS | +-------------------------------+----------------+ | Ubuntu 24.04 | PASS | +-------------------------------+----------------+ | CentOS Stream 9 | PASS | +-------------------------------+----------------+ | Ubuntu 22.04 | PASS | +-------------------------------+----------------+ | Windows Server 2022 | PASS | +-------------------------------+----------------+ Ubuntu 20.04 Kernel: 5.15 Compiler: gcc gcc (Ubuntu 9.4.0-1ubuntu1~20.04.2) 9.4.0 Fedora Linux 42 Kernel: 5.15 Compiler: clang gcc (GCC) 15.2.1 20250808 (Red Hat 15.2.1-1) CentOS Stream 10 Kernel: 5.15 Compiler: gcc gcc (GCC) 14.2.1 20250110 (Red Hat 14.2.1-8) Debian GNU/Linux 12 Kernel: 5.15 Compiler: gcc gcc (Debian 12.2.0-14+deb12u1) 12.2.0 Fedora Linux 40 Kernel: 5.15 Compiler: clang gcc (GCC) 14.2.1 20240912 (Red Hat 14.2.1-3) Red Hat Enterprise Linux 8.10 Kernel: 5.15 Compiler: gcc gcc (GCC) 8.5.0 20210514 (Red Hat 8.5.0-22) Fedora Linux 41 Kernel: 5.15 Compiler: gcc gcc (GCC) 14.3.1 20250523 (Red Hat 14.3.1-1) Red Hat Enterprise Linux 9.5 Kernel: 5.15 Compiler: gcc gcc (GCC) 11.5.0 20240719 (Red Hat 11.5.0-2) Ubuntu 24.04 Kernel: 5.15 Compiler: gcc gcc (Ubuntu 13.3.0-6ubuntu2~24.04) 13.3.0 CentOS Stream 9 Kernel: 5.15 Compiler: gcc gcc (GCC) 11.5.0 20240719 (Red Hat 11.5.0-11) Ubuntu 22.04 Kernel: 5.15 Compiler: gcc gcc (Ubuntu 11.4.0-1ubuntu1~22.04) 11.4.0 Windows Server 2022 Kernel: 10.0.20348.2031 Compiler: clang 15.0.7, gcc 14.1.0 (MinGW), and MSVC VS 19.39.33521 To view detailed results, visit: https://lab.dpdk.org/results/dashboard/tarballs/35167/ UNH-IOL DPDK Community Lab To manage your email subscriptions, visit: https://lab.dpdk.org/results/dashboard/preferences/subscriptions/