From mboxrd@z Thu Jan 1 00:00:00 1970 Return-Path: Received: from mails.dpdk.org (mails.dpdk.org [217.70.189.124]) by inbox.dpdk.org (Postfix) with ESMTP id A1B76488FF for ; Fri, 10 Oct 2025 14:11:05 +0200 (CEST) Received: from mails.dpdk.org (localhost [127.0.0.1]) by mails.dpdk.org (Postfix) with ESMTP id 68F194026F; Fri, 10 Oct 2025 14:11:05 +0200 (CEST) Received: from mail-qt1-f227.google.com (mail-qt1-f227.google.com [209.85.160.227]) by mails.dpdk.org (Postfix) with ESMTP id 38B3F4026F for ; Fri, 10 Oct 2025 14:11:04 +0200 (CEST) Received: by mail-qt1-f227.google.com with SMTP id d75a77b69052e-4d9bcc2368eso19775851cf.2 for ; Fri, 10 Oct 2025 05:11:04 -0700 (PDT) DKIM-Signature: v=1; a=rsa-sha256; c=relaxed/relaxed; d=iol.unh.edu; s=unh-iol; t=1760098263; x=1760703063; darn=dpdk.org; h=references:in-reply-to:cc:to:from:subject:message-id:date:from:to :cc:subject:date:message-id:reply-to; bh=tI431lr3mQVPmbyxRVeJRywCqO8kLO77WLtSLQSqQ74=; b=fhv8KEUCR31oU+iE1oR4Hlmfsxp26xFB8y58ruoUQUraKJruv2OfGXPhi/rdaGVwKW buUqKztAnMZCPKdSgNA85Om2vHlJJfdrSf4l8QjGj9fQ4K3myC+FXXjAr7KKq2XMQBZY nZRTj0+3puiMe14dE5OPIEMkWBrLUVwozPf0Q= X-Google-DKIM-Signature: v=1; a=rsa-sha256; c=relaxed/relaxed; d=1e100.net; s=20230601; t=1760098263; x=1760703063; h=references:in-reply-to:cc:to:from:subject:message-id:date :x-gm-message-state:from:to:cc:subject:date:message-id:reply-to; bh=tI431lr3mQVPmbyxRVeJRywCqO8kLO77WLtSLQSqQ74=; b=pyaso/y8U4DgvnPSPOXXJ2+INTZmDqDiYBKwae01BECtRsxD+/FXeaD5YHv0E/jXIA N93ZamMvKwZgJY2TXObIXGI30xHLN0tyS9MKWQEVXv6835BT/egVkZ8a2NFLmTk6So/1 +HlCFiysQr96qhjLHULhHf3MtUJ4fa0r1s/bjokYni3wzmEb602Hzue/vSXQDTFWC6B7 gN/1lWvutFXA5cxc35pgcLAV28aoBCJK0Ti+pvgsrOc7VB1uvCJUV0bPm1Q2RmFZ8NXX haQPTMn4zTftzlHNS4IZOFWNW8e/35LGtIQe/ZglLEwsVEjvClxYYe19NSTdaKA2sezY OZEA== X-Gm-Message-State: AOJu0YwOHaEPYUVi8KddqYokWWB2WWTUibJ34v43Nomi47cjhUbJ1wIn 7ernjfU99/INBMunDOczof5oykx+yNeHAdRNCRcjqch0TDFLDXlsUSP94STaVmI8ouZAhihpIhS R4hacQRopq8QyX30UTzBif4hRzyxTlj8da4aJ/kLfhClLaDWYaUEMGtWpzXGX X-Gm-Gg: ASbGncv8fqYXqWMm9kVy+384Y6rcN9kaGzsh4PlZVHcrXomLF/HPxHRfZmuid2iM49/ bkXkEoRWO6Miy/zTBOarhKrneSfEKsej/ZjMrbw8/2Wntct7v/6CB3dhVAqvP4TUROtp9UByqYg cJR61zg6LwqjgsQ9CNPqx4vEQVYo2rvqWWAuMq2MPqdpSUrQM1RmZWCVzL1NyQmVaRw53sFSZUm LXL+OCVX7mmxIjQ0d7PDlvEPAjKJMy84E58ZpPV8p1n+7HCYTGZj0KVf2IxdUSRXweEhoKu4XJG a4DWctLpdsvuMrgdfqrROSscNf8KvVjiTOVBRNZqPXkwk/yOkA== X-Google-Smtp-Source: AGHT+IHlrEQHWP/DlQTN96TjkhIBBwDMrpW+CMlTo9qOR5qtZzEBJMa/ksCrFHKWUJPYsTE6xFwl4mxIjowN X-Received: by 2002:a05:622a:1815:b0:4e0:3cdb:d1dc with SMTP id d75a77b69052e-4e6ead4416dmr148671541cf.43.1760098263463; Fri, 10 Oct 2025 05:11:03 -0700 (PDT) Received: from postal.iol.unh.edu (postal.iol.unh.edu. [2606:4100:3880:1234::84]) by smtp-relay.gmail.com with ESMTPS id 6a1803df08f44-87bc356a720sm1569966d6.34.2025.10.10.05.11.03 (version=TLS1_2 cipher=ECDHE-ECDSA-AES128-GCM-SHA256 bits=128/128); Fri, 10 Oct 2025 05:11:03 -0700 (PDT) X-Relaying-Domain: iol.unh.edu Date: Fri, 10 Oct 2025 05:11:03 -0700 (PDT) Message-ID: <68e8f7d7.d40a0220.336b04.8727SMTPIN_ADDED_MISSING@mx.google.com> Received: from [172.21.0.2] (unknown [172.18.0.240]) by postal.iol.unh.edu (Postfix) with ESMTP id 237E060003F7; Fri, 10 Oct 2025 08:11:03 -0400 (EDT) Subject: |SUCCESS| pw157450 [PATCH] [v3] vhost: fix a double fetch when deque From: dpdklab@iol.unh.edu To: Test Report Cc: dpdk-test-reports@iol.unh.edu, Chenbo Xia , Maxime Coquelin In-Reply-To: <1760085696-35028-1-git-send-email-wangyunjian@huawei.com> References: <1760085696-35028-1-git-send-email-wangyunjian@huawei.com> Content-Type: text/plain X-BeenThere: test-report@dpdk.org X-Mailman-Version: 2.1.29 Precedence: list List-Id: automatic DPDK test reports List-Unsubscribe: , List-Archive: List-Post: List-Help: List-Subscribe: , Errors-To: test-report-bounces@dpdk.org Test-Label: iol-compile-amd64-testing Test-Status: SUCCESS http://dpdk.org/patch/157450 _Testing PASS_ Submitter: Yunjian Wang Date: Friday, October 10 2025 08:41:36 DPDK git baseline: Repo:dpdk-next-virtio Branch: master CommitID:4159ea62922ce41566c7bab44655ad78bee85458 157450 --> testing pass Upstream job id: Windows-Compile-DPDK-Native#31537 Test environment and result as below: +-------------------------------+--------------------+-------------------+------------------+-------------------+-------------------------+ | Environment | dpdk_meson_compile | dpdk_compile_spdk | dpdk_compile_ovs | dpdk_msvc_compile | dpdk_llvm_clang_compile | +===============================+====================+===================+==================+===================+=========================+ | CentOS Stream 10 | PASS | SKIPPED | SKIPPED | SKIPPED | SKIPPED | +-------------------------------+--------------------+-------------------+------------------+-------------------+-------------------------+ | CentOS Stream 9 | PASS | PASS | SKIPPED | SKIPPED | SKIPPED | +-------------------------------+--------------------+-------------------+------------------+-------------------+-------------------------+ | Debian GNU/Linux 12 | PASS | PASS | SKIPPED | SKIPPED | SKIPPED | +-------------------------------+--------------------+-------------------+------------------+-------------------+-------------------------+ | Fedora Linux 42 | PASS | PASS | PASS | SKIPPED | SKIPPED | +-------------------------------+--------------------+-------------------+------------------+-------------------+-------------------------+ | openSUSE Leap 15.6 | PASS | SKIPPED | SKIPPED | SKIPPED | SKIPPED | +-------------------------------+--------------------+-------------------+------------------+-------------------+-------------------------+ | Red Hat Enterprise Linux 8.10 | PASS | SKIPPED | SKIPPED | SKIPPED | SKIPPED | +-------------------------------+--------------------+-------------------+------------------+-------------------+-------------------------+ | Ubuntu 20.04 | PASS | SKIPPED | SKIPPED | SKIPPED | SKIPPED | +-------------------------------+--------------------+-------------------+------------------+-------------------+-------------------------+ | Red Hat Enterprise Linux 9.5 | PASS | SKIPPED | SKIPPED | SKIPPED | SKIPPED | +-------------------------------+--------------------+-------------------+------------------+-------------------+-------------------------+ | FreeBSD 14.2 | PASS | SKIPPED | SKIPPED | SKIPPED | SKIPPED | +-------------------------------+--------------------+-------------------+------------------+-------------------+-------------------------+ | Ubuntu 22.04 | PASS | PASS | SKIPPED | SKIPPED | SKIPPED | +-------------------------------+--------------------+-------------------+------------------+-------------------+-------------------------+ | Ubuntu 24.04 | PASS | PASS | PASS | SKIPPED | SKIPPED | +-------------------------------+--------------------+-------------------+------------------+-------------------+-------------------------+ | Alpine Linux 3.22.0 | PASS | SKIPPED | SKIPPED | SKIPPED | SKIPPED | +-------------------------------+--------------------+-------------------+------------------+-------------------+-------------------------+ | Windows Server 2022 | SKIPPED | SKIPPED | SKIPPED | PASS | PASS | +-------------------------------+--------------------+-------------------+------------------+-------------------+-------------------------+ CentOS Stream 10 Kernel: 5.15 Compiler: gcc gcc (GCC) 14.2.1 20250110 (Red Hat 14.2.1-8) CentOS Stream 9 Kernel: 5.15 Compiler: gcc gcc (GCC) 11.5.0 20240719 (Red Hat 11.5.0-11) Debian GNU/Linux 12 Kernel: 5.15 Compiler: gcc gcc (Debian 12.2.0-14+deb12u1) 12.2.0 Fedora Linux 42 Kernel: 5.15 Compiler: clang gcc (GCC) 15.2.1 20250808 (Red Hat 15.2.1-1) openSUSE Leap 15.6 Kernel: 5.15 Compiler: gcc gcc (SUSE Linux) 7.5.0 Red Hat Enterprise Linux 8.10 Kernel: 5.15 Compiler: gcc gcc (GCC) 8.5.0 20210514 (Red Hat 8.5.0-22) Ubuntu 20.04 Kernel: 4.19 Compiler: gcc gcc (Ubuntu 9.4.0-1ubuntu1~20.04.2) 9.4.0 Red Hat Enterprise Linux 9.5 Kernel: 5.15 Compiler: gcc gcc (GCC) 11.5.0 20240719 (Red Hat 11.5.0-2) FreeBSD 14.2 Kernel: 14.2-RELEASE Compiler: clang 18.1.6 Ubuntu 22.04 Kernel: 5.15 Compiler: gcc gcc (Ubuntu 11.4.0-1ubuntu1~22.04) 11.4.0 Ubuntu 24.04 Kernel: 5.15 Compiler: gcc gcc (Ubuntu 13.3.0-6ubuntu2~24.04) 13.3.0 Alpine Linux 3.22.0 Kernel: 5.15 Compiler: gcc gcc (Alpine 14.2.0) 14.2.0 Windows Server 2022 Kernel: 10.0.20348.2031 Compiler: clang 15.0.7, gcc 14.1.0 (MinGW), and MSVC VS 19.39.33521 To view detailed results, visit: https://lab.dpdk.org/results/dashboard/patchsets/34250/ UNH-IOL DPDK Community Lab To manage your email subscriptions, visit: https://lab.dpdk.org/results/dashboard/preferences/subscriptions/