From mboxrd@z Thu Jan 1 00:00:00 1970 Return-Path: Received: from mails.dpdk.org (mails.dpdk.org [217.70.189.124]) by inbox.dpdk.org (Postfix) with ESMTP id 1E7C5488FF for ; Fri, 10 Oct 2025 14:14:44 +0200 (CEST) Received: from mails.dpdk.org (localhost [127.0.0.1]) by mails.dpdk.org (Postfix) with ESMTP id E618E4026F; Fri, 10 Oct 2025 14:14:43 +0200 (CEST) Received: from mail-io1-f99.google.com (mail-io1-f99.google.com [209.85.166.99]) by mails.dpdk.org (Postfix) with ESMTP id 502304026F for ; Fri, 10 Oct 2025 14:14:42 +0200 (CEST) Received: by mail-io1-f99.google.com with SMTP id ca18e2360f4ac-9194a0241aaso76138839f.3 for ; Fri, 10 Oct 2025 05:14:42 -0700 (PDT) DKIM-Signature: v=1; a=rsa-sha256; c=relaxed/relaxed; d=iol.unh.edu; s=unh-iol; t=1760098481; x=1760703281; darn=dpdk.org; h=references:in-reply-to:cc:to:from:subject:message-id:date:from:to :cc:subject:date:message-id:reply-to; bh=25AIDLU+MzyyMLUXOj5OEC8gyQgUCfaUvXynyVmFtao=; b=C+VIqIogaTutwimOq9+VdihBqmXr7CWGxsQ4NbNkNlqg1hmV9qh8uTYawAYysP4cPv Cw+6offhEWwFsZPJmN3BOW/1Xt2NIvFMJ/T3p68SSJCaux5p8lSGCYHX6hv3332BUSLB yhhXPE2nRiMe7CHK3wTTrdxt1yWTxsMC7vtqE= X-Google-DKIM-Signature: v=1; a=rsa-sha256; c=relaxed/relaxed; d=1e100.net; s=20230601; t=1760098481; x=1760703281; h=references:in-reply-to:cc:to:from:subject:message-id:date :x-gm-message-state:from:to:cc:subject:date:message-id:reply-to; bh=25AIDLU+MzyyMLUXOj5OEC8gyQgUCfaUvXynyVmFtao=; b=VNHqYbOOBPFRkCCarZ6oXZXRALIOdIf2SCK4VZy1jd1UPaBesC4QaYJZNAiQOv0Ih7 zKucSk8pUQK04ZHnMvNW7voPzsSM2hTy45gXMq8bGX4J+dEGA4M/XWPCKJfTlzTLx9SZ 4XAHlJNwF1tQeEC4fka1bofnzEKXwb948AYW9U0LzG9MFiJNh85wTSj/q4Y8RaKOM3fJ YNKJ7/uobwvgodSF0itpm8CgjhmHKi8wJdqMM1NeTlhwG0thhTcf1Ars7wblvEKkN9xf S8N89oaYhUsl9z/2+ihNa97UGw1nQRs2RYgjwM3XPwQLxWW7izyA0TfEUeoiDg0yC0CT lFjQ== X-Gm-Message-State: AOJu0YzPdCAeSeIhBLdR1ZTpBabKJLfcEVJcRCeECXfzDY2oe7dVKu+X 9Z7srjr0bQ1V14oKDhFzfz4Kyi3GtImvHRg2ZNw2IwRPlYq6bxSvr2JSt/15E3kqCCe3m3z4Hj0 9+Ugi3kP2AEEB32cad19b9Ac3T8O5/hZX4m+SjtPMlbjkPv9zF3QOfq0MxBA5 X-Gm-Gg: ASbGncuE4xRvxCiXUztX8knNc2ZA23gCD15cweS/Z7jL2rLBsA5cZ5LKZo2q9chgo3N avRF206LKphooed8vG3kyTeFKPVVyw3nYB0/gq6q4ZLMfX8v69wYT+Q1w50aYf8zLRY8s+74VzA bTjKx2NaZ1ZgkMgzYjkBcik20T7aVxHnt0hXPOsnxnnZ+qmNObSjnSMAcNDde3q0ez8WrOQxoob 8bruWbiUc1VLobEFFqcxsp+ZZqV2mi7QYuF1LmxHJ+5u6XdszZZN3kqO/huFptMqjHIoPSbphuH CRIuw7otTLleH2qQ3nQLW+Igqzzlt5X2NsH5CyX560gSqtcnxQ== X-Google-Smtp-Source: AGHT+IH0Dvzl6DM1icmoJZ+pjBr1sUt6G7DpAnGB1A0EhB2IMuwLBY695afRbWiRSo7DNveR9vHpZauE+qGt X-Received: by 2002:a05:6602:150a:b0:8d5:5a79:ee38 with SMTP id ca18e2360f4ac-93bd18874f3mr1365310739f.5.1760098481444; Fri, 10 Oct 2025 05:14:41 -0700 (PDT) Received: from postal.iol.unh.edu (postal.iol.unh.edu. [2606:4100:3880:1234::84]) by smtp-relay.gmail.com with ESMTPS id ca18e2360f4ac-93e25aa45e4sm15032139f.16.2025.10.10.05.14.41 (version=TLS1_2 cipher=ECDHE-ECDSA-AES128-GCM-SHA256 bits=128/128); Fri, 10 Oct 2025 05:14:41 -0700 (PDT) X-Relaying-Domain: iol.unh.edu Date: Fri, 10 Oct 2025 05:14:41 -0700 (PDT) Message-ID: <68e8f8b1.050a0220.38173b.92eeSMTPIN_ADDED_MISSING@mx.google.com> Received: from [172.21.0.2] (unknown [172.18.0.240]) by postal.iol.unh.edu (Postfix) with ESMTP id C07CE6051830; Fri, 10 Oct 2025 08:14:40 -0400 (EDT) Subject: |SUCCESS| pw157450 [PATCH] [v3] vhost: fix a double fetch when deque From: dpdklab@iol.unh.edu To: Test Report Cc: dpdk-test-reports@iol.unh.edu, Chenbo Xia , Maxime Coquelin In-Reply-To: <1760085696-35028-1-git-send-email-wangyunjian@huawei.com> References: <1760085696-35028-1-git-send-email-wangyunjian@huawei.com> Content-Type: text/plain X-BeenThere: test-report@dpdk.org X-Mailman-Version: 2.1.29 Precedence: list List-Id: automatic DPDK test reports List-Unsubscribe: , List-Archive: List-Post: List-Help: List-Subscribe: , Errors-To: test-report-bounces@dpdk.org Test-Label: iol-compile-amd64-testing Test-Status: SUCCESS http://dpdk.org/patch/157450 _Testing PASS_ Submitter: Yunjian Wang Date: Friday, October 10 2025 08:41:36 DPDK git baseline: Repo:dpdk-next-virtio Branch: master CommitID:4159ea62922ce41566c7bab44655ad78bee85458 157450 --> testing pass Upstream job id: Windows-Compile-DPDK-Native#31538 Test environment and result as below: +-------------------------------+--------------------+-------------------+------------------+-------------------+-------------------------+----------------------+ | Environment | dpdk_meson_compile | dpdk_compile_spdk | dpdk_compile_ovs | dpdk_msvc_compile | dpdk_llvm_clang_compile | dpdk_mingw64_compile | +===============================+====================+===================+==================+===================+=========================+======================+ | CentOS Stream 10 | PASS | SKIPPED | SKIPPED | SKIPPED | SKIPPED | SKIPPED | +-------------------------------+--------------------+-------------------+------------------+-------------------+-------------------------+----------------------+ | CentOS Stream 9 | PASS | PASS | SKIPPED | SKIPPED | SKIPPED | SKIPPED | +-------------------------------+--------------------+-------------------+------------------+-------------------+-------------------------+----------------------+ | Debian GNU/Linux 12 | PASS | PASS | SKIPPED | SKIPPED | SKIPPED | SKIPPED | +-------------------------------+--------------------+-------------------+------------------+-------------------+-------------------------+----------------------+ | Fedora Linux 42 | PASS | PASS | PASS | SKIPPED | SKIPPED | SKIPPED | +-------------------------------+--------------------+-------------------+------------------+-------------------+-------------------------+----------------------+ | openSUSE Leap 15.6 | PASS | SKIPPED | SKIPPED | SKIPPED | SKIPPED | SKIPPED | +-------------------------------+--------------------+-------------------+------------------+-------------------+-------------------------+----------------------+ | Red Hat Enterprise Linux 8.10 | PASS | SKIPPED | SKIPPED | SKIPPED | SKIPPED | SKIPPED | +-------------------------------+--------------------+-------------------+------------------+-------------------+-------------------------+----------------------+ | Ubuntu 20.04 | PASS | SKIPPED | SKIPPED | SKIPPED | SKIPPED | SKIPPED | +-------------------------------+--------------------+-------------------+------------------+-------------------+-------------------------+----------------------+ | Red Hat Enterprise Linux 9.5 | PASS | SKIPPED | SKIPPED | SKIPPED | SKIPPED | SKIPPED | +-------------------------------+--------------------+-------------------+------------------+-------------------+-------------------------+----------------------+ | FreeBSD 14.2 | PASS | SKIPPED | SKIPPED | SKIPPED | SKIPPED | SKIPPED | +-------------------------------+--------------------+-------------------+------------------+-------------------+-------------------------+----------------------+ | Ubuntu 22.04 | PASS | PASS | SKIPPED | SKIPPED | SKIPPED | SKIPPED | +-------------------------------+--------------------+-------------------+------------------+-------------------+-------------------------+----------------------+ | Ubuntu 24.04 | PASS | PASS | PASS | SKIPPED | SKIPPED | SKIPPED | +-------------------------------+--------------------+-------------------+------------------+-------------------+-------------------------+----------------------+ | Alpine Linux 3.22.0 | PASS | SKIPPED | SKIPPED | SKIPPED | SKIPPED | SKIPPED | +-------------------------------+--------------------+-------------------+------------------+-------------------+-------------------------+----------------------+ | Windows Server 2022 | SKIPPED | SKIPPED | SKIPPED | PASS | PASS | PASS | +-------------------------------+--------------------+-------------------+------------------+-------------------+-------------------------+----------------------+ CentOS Stream 10 Kernel: 5.15 Compiler: gcc gcc (GCC) 14.2.1 20250110 (Red Hat 14.2.1-8) CentOS Stream 9 Kernel: 5.15 Compiler: gcc gcc (GCC) 11.5.0 20240719 (Red Hat 11.5.0-11) Debian GNU/Linux 12 Kernel: 5.15 Compiler: gcc gcc (Debian 12.2.0-14+deb12u1) 12.2.0 Fedora Linux 42 Kernel: 5.15 Compiler: clang gcc (GCC) 15.2.1 20250808 (Red Hat 15.2.1-1) openSUSE Leap 15.6 Kernel: 5.15 Compiler: gcc gcc (SUSE Linux) 7.5.0 Red Hat Enterprise Linux 8.10 Kernel: 5.15 Compiler: gcc gcc (GCC) 8.5.0 20210514 (Red Hat 8.5.0-22) Ubuntu 20.04 Kernel: 4.19 Compiler: gcc gcc (Ubuntu 9.4.0-1ubuntu1~20.04.2) 9.4.0 Red Hat Enterprise Linux 9.5 Kernel: 5.15 Compiler: gcc gcc (GCC) 11.5.0 20240719 (Red Hat 11.5.0-2) FreeBSD 14.2 Kernel: 14.2-RELEASE Compiler: clang 18.1.6 Ubuntu 22.04 Kernel: 5.15 Compiler: gcc gcc (Ubuntu 11.4.0-1ubuntu1~22.04) 11.4.0 Ubuntu 24.04 Kernel: 5.15 Compiler: gcc gcc (Ubuntu 13.3.0-6ubuntu2~24.04) 13.3.0 Alpine Linux 3.22.0 Kernel: 5.15 Compiler: gcc gcc (Alpine 14.2.0) 14.2.0 Windows Server 2022 Kernel: 10.0.20348.2031 Compiler: clang 15.0.7, gcc 14.1.0 (MinGW), and MSVC VS 19.39.33521 To view detailed results, visit: https://lab.dpdk.org/results/dashboard/patchsets/34250/ UNH-IOL DPDK Community Lab To manage your email subscriptions, visit: https://lab.dpdk.org/results/dashboard/preferences/subscriptions/