From mboxrd@z Thu Jan 1 00:00:00 1970 Return-Path: Received: from mails.dpdk.org (mails.dpdk.org [217.70.189.124]) by inbox.dpdk.org (Postfix) with ESMTP id CE0F7488FF for ; Fri, 10 Oct 2025 14:23:12 +0200 (CEST) Received: from mails.dpdk.org (localhost [127.0.0.1]) by mails.dpdk.org (Postfix) with ESMTP id A7BB24026F; Fri, 10 Oct 2025 14:23:12 +0200 (CEST) Received: from mail-yw1-f225.google.com (mail-yw1-f225.google.com [209.85.128.225]) by mails.dpdk.org (Postfix) with ESMTP id E9E254026F for ; Fri, 10 Oct 2025 14:23:10 +0200 (CEST) Received: by mail-yw1-f225.google.com with SMTP id 00721157ae682-77f9fb2d9c5so19236267b3.0 for ; Fri, 10 Oct 2025 05:23:10 -0700 (PDT) DKIM-Signature: v=1; a=rsa-sha256; c=relaxed/relaxed; d=iol.unh.edu; s=unh-iol; t=1760098990; x=1760703790; darn=dpdk.org; h=cc:to:from:subject:message-id:date:from:to:cc:subject:date :message-id:reply-to; bh=88rB2VL7Xflf+OAnh4Q4r/Fv8RYo7EIYt1x9Sy+Cbks=; b=FP3ZBXsdTub2aECBnL4q3XPJ3RQ7yizNaE+o2d5DegDeey2k8KBwLNnRYDew1OfCf4 /3Femks3Y4iAB0K07nkD17nI99+QcFpNjydFTNgM39TO3Z3lKT3E8CYsq0TWZ6fYxKgo sTaiB/DyIvJbPu5AfiIsKFb4p5syesAZtU+FI= X-Google-DKIM-Signature: v=1; a=rsa-sha256; c=relaxed/relaxed; d=1e100.net; s=20230601; t=1760098990; x=1760703790; h=cc:to:from:subject:message-id:date:x-gm-message-state:from:to:cc :subject:date:message-id:reply-to; bh=88rB2VL7Xflf+OAnh4Q4r/Fv8RYo7EIYt1x9Sy+Cbks=; b=vwojSeznWRd6eLZEoS3Vrv2X1yanAuNsa3uYRwAZbv4u8hBxyT3b4Ri1rJFi4YXjVV L9RdgDrtQnj+xrysXtVpNrc6ONBoh7q2Jjt8IWkiDMTiHIo0VyoyWmMwm4SV40fsyS6b UPE/Bmop/nKaflu8Mn1pMnsebzQiM8zdVDl29O4L0XxTbCVahO864ZDn/nH+uJIiTTaJ KBWZMfoz0T7dcpoFWEju23+nVEyfvzJPIKTX9JgdCEY4OWPrfET2yZc2CHIGTwzIP4SX 4r3NH17aCf/adRtcm3UKXm9wdu2xXXxugBZi/jNugb0NnbPltH1OWlmplhC9beSuR4sw u8vg== X-Gm-Message-State: AOJu0YxfQNj6TYO+EHVpe4ChI5Op48VkHYdJWL6b2tiEgpMQUHOjLV6h G3z6j0PyLI95cOAry5zXfrUS1HflQjWf/OOz/gfoYP8RpTn0qBoElp5t6Ise/UY+c+4xCUSmKl5 00lXX5VC7eYCJ6IHEJtdueexq3owTCp3DCdDEeQgsP8DP X-Gm-Gg: ASbGncuQ0kekdH2/N3F3VYJ0XIH3r/+Hh8MFSrkohAp+6kFL6WPQkWlRlbXsPvcKyaj TH+QEgM7RYaH0D4RE3WFlRCC/xwFbhPiiH0zaCt4I5U+Xi/6wsA9bMtXkkUa7uug47E++Ee8kRP KFxC2SfuV2qHCTmvG9vjQ+sXfp8zpk6VwmuWKaagjEUTxE7rTPPQouux7PQXnJioqkiSkvzcxTV XNkwTkqfeldiDxuprJYL2jRx0/33SFWMfNLYDnl180U7fzWPBMCdAMg1D5KV2lwXUlr4Z0MfAF6 9FwzmSNytbzlO2c7uUJZUbXpx/Vcf8+2uijDuxtWv8uy90FVIJ4FN87HtmBkbQBlRQc1Wph3 X-Google-Smtp-Source: AGHT+IHWGw1PYesX0q/rwQ/u0e0H+eXLqMfVQo/lLHXmeGONDi2RcMhRFpMmptEVnOf1O1G7NX3VyH2RCAno X-Received: by 2002:a05:690c:4b08:b0:766:4c29:cd62 with SMTP id 00721157ae682-780e16d6ecemr136970957b3.32.1760098989890; Fri, 10 Oct 2025 05:23:09 -0700 (PDT) Received: from postal.iol.unh.edu (postal.iol.unh.edu. [132.177.123.84]) by smtp-relay.gmail.com with ESMTPS id 00721157ae682-781092feb11sm1102357b3.20.2025.10.10.05.23.09 (version=TLS1_2 cipher=ECDHE-ECDSA-AES128-GCM-SHA256 bits=128/128); Fri, 10 Oct 2025 05:23:09 -0700 (PDT) X-Relaying-Domain: iol.unh.edu Date: Fri, 10 Oct 2025 05:23:09 -0700 (PDT) Message-ID: <68e8faad.050a0220.0632.5aaaSMTPIN_ADDED_MISSING@mx.google.com> Received: from [172.21.0.2] (unknown [172.18.0.240]) by postal.iol.unh.edu (Postfix) with ESMTP id 7C18F6051830; Fri, 10 Oct 2025 08:23:09 -0400 (EDT) Subject: |SUCCESS| [GIT MASTER] d0eb31b594b42fb1dd4e8f2afad3e2a5f1846c1a From: dpdklab@iol.unh.edu To: Test Report Cc: dpdk-test-reports@iol.unh.edu, Bruce Richardson Content-Type: text/plain X-BeenThere: test-report@dpdk.org X-Mailman-Version: 2.1.29 Precedence: list List-Id: automatic DPDK test reports List-Unsubscribe: , List-Archive: List-Post: List-Help: List-Subscribe: , Errors-To: test-report-bounces@dpdk.org _Testing PASS_ Branch: dpdk-next-net-intel d0eb31b594b42fb1dd4e8f2afad3e2a5f1846c1a --> testing pass Upstream job id: Windows-Compile-DPDK-Native#31539 Test environment and result as below: +-------------------------------+--------------------+-------------------+------------------+-------------------+-------------------------+ | Environment | dpdk_meson_compile | dpdk_compile_spdk | dpdk_compile_ovs | dpdk_msvc_compile | dpdk_llvm_clang_compile | +===============================+====================+===================+==================+===================+=========================+ | CentOS Stream 9 | PASS | PASS | SKIPPED | SKIPPED | SKIPPED | +-------------------------------+--------------------+-------------------+------------------+-------------------+-------------------------+ | Red Hat Enterprise Linux 8.10 | PASS | SKIPPED | SKIPPED | SKIPPED | SKIPPED | +-------------------------------+--------------------+-------------------+------------------+-------------------+-------------------------+ | CentOS Stream 10 | PASS | SKIPPED | SKIPPED | SKIPPED | SKIPPED | +-------------------------------+--------------------+-------------------+------------------+-------------------+-------------------------+ | Fedora Linux 42 | PASS | PASS | PASS | SKIPPED | SKIPPED | +-------------------------------+--------------------+-------------------+------------------+-------------------+-------------------------+ | Ubuntu 24.04 | PASS | PASS | PASS | SKIPPED | SKIPPED | +-------------------------------+--------------------+-------------------+------------------+-------------------+-------------------------+ | Debian GNU/Linux 12 | PASS | PASS | SKIPPED | SKIPPED | SKIPPED | +-------------------------------+--------------------+-------------------+------------------+-------------------+-------------------------+ | Red Hat Enterprise Linux 9.5 | PASS | SKIPPED | SKIPPED | SKIPPED | SKIPPED | +-------------------------------+--------------------+-------------------+------------------+-------------------+-------------------------+ | Ubuntu 20.04 | PASS | SKIPPED | SKIPPED | SKIPPED | SKIPPED | +-------------------------------+--------------------+-------------------+------------------+-------------------+-------------------------+ | openSUSE Leap 15.6 | PASS | SKIPPED | SKIPPED | SKIPPED | SKIPPED | +-------------------------------+--------------------+-------------------+------------------+-------------------+-------------------------+ | FreeBSD 14.2 | PASS | SKIPPED | SKIPPED | SKIPPED | SKIPPED | +-------------------------------+--------------------+-------------------+------------------+-------------------+-------------------------+ | Ubuntu 22.04 | PASS | PASS | SKIPPED | SKIPPED | SKIPPED | +-------------------------------+--------------------+-------------------+------------------+-------------------+-------------------------+ | Alpine Linux 3.22.0 | PASS | SKIPPED | SKIPPED | SKIPPED | SKIPPED | +-------------------------------+--------------------+-------------------+------------------+-------------------+-------------------------+ | Windows Server 2022 | SKIPPED | SKIPPED | SKIPPED | PASS | PASS | +-------------------------------+--------------------+-------------------+------------------+-------------------+-------------------------+ CentOS Stream 9 Kernel: 5.15 Compiler: gcc gcc (GCC) 11.5.0 20240719 (Red Hat 11.5.0-11) Red Hat Enterprise Linux 8.10 Kernel: 5.15 Compiler: gcc gcc (GCC) 8.5.0 20210514 (Red Hat 8.5.0-22) CentOS Stream 10 Kernel: 5.15 Compiler: gcc gcc (GCC) 14.2.1 20250110 (Red Hat 14.2.1-8) Fedora Linux 42 Kernel: 5.15 Compiler: gcc gcc (GCC) 15.2.1 20250808 (Red Hat 15.2.1-1) Ubuntu 24.04 Kernel: 5.15 Compiler: gcc gcc (Ubuntu 13.3.0-6ubuntu2~24.04) 13.3.0 Debian GNU/Linux 12 Kernel: 5.15 Compiler: gcc gcc (Debian 12.2.0-14+deb12u1) 12.2.0 Red Hat Enterprise Linux 9.5 Kernel: 5.15 Compiler: gcc gcc (GCC) 11.5.0 20240719 (Red Hat 11.5.0-2) Ubuntu 20.04 Kernel: 5.15 Compiler: gcc gcc (Ubuntu 9.4.0-1ubuntu1~20.04.2) 9.4.0 openSUSE Leap 15.6 Kernel: 5.15 Compiler: gcc gcc (SUSE Linux) 7.5.0 FreeBSD 14.2 Kernel: 14.2-RELEASE Compiler: clang 18.1.6 Ubuntu 22.04 Kernel: 5.15 Compiler: gcc gcc (Ubuntu 11.4.0-1ubuntu1~22.04) 11.4.0 Alpine Linux 3.22.0 Kernel: 5.15 Compiler: gcc gcc (Alpine 14.2.0) 14.2.0 Windows Server 2022 Kernel: 10.0.20348.2031 Compiler: clang 15.0.7, gcc 14.1.0 (MinGW), and MSVC VS 19.39.33521 To view detailed results, visit: https://lab.dpdk.org/results/dashboard/tarballs/35167/ UNH-IOL DPDK Community Lab To manage your email subscriptions, visit: https://lab.dpdk.org/results/dashboard/preferences/subscriptions/