From mboxrd@z Thu Jan 1 00:00:00 1970 Return-Path: Received: from mails.dpdk.org (mails.dpdk.org [217.70.189.124]) by inbox.dpdk.org (Postfix) with ESMTP id 03E83488FF for ; Fri, 10 Oct 2025 14:25:40 +0200 (CEST) Received: from mails.dpdk.org (localhost [127.0.0.1]) by mails.dpdk.org (Postfix) with ESMTP id E06414026F; Fri, 10 Oct 2025 14:25:40 +0200 (CEST) Received: from mail-qv1-f100.google.com (mail-qv1-f100.google.com [209.85.219.100]) by mails.dpdk.org (Postfix) with ESMTP id C8D234026F for ; Fri, 10 Oct 2025 14:25:39 +0200 (CEST) Received: by mail-qv1-f100.google.com with SMTP id 6a1803df08f44-78ed682e9d3so17806596d6.0 for ; Fri, 10 Oct 2025 05:25:39 -0700 (PDT) DKIM-Signature: v=1; a=rsa-sha256; c=relaxed/relaxed; d=iol.unh.edu; s=unh-iol; t=1760099139; x=1760703939; darn=dpdk.org; h=cc:to:from:subject:message-id:date:from:to:cc:subject:date :message-id:reply-to; bh=22elMNUTDhlibz970e2cPxJjz7hjHRW2WPv346G45g8=; b=h5HLe6YswZzsUBxPgPMBtQJN3Njo6OXKP/ZV9YSkZkMq7w3cyF4UZLZs8xUEv8kFgX py+zKJiF7B5vJ1kENJ8VONr3HP6RATz8m/VsL5tSV0DhNvRfKXWzz5VvAMaeqpOmKkMM VUsqtFLKTRe2IG23EXf4RSW9OoPfCpYhJgGDE= X-Google-DKIM-Signature: v=1; a=rsa-sha256; c=relaxed/relaxed; d=1e100.net; s=20230601; t=1760099139; x=1760703939; h=cc:to:from:subject:message-id:date:x-gm-message-state:from:to:cc :subject:date:message-id:reply-to; bh=22elMNUTDhlibz970e2cPxJjz7hjHRW2WPv346G45g8=; b=AYJwaUQMRahFJk51roH/vYQ4X8CNkkwveZfcjX7J/SQMJ1sOYXNFYf6zD5bzi/1Xo6 13q0HrPpcxmjOxIZeTfm8HY23zJsN/diyC9fEtiKg5ua1Tu3aT5xIC+NZ1aWcHfuuKiH DGtgKkxXOIBZKO/axGk75rNUhkLbclvHRoLJRRqkMiDzfsj9GiHVW4WIOjAcLGrORYPS icyfD7QIEawcukTje2vYyM+EcKeOm9Mk9jxXkkZyGUg9AgjwFi/Zq5AQNUzbjV1dfo4Z dYfwHF8bIZJWjqM3KSYT6hLzUUDKcXYvh2ir1+lVdLDiOnWo42+6dPI0QdGDSyQGjdRs RBGw== X-Gm-Message-State: AOJu0Yy/sQU7mlkOeMv+ojbM5dUAK8/ImXN/KSbAtV6NKwB4qpbzSewg ANjjb01+uPTyqBOJ5Q6lkXFCtEvIJw/oECVWzvzvEvA12So4DR4xwnbWHIej47iNcabU0Y1oSr2 NPtx0aLuEIuU1nkbDcgG4wiQt+8lRS4floecqH/oBNUiw X-Gm-Gg: ASbGncuFh6IQrC0wD6eNNTvxICIrm4ANWnkaMpE+nL40jTNK/y1hqvUMaslIlYQqg6v zm0bQTBxQjbhS2ESpWz/RxxVSi3uxHTIxn0fm8vZfX9mn3Jexvx7UGPcPVW6PQKC6oFA14+PoV0 Xl/Gyh4onbrZ4pT/+Ca6X/QU+xBhNUhU4lk2/eIHg3V72pB7QIPwEBbUSJ2jw7+MgUVpv710PU3 3SqI3Ouzt74HOg44Ih5GdUrDYuD+hJJbS+owgbEyyOheO9Pfsp98ti464GZtUlzfibmWBV8yBpL aoooFWoogs9TrogsK2+9pDPXnZo+D2WqfUPqpxlomTdMDuuq3STyIrFPcgXZoT4P2uwZQtbk X-Google-Smtp-Source: AGHT+IEpyf+A16gNPrJ5Pb0loEaBYXdD5SyfIJmReiZCMaLYrpe6NonAxm8RoW17bwJtOGImgbGVQLSBz7CQ X-Received: by 2002:ad4:4ee5:0:b0:86c:1f66:e2eb with SMTP id 6a1803df08f44-87b2ef6c75amr131009476d6.33.1760099139041; Fri, 10 Oct 2025 05:25:39 -0700 (PDT) Received: from postal.iol.unh.edu (postal.iol.unh.edu. [132.177.123.84]) by smtp-relay.gmail.com with ESMTPS id 6a1803df08f44-87bc3461610sm1712976d6.11.2025.10.10.05.25.38 (version=TLS1_2 cipher=ECDHE-ECDSA-AES128-GCM-SHA256 bits=128/128); Fri, 10 Oct 2025 05:25:39 -0700 (PDT) X-Relaying-Domain: iol.unh.edu Date: Fri, 10 Oct 2025 05:25:39 -0700 (PDT) Message-ID: <68e8fb43.d40a0220.4a496.8ecaSMTPIN_ADDED_MISSING@mx.google.com> Received: from [172.21.0.2] (unknown [172.18.0.240]) by postal.iol.unh.edu (Postfix) with ESMTP id BA73A6051830; Fri, 10 Oct 2025 08:25:38 -0400 (EDT) Subject: |SUCCESS| [GIT MASTER] d0eb31b594b42fb1dd4e8f2afad3e2a5f1846c1a From: dpdklab@iol.unh.edu To: Test Report Cc: dpdk-test-reports@iol.unh.edu, Bruce Richardson Content-Type: text/plain X-BeenThere: test-report@dpdk.org X-Mailman-Version: 2.1.29 Precedence: list List-Id: automatic DPDK test reports List-Unsubscribe: , List-Archive: List-Post: List-Help: List-Subscribe: , Errors-To: test-report-bounces@dpdk.org _Testing PASS_ Branch: dpdk-next-net-intel d0eb31b594b42fb1dd4e8f2afad3e2a5f1846c1a --> testing pass Upstream job id: Windows-Compile-DPDK-Native#31540 Test environment and result as below: +-------------------------------+--------------------+-------------------+------------------+-------------------+-------------------------+----------------------+ | Environment | dpdk_meson_compile | dpdk_compile_spdk | dpdk_compile_ovs | dpdk_msvc_compile | dpdk_llvm_clang_compile | dpdk_mingw64_compile | +===============================+====================+===================+==================+===================+=========================+======================+ | CentOS Stream 9 | PASS | PASS | SKIPPED | SKIPPED | SKIPPED | SKIPPED | +-------------------------------+--------------------+-------------------+------------------+-------------------+-------------------------+----------------------+ | Red Hat Enterprise Linux 8.10 | PASS | SKIPPED | SKIPPED | SKIPPED | SKIPPED | SKIPPED | +-------------------------------+--------------------+-------------------+------------------+-------------------+-------------------------+----------------------+ | CentOS Stream 10 | PASS | SKIPPED | SKIPPED | SKIPPED | SKIPPED | SKIPPED | +-------------------------------+--------------------+-------------------+------------------+-------------------+-------------------------+----------------------+ | Fedora Linux 42 | PASS | PASS | PASS | SKIPPED | SKIPPED | SKIPPED | +-------------------------------+--------------------+-------------------+------------------+-------------------+-------------------------+----------------------+ | Ubuntu 24.04 | PASS | PASS | PASS | SKIPPED | SKIPPED | SKIPPED | +-------------------------------+--------------------+-------------------+------------------+-------------------+-------------------------+----------------------+ | Debian GNU/Linux 12 | PASS | PASS | SKIPPED | SKIPPED | SKIPPED | SKIPPED | +-------------------------------+--------------------+-------------------+------------------+-------------------+-------------------------+----------------------+ | Red Hat Enterprise Linux 9.5 | PASS | SKIPPED | SKIPPED | SKIPPED | SKIPPED | SKIPPED | +-------------------------------+--------------------+-------------------+------------------+-------------------+-------------------------+----------------------+ | Ubuntu 20.04 | PASS | SKIPPED | SKIPPED | SKIPPED | SKIPPED | SKIPPED | +-------------------------------+--------------------+-------------------+------------------+-------------------+-------------------------+----------------------+ | openSUSE Leap 15.6 | PASS | SKIPPED | SKIPPED | SKIPPED | SKIPPED | SKIPPED | +-------------------------------+--------------------+-------------------+------------------+-------------------+-------------------------+----------------------+ | FreeBSD 14.2 | PASS | SKIPPED | SKIPPED | SKIPPED | SKIPPED | SKIPPED | +-------------------------------+--------------------+-------------------+------------------+-------------------+-------------------------+----------------------+ | Ubuntu 22.04 | PASS | PASS | SKIPPED | SKIPPED | SKIPPED | SKIPPED | +-------------------------------+--------------------+-------------------+------------------+-------------------+-------------------------+----------------------+ | Alpine Linux 3.22.0 | PASS | SKIPPED | SKIPPED | SKIPPED | SKIPPED | SKIPPED | +-------------------------------+--------------------+-------------------+------------------+-------------------+-------------------------+----------------------+ | Windows Server 2022 | SKIPPED | SKIPPED | SKIPPED | PASS | PASS | PASS | +-------------------------------+--------------------+-------------------+------------------+-------------------+-------------------------+----------------------+ CentOS Stream 9 Kernel: 5.15 Compiler: gcc gcc (GCC) 11.5.0 20240719 (Red Hat 11.5.0-11) Red Hat Enterprise Linux 8.10 Kernel: 5.15 Compiler: gcc gcc (GCC) 8.5.0 20210514 (Red Hat 8.5.0-22) CentOS Stream 10 Kernel: 5.15 Compiler: gcc gcc (GCC) 14.2.1 20250110 (Red Hat 14.2.1-8) Fedora Linux 42 Kernel: 5.15 Compiler: gcc gcc (GCC) 15.2.1 20250808 (Red Hat 15.2.1-1) Ubuntu 24.04 Kernel: 5.15 Compiler: gcc gcc (Ubuntu 13.3.0-6ubuntu2~24.04) 13.3.0 Debian GNU/Linux 12 Kernel: 5.15 Compiler: gcc gcc (Debian 12.2.0-14+deb12u1) 12.2.0 Red Hat Enterprise Linux 9.5 Kernel: 5.15 Compiler: gcc gcc (GCC) 11.5.0 20240719 (Red Hat 11.5.0-2) Ubuntu 20.04 Kernel: 5.15 Compiler: gcc gcc (Ubuntu 9.4.0-1ubuntu1~20.04.2) 9.4.0 openSUSE Leap 15.6 Kernel: 5.15 Compiler: gcc gcc (SUSE Linux) 7.5.0 FreeBSD 14.2 Kernel: 14.2-RELEASE Compiler: clang 18.1.6 Ubuntu 22.04 Kernel: 5.15 Compiler: gcc gcc (Ubuntu 11.4.0-1ubuntu1~22.04) 11.4.0 Alpine Linux 3.22.0 Kernel: 5.15 Compiler: gcc gcc (Alpine 14.2.0) 14.2.0 Windows Server 2022 Kernel: 10.0.20348.2031 Compiler: clang 15.0.7, gcc 14.1.0 (MinGW), and MSVC VS 19.39.33521 To view detailed results, visit: https://lab.dpdk.org/results/dashboard/tarballs/35167/ UNH-IOL DPDK Community Lab To manage your email subscriptions, visit: https://lab.dpdk.org/results/dashboard/preferences/subscriptions/