From mboxrd@z Thu Jan 1 00:00:00 1970 Return-Path: Received: from mails.dpdk.org (mails.dpdk.org [217.70.189.124]) by inbox.dpdk.org (Postfix) with ESMTP id 3F1D8488FF for ; Fri, 10 Oct 2025 14:27:45 +0200 (CEST) Received: from mails.dpdk.org (localhost [127.0.0.1]) by mails.dpdk.org (Postfix) with ESMTP id 1BB774026F; Fri, 10 Oct 2025 14:27:45 +0200 (CEST) Received: from mail-pj1-f98.google.com (mail-pj1-f98.google.com [209.85.216.98]) by mails.dpdk.org (Postfix) with ESMTP id 0EDCA402B9 for ; Fri, 10 Oct 2025 14:27:44 +0200 (CEST) Received: by mail-pj1-f98.google.com with SMTP id 98e67ed59e1d1-3304dd2f119so1692139a91.2 for ; Fri, 10 Oct 2025 05:27:43 -0700 (PDT) DKIM-Signature: v=1; a=rsa-sha256; c=relaxed/relaxed; d=iol.unh.edu; s=unh-iol; t=1760099263; x=1760704063; darn=dpdk.org; h=cc:to:from:subject:message-id:date:from:to:cc:subject:date :message-id:reply-to; bh=7Odsk9QrBnSe9lnR7AUU8Ej4B7NaC8K5v7ABhckzd7E=; b=AX11pvKSLP/IHUd3F6xQyDDmKpDV1LryVgRLTM2BzSmlcRU8NvhC6youUSxa1/zmwM mj7cImcqO9aVT8JtskRnvL1WCHFVc0np0KlVoyfZTcyVCihgdnWcAiC/Yocv6WODlsEa y6sstsmoh+FKMCpeWZ/7PJ/jGLAW3GBno2BN8= X-Google-DKIM-Signature: v=1; a=rsa-sha256; c=relaxed/relaxed; d=1e100.net; s=20230601; t=1760099263; x=1760704063; h=cc:to:from:subject:message-id:date:x-gm-message-state:from:to:cc :subject:date:message-id:reply-to; bh=7Odsk9QrBnSe9lnR7AUU8Ej4B7NaC8K5v7ABhckzd7E=; b=l9XO5ohJESYIQd9Yli5t6Yn78MvAS+jF8ZpwVGdZdQ4SxqYJIo10rspm0KMboVqJ5l 0zj+z1+38icylzNccJR1Ky9QosYDZgch7bu2mAnZrCH7AXs0C7xlbewW0RtdvLDHhAKH ma8BLypdPjvi2gKivF+ELktoORem72zhPtsdbOkEtflKgVi5sbNKXFejZr41CHmpNF82 X+rdPL5GRszSZ6FcY7aJoH6HMqFATvtY4zfbJF0ZKz28ZStsjB1CalohgsdC3jiINQUc oU4DtYxoHTuod6FFvYmHWKUERzPPUKPFazO1PF63W9lAP8uScWSqhsfhaul8PS7omQl7 VV1w== X-Gm-Message-State: AOJu0Yz/+kBv0zqmzuunLVxPUQjna119bq3jGwBQWzKj3OhLvBx6d9Pa a/bIrDBkWj7FFa4VqZu6pue7rr8J9hMMFnq7UFuP5hHQCFVvrckuzZqGalaQ9Hr+q/GKgBIBtEx 8tx5LX6cynqdkeIamLeDs3LogetDASSyexErOXdzvuM6DImu+NJz04Lx72xqW X-Gm-Gg: ASbGncsnIsWcoML4lo3/CcCvr2oxe4oz8e24C38LBqbF4ziGELj87f8puPYxQ8MY6ND xnZWyS7YaPEO3n36PUMak8JsA+2OZDUR6TL0KyMZcU6Qsu6vWJjejHxIO7nRog1yqeBB0tTBoTR D9Ih/AMGekGXf/z2v6jF/+gLsgrTZGaUvpg3B8nfT6kgwSSQ4ypgA9mppzWG1luwsgXqxzHPNYE amA2qskL//EhbE3FNRP+RpOh2NxeRdHfnbDH0xyvNEmrg/J1R4lnWN/C2pdTLa+6m8idQGfjX98 tbegXuAODrHHSAatPF6RacpUA8fML1kzdutcMgiJjyu/ptENhg== X-Google-Smtp-Source: AGHT+IEXptFhmpeb0bpW+IXqj5r0eZtL8c65D9KE26q5rXDASM83x0UBx0bgCWecQ78MB5VpFWPvRvxsxNIL X-Received: by 2002:a17:90b:38c1:b0:32e:a54a:be5d with SMTP id 98e67ed59e1d1-33b51124890mr13676405a91.2.1760099262941; Fri, 10 Oct 2025 05:27:42 -0700 (PDT) Received: from postal.iol.unh.edu (postal.iol.unh.edu. [2606:4100:3880:1234::84]) by smtp-relay.gmail.com with ESMTPS id 98e67ed59e1d1-33b61a85229sm227527a91.4.2025.10.10.05.27.42 (version=TLS1_2 cipher=ECDHE-ECDSA-AES128-GCM-SHA256 bits=128/128); Fri, 10 Oct 2025 05:27:42 -0700 (PDT) X-Relaying-Domain: iol.unh.edu Date: Fri, 10 Oct 2025 05:27:42 -0700 (PDT) Message-ID: <68e8fbbe.170a0220.3334b7.bf5fSMTPIN_ADDED_MISSING@mx.google.com> Received: from [172.21.0.2] (unknown [172.18.0.240]) by postal.iol.unh.edu (Postfix) with ESMTP id 69CFD6051830; Fri, 10 Oct 2025 08:27:42 -0400 (EDT) Subject: |SUCCESS| [GIT MASTER] d0eb31b594b42fb1dd4e8f2afad3e2a5f1846c1a From: dpdklab@iol.unh.edu To: Test Report Cc: dpdk-test-reports@iol.unh.edu, Bruce Richardson Content-Type: text/plain X-BeenThere: test-report@dpdk.org X-Mailman-Version: 2.1.29 Precedence: list List-Id: automatic DPDK test reports List-Unsubscribe: , List-Archive: List-Post: List-Help: List-Subscribe: , Errors-To: test-report-bounces@dpdk.org _Testing PASS_ Branch: dpdk-next-net-intel d0eb31b594b42fb1dd4e8f2afad3e2a5f1846c1a --> testing pass Upstream job id: Generic-VM-Unit-Test-DPDK#31711 Test environment and result as below: +-------------------------------+----------------+ | Environment | dpdk_unit_test | +===============================+================+ | Ubuntu 20.04 | PASS | +-------------------------------+----------------+ | Fedora Linux 42 | PASS | +-------------------------------+----------------+ | CentOS Stream 10 | PASS | +-------------------------------+----------------+ | Debian GNU/Linux 12 | PASS | +-------------------------------+----------------+ | Fedora Linux 40 | PASS | +-------------------------------+----------------+ | Red Hat Enterprise Linux 8.10 | PASS | +-------------------------------+----------------+ | Fedora Linux 41 | PASS | +-------------------------------+----------------+ | Red Hat Enterprise Linux 9.5 | PASS | +-------------------------------+----------------+ | Ubuntu 24.04 | PASS | +-------------------------------+----------------+ | CentOS Stream 9 | PASS | +-------------------------------+----------------+ | Ubuntu 22.04 | PASS | +-------------------------------+----------------+ | Windows Server 2022 | PASS | +-------------------------------+----------------+ Ubuntu 20.04 Kernel: 5.15 Compiler: gcc gcc (Ubuntu 9.4.0-1ubuntu1~20.04.2) 9.4.0 Fedora Linux 42 Kernel: 5.15 Compiler: clang gcc (GCC) 15.2.1 20250808 (Red Hat 15.2.1-1) CentOS Stream 10 Kernel: 5.15 Compiler: gcc gcc (GCC) 14.2.1 20250110 (Red Hat 14.2.1-8) Debian GNU/Linux 12 Kernel: 5.15 Compiler: gcc gcc (Debian 12.2.0-14+deb12u1) 12.2.0 Fedora Linux 40 Kernel: 5.15 Compiler: clang gcc (GCC) 14.2.1 20240912 (Red Hat 14.2.1-3) Red Hat Enterprise Linux 8.10 Kernel: 5.15 Compiler: gcc gcc (GCC) 8.5.0 20210514 (Red Hat 8.5.0-22) Fedora Linux 41 Kernel: 5.15 Compiler: gcc gcc (GCC) 14.3.1 20250523 (Red Hat 14.3.1-1) Red Hat Enterprise Linux 9.5 Kernel: 5.15 Compiler: gcc gcc (GCC) 11.5.0 20240719 (Red Hat 11.5.0-2) Ubuntu 24.04 Kernel: 5.15 Compiler: gcc gcc (Ubuntu 13.3.0-6ubuntu2~24.04) 13.3.0 CentOS Stream 9 Kernel: 5.15 Compiler: gcc gcc (GCC) 11.5.0 20240719 (Red Hat 11.5.0-11) Ubuntu 22.04 Kernel: 5.15 Compiler: gcc gcc (Ubuntu 11.4.0-1ubuntu1~22.04) 11.4.0 Windows Server 2022 Kernel: 10.0.20348.2031 Compiler: clang 15.0.7, gcc 14.1.0 (MinGW), and MSVC VS 19.39.33521 To view detailed results, visit: https://lab.dpdk.org/results/dashboard/tarballs/35167/ UNH-IOL DPDK Community Lab To manage your email subscriptions, visit: https://lab.dpdk.org/results/dashboard/preferences/subscriptions/