From mboxrd@z Thu Jan 1 00:00:00 1970 Return-Path: Received: from mails.dpdk.org (mails.dpdk.org [217.70.189.124]) by inbox.dpdk.org (Postfix) with ESMTP id BA686488FF for ; Fri, 10 Oct 2025 14:33:18 +0200 (CEST) Received: from mails.dpdk.org (localhost [127.0.0.1]) by mails.dpdk.org (Postfix) with ESMTP id 9455C4026F; Fri, 10 Oct 2025 14:33:18 +0200 (CEST) Received: from mail-yx1-f100.google.com (mail-yx1-f100.google.com [74.125.224.100]) by mails.dpdk.org (Postfix) with ESMTP id F375F4026F for ; Fri, 10 Oct 2025 14:33:17 +0200 (CEST) Received: by mail-yx1-f100.google.com with SMTP id 956f58d0204a3-63bc1aeb427so2031745d50.3 for ; Fri, 10 Oct 2025 05:33:17 -0700 (PDT) DKIM-Signature: v=1; a=rsa-sha256; c=relaxed/relaxed; d=iol.unh.edu; s=unh-iol; t=1760099597; x=1760704397; darn=dpdk.org; h=references:in-reply-to:cc:to:from:subject:message-id:date:from:to :cc:subject:date:message-id:reply-to; bh=xS5j0vAoik+94bwty5dXCWR9O6bMWbLghdq/XkNkLdA=; b=DhZCLqy4hP67EIS4ggAKwZkcId1f67oEHdMSQAPWBlvQuyGmSFz9FsRl6LFNJJ2Avr IpEWdUbAkvmn5DoWiZ2kuUaxApmiGLLMR8uW1ZN/uzsY0F4+01KmpXUg3cOhbYFl+U73 xWfUfZv2QTcgbb23e67QBxoPZEFudg6ZxFwow= X-Google-DKIM-Signature: v=1; a=rsa-sha256; c=relaxed/relaxed; d=1e100.net; s=20230601; t=1760099597; x=1760704397; h=references:in-reply-to:cc:to:from:subject:message-id:date :x-gm-message-state:from:to:cc:subject:date:message-id:reply-to; bh=xS5j0vAoik+94bwty5dXCWR9O6bMWbLghdq/XkNkLdA=; b=tU91HTi6HKTiCru3oQGsI1QbqJzbOORjoqAcftkiKfc78Mg2tjMEduzdhlSBczugwn feSzo0BjtIvLYk3ErTiaGE1WSWFH45x1RS0PJzDJgJIkX5y1Hvn1AH3gFWSOX+/qs8rG AbGF8UlmufgEnlSHreOHvL2wN9VHsJMuVaKh7PblIE256R2l5p/bCBlethEzINbizN+B mVLN8QkO/hVwzaMLYzIL7ZKNPhI65ewXoKsbB8pu1GGP17hhm7oHb59yVW10LX7vTLXf PrYDPBLRCXnHq3dVIaXEyhR6vNVdtKi5DV3jbIVfmEQ20n4sOVVvcPfReRz06OATbdoN 0E3A== X-Gm-Message-State: AOJu0YyTPB38w+So72JeqktYXknqDxbgtfjdlSp6CWp66XK+7FmaeqKV zuvpqjtNH23elVNt3rquYsQ2qapzwnMBueEEI8GWl83Invbx8NBH4Bj88xSWd2yAgWsV7io+tUO 2+ZZnHvGrWLkUk9ED/RiRvsr1ijg2mkrvVHKgmzNvuUCfO0IhflMRhBXYGUAe X-Gm-Gg: ASbGnctR72p0KA8QykNfxxeWiVoEZKsLoA38DmzqxC1TUMioZupVUlRCjakPuc8TnWF Ppyo0mXS6CQXrWIEzoBxX447JwgjYnZiJUo1Hr56whKFS6InT6w5xSbOy1agWB5aTYMvw7QoFUe llsA0ygNqQDWY1KXL4Hl1fr+x7KKosT2RwOVrbcg+EuiEy4oTK/xPT2b8plPFT6xAtE9LPfdhOJ XE6+XdozIZZeGebo18FVfh10ybI0Pvs0iae9I7DcAHWeB0B9GZxBr9TxzGpcphhuh+VvkAKENs2 Tjsmk4ZRItuTnFZbhOEm4avXV2dwJrG6pi2jGWGQ6UK6JCrrww== X-Google-Smtp-Source: AGHT+IGEu/tpjH8PzMfme9ysxy0GbcoYbsKwZf3P6swNz3ZOGUkjWqEKQQe2gfNQFRhz3Mw+kvUgfQESrrmh X-Received: by 2002:a53:dc8e:0:b0:633:b902:cd with SMTP id 956f58d0204a3-63ccb8dd949mr8373180d50.29.1760099597154; Fri, 10 Oct 2025 05:33:17 -0700 (PDT) Received: from postal.iol.unh.edu (postal.iol.unh.edu. [2606:4100:3880:1234::84]) by smtp-relay.gmail.com with ESMTPS id 956f58d0204a3-63cd95e6be4sm282478d50.13.2025.10.10.05.33.17 (version=TLS1_2 cipher=ECDHE-ECDSA-AES128-GCM-SHA256 bits=128/128); Fri, 10 Oct 2025 05:33:17 -0700 (PDT) X-Relaying-Domain: iol.unh.edu Date: Fri, 10 Oct 2025 05:33:17 -0700 (PDT) Message-ID: <68e8fd0d.530a0220.3837f6.e66cSMTPIN_ADDED_MISSING@mx.google.com> Received: from [172.21.0.2] (unknown [172.18.0.240]) by postal.iol.unh.edu (Postfix) with ESMTP id 98B5F6051830; Fri, 10 Oct 2025 08:33:16 -0400 (EDT) Subject: |SUCCESS| pw157448 [PATCH] lib/net: Add ICMP support to rte_net_get_ From: dpdklab@iol.unh.edu To: Test Report Cc: dpdk-test-reports@iol.unh.edu In-Reply-To: <20251009152740.10437-1-eimear.morrissey@huawei.com> References: <20251009152740.10437-1-eimear.morrissey@huawei.com> Content-Type: text/plain X-BeenThere: test-report@dpdk.org X-Mailman-Version: 2.1.29 Precedence: list List-Id: automatic DPDK test reports List-Unsubscribe: , List-Archive: List-Post: List-Help: List-Subscribe: , Errors-To: test-report-bounces@dpdk.org Test-Label: iol-compile-arm64-testing Test-Status: SUCCESS http://dpdk.org/patch/157448 _Testing PASS_ Submitter: Eimear Morrissey Date: Thursday, October 09 2025 15:27:40 DPDK git baseline: Repo:dpdk Branch: master CommitID:2b403dd8fb37d0ba13723e44ffc7ee2c2795f838 157448 --> testing pass Upstream job id: Generic-DPDK-Compile-Meson#433139 Test environment and result as below: +------------------------------+--------------------+ | Environment | dpdk_meson_compile | +==============================+====================+ | Red Hat Enterprise Linux 9.5 | PASS | +------------------------------+--------------------+ | Ubuntu 20.04 | PASS | +------------------------------+--------------------+ | Debian GNU/Linux 12 | PASS | +------------------------------+--------------------+ | Fedora Linux 42 | PASS | +------------------------------+--------------------+ | Ubuntu 22.04 | PASS | +------------------------------+--------------------+ | Ubuntu 24.04 | PASS | +------------------------------+--------------------+ | CentOS Stream 9 | PASS | +------------------------------+--------------------+ | CentOS Stream 10 | PASS | +------------------------------+--------------------+ Red Hat Enterprise Linux 9.5 Kernel: 5.4 Compiler: gcc gcc (GCC) 11.5.0 20240719 (Red Hat 11.5.0-2) Ubuntu 20.04 Kernel: 5.15 Compiler: aarch64-linux-gnu-gcc gcc (Ubuntu 9.4.0-1ubuntu1~20.04.2) 9.4.0 Debian GNU/Linux 12 Kernel: 5.4 Compiler: gcc gcc (Debian 12.2.0-14+deb12u1) 12.2.0 Fedora Linux 42 Kernel: 5.4 Compiler: clang gcc (GCC) 15.2.1 20250808 (Red Hat 15.2.1-1) Ubuntu 22.04 Kernel: 5.4 Compiler: gcc gcc (Ubuntu 11.4.0-1ubuntu1~22.04) 11.4.0 Ubuntu 24.04 Kernel: 5.4 Compiler: gcc gcc (Ubuntu 13.3.0-6ubuntu2~24.04) 13.3.0 CentOS Stream 9 Kernel: 5.4 Compiler: gcc gcc (GCC) 11.5.0 20240719 (Red Hat 11.5.0-11) CentOS Stream 10 Kernel: 5.4 Compiler: gcc gcc (GCC) 14.2.1 20250110 (Red Hat 14.2.1-8) To view detailed results, visit: https://lab.dpdk.org/results/dashboard/patchsets/34248/ UNH-IOL DPDK Community Lab To manage your email subscriptions, visit: https://lab.dpdk.org/results/dashboard/preferences/subscriptions/