From mboxrd@z Thu Jan 1 00:00:00 1970 Return-Path: Received: from mails.dpdk.org (mails.dpdk.org [217.70.189.124]) by inbox.dpdk.org (Postfix) with ESMTP id 89FC4488FF for ; Fri, 10 Oct 2025 14:43:09 +0200 (CEST) Received: from mails.dpdk.org (localhost [127.0.0.1]) by mails.dpdk.org (Postfix) with ESMTP id 6506C4026F; Fri, 10 Oct 2025 14:43:09 +0200 (CEST) Received: from mail-qv1-f99.google.com (mail-qv1-f99.google.com [209.85.219.99]) by mails.dpdk.org (Postfix) with ESMTP id DD6E24026F for ; Fri, 10 Oct 2025 14:43:08 +0200 (CEST) Received: by mail-qv1-f99.google.com with SMTP id 6a1803df08f44-879b99b7ca8so22914216d6.0 for ; Fri, 10 Oct 2025 05:43:08 -0700 (PDT) DKIM-Signature: v=1; a=rsa-sha256; c=relaxed/relaxed; d=iol.unh.edu; s=unh-iol; t=1760100188; x=1760704988; darn=dpdk.org; h=cc:to:from:subject:message-id:date:from:to:cc:subject:date :message-id:reply-to; bh=s9V0IynBmYLv0Z84fBwZ93T3OixbXf8ZK6VIwz/jLZA=; b=Hy3iMJsj3h5YfN/zoFZsfPOWB0E8tccVLrjj6U8o/GBJVCErBgV1XC4T1zp6bteDJk S6ge49gtGDZY7hqZ4eobDJNdPpO9076NfJt2vRku0o/eLXWidB89ob6C/CEpBEOFPaOk E8WXkRrQCAv5fm13gl/p+GNvKgSwWUBYbXCmM= X-Google-DKIM-Signature: v=1; a=rsa-sha256; c=relaxed/relaxed; d=1e100.net; s=20230601; t=1760100188; x=1760704988; h=cc:to:from:subject:message-id:date:x-gm-message-state:from:to:cc :subject:date:message-id:reply-to; bh=s9V0IynBmYLv0Z84fBwZ93T3OixbXf8ZK6VIwz/jLZA=; b=IoTYBcBZp4/T3Ol72PCRiaTvsgcfhWvulto2SnPqtLU/woUNXYpnTVgVLjhWTd2Lw1 QfJg+T0mKIx0vkb/Y0+prUnA6so8ANpSermnV1Gec5EfDdu8b+cAUZzT/PaaQyF4fi0V fnQktBHAjLZqe7D0s/fUBjqMkKvd8EL7tFr8gEO09SkPY7B/w4uVp45Kz3etMaa/OcyI xK4BWDrOOXe7AKak1eToW2P7ebBbKWllaT+QG2AWAoMiJHBN4GnbKlOU4MbMXXnCitIQ d1VgkbIF1CKt9rsypDeiZQ3UsNaOMP7XlNKgmINjcIYKOKuP4juEvlUds9f4uGt1E9Pj VDZw== X-Gm-Message-State: AOJu0YwX+awfH6SoC2ioVl5Z+UHS7FpAQBGiE08VBxO6jHT28MnNQIkD rB2YlevuzUl3HDPRuFvDTEW85u37VWUQVdby7953NPmN1DTn76cKTTAhVhQKLenOX2LBKYwmzW9 L+E/U5G5/yoQhDZanERxq4r9FoRqoKLF85Uuyo9HtJuvn X-Gm-Gg: ASbGncsCMFqCASIICGf1NxrxzSptwrhWJX2DoUGlYR/vsbesjMllZ3wxeDt559hqxtJ 005C1zoCMsdGxUI0XQKAuTAFMg9Pl5d/ZaiuP1qKQ3q6zECRSndBPzsuotPONpYtTqG56EmpGtW bCUZ+MtnDiKNyhYGUUHu5IyyCmJJUmUS+iJmQTx75gXD0V2ttK1FghxVNQOpQPqkBWWNmJJiMp0 8M4chW0d1/UfsIVIIWHDbtlSYhfgoliIvHdvMuwfQHiXrSja0XfwXRBWxu/2W2tpviT8MQCDzTS RnlLSfNKivIYonWJ7NeFGGPdAEVW8yoEXxmmEnSp5SCUxUb5E8bqUMHL2MOTW6m+GOrkRk7W X-Google-Smtp-Source: AGHT+IEp7x6M2/bn/WvFKsOW2SE47OQkQ6GqDrz0DSetIFm2oSb9G7179nD5XpcXqRH3QqbNm0GY/OJns7S0 X-Received: by 2002:ad4:5ec8:0:b0:77d:bc4e:e0e5 with SMTP id 6a1803df08f44-87b2103c7b0mr158121956d6.14.1760100188088; Fri, 10 Oct 2025 05:43:08 -0700 (PDT) Received: from postal.iol.unh.edu (postal.iol.unh.edu. [132.177.123.84]) by smtp-relay.gmail.com with ESMTPS id 6a1803df08f44-87bc3513e49sm1596226d6.24.2025.10.10.05.43.08 (version=TLS1_2 cipher=ECDHE-ECDSA-AES128-GCM-SHA256 bits=128/128); Fri, 10 Oct 2025 05:43:08 -0700 (PDT) X-Relaying-Domain: iol.unh.edu Date: Fri, 10 Oct 2025 05:43:08 -0700 (PDT) Message-ID: <68e8ff5c.050a0220.16b3d6.8572SMTPIN_ADDED_MISSING@mx.google.com> Received: from [172.21.0.2] (unknown [172.18.0.240]) by postal.iol.unh.edu (Postfix) with ESMTP id C23786051830; Fri, 10 Oct 2025 08:43:07 -0400 (EDT) Subject: |SUCCESS| [GIT MASTER] 2b403dd8fb37d0ba13723e44ffc7ee2c2795f838 From: dpdklab@iol.unh.edu To: Test Report Cc: dpdk-test-reports@iol.unh.edu Content-Type: text/plain X-BeenThere: test-report@dpdk.org X-Mailman-Version: 2.1.29 Precedence: list List-Id: automatic DPDK test reports List-Unsubscribe: , List-Archive: List-Post: List-Help: List-Subscribe: , Errors-To: test-report-bounces@dpdk.org _Testing PASS_ Branch: dpdk 2b403dd8fb37d0ba13723e44ffc7ee2c2795f838 --> testing pass Upstream job id: Generic-Unit-Test-DPDK#380013 Test environment and result as below: +------------------------------+---------------------------+----------------+--------------+------------------------------+ | Environment | cryptodev_sw_zuc_autotest | dpdk_unit_test | lpm_autotest | cryptodev_sw_snow3g_autotest | +==============================+===========================+================+==============+==============================+ | Debian 12 (arm) | PASS | SKIPPED | SKIPPED | PASS | +------------------------------+---------------------------+----------------+--------------+------------------------------+ | CentOS Stream 9 | SKIPPED | PASS | SKIPPED | SKIPPED | +------------------------------+---------------------------+----------------+--------------+------------------------------+ | CentOS Stream 10 | SKIPPED | PASS | SKIPPED | SKIPPED | +------------------------------+---------------------------+----------------+--------------+------------------------------+ | Debian GNU/Linux 12 | SKIPPED | PASS | SKIPPED | SKIPPED | +------------------------------+---------------------------+----------------+--------------+------------------------------+ | Fedora Linux 40 | SKIPPED | PASS | SKIPPED | SKIPPED | +------------------------------+---------------------------+----------------+--------------+------------------------------+ | Fedora Linux 41 | SKIPPED | PASS | SKIPPED | SKIPPED | +------------------------------+---------------------------+----------------+--------------+------------------------------+ | Fedora Linux 42 | SKIPPED | PASS | SKIPPED | SKIPPED | +------------------------------+---------------------------+----------------+--------------+------------------------------+ | Red Hat Enterprise Linux 9.5 | SKIPPED | PASS | SKIPPED | SKIPPED | +------------------------------+---------------------------+----------------+--------------+------------------------------+ | Ubuntu 24.04 | SKIPPED | PASS | SKIPPED | SKIPPED | +------------------------------+---------------------------+----------------+--------------+------------------------------+ | Ubuntu 22.04 | SKIPPED | PASS | SKIPPED | SKIPPED | +------------------------------+---------------------------+----------------+--------------+------------------------------+ | Ubuntu 20.04 | SKIPPED | PASS | PASS | SKIPPED | +------------------------------+---------------------------+----------------+--------------+------------------------------+ Debian 12 (arm) Kernel: Depends on container host Compiler: gcc (Debian 12.2.0-14) 12.2.0 CentOS Stream 9 Kernel: 5.4 Compiler: gcc gcc (GCC) 11.5.0 20240719 (Red Hat 11.5.0-11) CentOS Stream 10 Kernel: 5.4 Compiler: gcc gcc (GCC) 14.2.1 20250110 (Red Hat 14.2.1-8) Debian GNU/Linux 12 Kernel: 5.4 Compiler: gcc gcc (Debian 12.2.0-14+deb12u1) 12.2.0 Fedora Linux 40 Kernel: 5.4 Compiler: gcc gcc (GCC) 14.2.1 20240912 (Red Hat 14.2.1-3) Fedora Linux 41 Kernel: 5.4 Compiler: clang gcc (GCC) 14.3.1 20250523 (Red Hat 14.3.1-1) Fedora Linux 42 Kernel: 5.4 Compiler: gcc gcc (GCC) 15.2.1 20250808 (Red Hat 15.2.1-1) Red Hat Enterprise Linux 9.5 Kernel: 5.4 Compiler: gcc gcc (GCC) 11.5.0 20240719 (Red Hat 11.5.0-2) Ubuntu 24.04 Kernel: 5.4 Compiler: gcc gcc (Ubuntu 13.3.0-6ubuntu2~24.04) 13.3.0 Ubuntu 22.04 Kernel: 5.4 Compiler: gcc gcc (Ubuntu 11.4.0-1ubuntu1~22.04) 11.4.0 Ubuntu 20.04 Kernel: 5.4 Compiler: gcc gcc (Ubuntu 9.4.0-1ubuntu1~20.04.2) 9.4.0 To view detailed results, visit: https://lab.dpdk.org/results/dashboard/tarballs/35159/ UNH-IOL DPDK Community Lab To manage your email subscriptions, visit: https://lab.dpdk.org/results/dashboard/preferences/subscriptions/