From mboxrd@z Thu Jan 1 00:00:00 1970 Return-Path: Received: from mails.dpdk.org (mails.dpdk.org [217.70.189.124]) by inbox.dpdk.org (Postfix) with ESMTP id 99E5C488FF for ; Fri, 10 Oct 2025 15:27:38 +0200 (CEST) Received: from mails.dpdk.org (localhost [127.0.0.1]) by mails.dpdk.org (Postfix) with ESMTP id 785FE4027A; Fri, 10 Oct 2025 15:27:38 +0200 (CEST) Received: from mail-io1-f98.google.com (mail-io1-f98.google.com [209.85.166.98]) by mails.dpdk.org (Postfix) with ESMTP id 214624027A for ; Fri, 10 Oct 2025 15:27:37 +0200 (CEST) Received: by mail-io1-f98.google.com with SMTP id ca18e2360f4ac-91e578e2a61so89343839f.2 for ; Fri, 10 Oct 2025 06:27:37 -0700 (PDT) DKIM-Signature: v=1; a=rsa-sha256; c=relaxed/relaxed; d=iol.unh.edu; s=unh-iol; t=1760102856; x=1760707656; darn=dpdk.org; h=cc:to:from:subject:message-id:date:from:to:cc:subject:date :message-id:reply-to; bh=VmUDYNNK1hjG1/OaqI7OPiiVAFjv3u0X56kC7P7A6XI=; b=RECin0z4GMh3yZK2EDM7zHQyxRlRyYLLxeSYtUXS4qOfjTTY4RYUccZLzAvneBPgfL N1SBpgkF9D9hamXi9rJrdk9wZ8PWA+f/QV42ubRNCfqAUqp64TOLo2JrZ7EP5JCEus6j smWmjygVFIMLqogI4+RJOf6As3SUbQXP3gY50= X-Google-DKIM-Signature: v=1; a=rsa-sha256; c=relaxed/relaxed; d=1e100.net; s=20230601; t=1760102856; x=1760707656; h=cc:to:from:subject:message-id:date:x-gm-message-state:from:to:cc :subject:date:message-id:reply-to; bh=VmUDYNNK1hjG1/OaqI7OPiiVAFjv3u0X56kC7P7A6XI=; b=ncM7nYVtUQRGn6aM1RVVSVbzlFq1+bJmEOyxzsBRgDYVKKm1NrxW65xf5he1Jvuw+a 6Ow4lY0YqGHAiwQsDGTk5gwrsZni3q+DODeIfuHqcvs9U4k4Jr9uPLrxoDN85dGuii4V 0UaUn149LZVTvS4JGjQLTCx4GHPwTM4252UvlgPzdebJHyBXeMbE+mqQ58pwaiPDoDX5 FwrSZMXJfu/5o7OXe3gCKqn5dMrf6pjR7fGqa8KRmdXfE23HBFvGMrd91zWkhJonC20b 7HgM3YKo8e+l5NcziSjTW3thB9OER5wMHX4cpGatkJxYN1qPI8ZWY9zvGCIp5YcD8o66 7B/w== X-Gm-Message-State: AOJu0Yx8tjfDDqKm0HwsHcOo4mWyiJ5ieC9+KizmZ0j6b8Hp+RDnPPU/ Vba+IqannHSScqAdCw99LXiZJS4YOagS3bHHg2qTTjMf2TyEiYQBFMr7+QEV0sTPF84n55lDMjn x2qZsLhDIAonOfT4jdPNxuFcF/ifkSIMiJhXu4KWe2AOLBdTLf2wd X-Gm-Gg: ASbGncuaKkLBu5bHz07E40spE6z+cmcNYymCx4yiK5GFvA9xCB/tdIYs1dZHkmoRqGt K5BjgFihJ6How1ZgLWEwGeH3256P2I6FZ7emG9loVhOkfrsRUOsrtWQMu51JRSyUcXxIK9YotNz j/7n2HTn7Mw1UTnXTndvO+HPnhjoUS2+UH1l5QD4B36KEUGziflHckmx+2XJ/kaL/VZKaDn5xCj E9KYpkbtkPJiWKiubW7A2esHuPqnTpxX0dcZtCk35o78BGKmmH89XZSbOy02kwSIx1QEBM8TlVH yG4BxgYvKmlC1YPmog== X-Google-Smtp-Source: AGHT+IGjXi4UfuxqFp8PcigeUXPkL6+vQDwvlcKOnA7q4Kg/bYBfFbqY0MaReYHpSc6lRE8/Mohh9WK2pZ8n X-Received: by 2002:a05:6602:7404:b0:93e:2699:a45e with SMTP id ca18e2360f4ac-93e2699a5femr343223939f.17.1760102856385; Fri, 10 Oct 2025 06:27:36 -0700 (PDT) Received: from postal.iol.unh.edu (postal.iol.unh.edu. [2606:4100:3880:1234::84]) by smtp-relay.gmail.com with ESMTPS id ca18e2360f4ac-93e2594e7easm16590539f.4.2025.10.10.06.27.36 (version=TLS1_2 cipher=ECDHE-ECDSA-AES128-GCM-SHA256 bits=128/128); Fri, 10 Oct 2025 06:27:36 -0700 (PDT) X-Relaying-Domain: iol.unh.edu Date: Fri, 10 Oct 2025 06:27:36 -0700 (PDT) Message-ID: <68e909c8.050a0220.3ae565.8cebSMTPIN_ADDED_MISSING@mx.google.com> Received: from [172.21.0.2] (unknown [172.18.0.240]) by postal.iol.unh.edu (Postfix) with ESMTP id 7BC6D6051830; Fri, 10 Oct 2025 09:27:35 -0400 (EDT) Subject: |SUCCESS| [GIT MASTER] 3b43ce3f4a54468e7ef65760c2fd7b4d6ee6d9fc From: dpdklab@iol.unh.edu To: Test Report Cc: dpdk-test-reports@iol.unh.edu, Xueming Li , Christian Ehrhardt , Kevin Traynor , Luca Boccassi Content-Type: text/plain X-BeenThere: test-report@dpdk.org X-Mailman-Version: 2.1.29 Precedence: list List-Id: automatic DPDK test reports List-Unsubscribe: , List-Archive: List-Post: List-Help: List-Subscribe: , Errors-To: test-report-bounces@dpdk.org _Testing PASS_ Branch: tags/v22.11 3b43ce3f4a54468e7ef65760c2fd7b4d6ee6d9fc --> testing pass Upstream job id: Generic-Unit-Test-DPDK#380039 Test environment and result as below: +-----------------+------------------------------+---------------------------+--------------+----------------+ | Environment | cryptodev_sw_snow3g_autotest | cryptodev_sw_zuc_autotest | lpm_autotest | dpdk_unit_test | +=================+==============================+===========================+==============+================+ | Debian 12 (arm) | PASS | PASS | SKIPPED | SKIPPED | +-----------------+------------------------------+---------------------------+--------------+----------------+ | Ubuntu 20.04 | SKIPPED | SKIPPED | PASS | SKIPPED | +-----------------+------------------------------+---------------------------+--------------+----------------+ | Ubuntu 22.04 | SKIPPED | SKIPPED | SKIPPED | PASS | +-----------------+------------------------------+---------------------------+--------------+----------------+ Debian 12 (arm) Kernel: Depends on container host Compiler: gcc (Debian 12.2.0-14) 12.2.0 Ubuntu 20.04 Kernel: 5.4 Compiler: gcc gcc (Ubuntu 9.4.0-1ubuntu1~20.04.2) 9.4.0 Ubuntu 22.04 Kernel: 5.15 Compiler: gcc gcc (Ubuntu 11.4.0-1ubuntu1~22.04.2) 11.4.0 To view detailed results, visit: https://lab.dpdk.org/results/dashboard/tarballs/35160/ UNH-IOL DPDK Community Lab To manage your email subscriptions, visit: https://lab.dpdk.org/results/dashboard/preferences/subscriptions/