From mboxrd@z Thu Jan 1 00:00:00 1970 Return-Path: Received: from mails.dpdk.org (mails.dpdk.org [217.70.189.124]) by inbox.dpdk.org (Postfix) with ESMTP id 378C648900 for ; Fri, 10 Oct 2025 16:06:00 +0200 (CEST) Received: from mails.dpdk.org (localhost [127.0.0.1]) by mails.dpdk.org (Postfix) with ESMTP id 1B61E4003C; Fri, 10 Oct 2025 16:06:00 +0200 (CEST) Received: from mail-yw1-f225.google.com (mail-yw1-f225.google.com [209.85.128.225]) by mails.dpdk.org (Postfix) with ESMTP id 7C7944003C for ; Fri, 10 Oct 2025 16:05:58 +0200 (CEST) Received: by mail-yw1-f225.google.com with SMTP id 00721157ae682-71d71bcab69so19317417b3.0 for ; Fri, 10 Oct 2025 07:05:58 -0700 (PDT) DKIM-Signature: v=1; a=rsa-sha256; c=relaxed/relaxed; d=iol.unh.edu; s=unh-iol; t=1760105158; x=1760709958; darn=dpdk.org; h=references:in-reply-to:cc:to:from:subject:message-id:date:from:to :cc:subject:date:message-id:reply-to; bh=UOBjoOv68cuLKhlcvRAFJajEadSdPeYtOgYeiDpdd9k=; b=TbDDSo6jj2h3P02iKyeTq8UrbMhssTKeS7u9UQ5UwOWQV0pz4GDj6vqjrIpi7b6s/D Su1ZMuVW+EYLxnncHtrDMuv3nGYlOmfVpz2D2XEAOjQpe1ChRznBb872Jbd1xCokLS5X DVe9Sko72oba1NZ31FGAzNgDipA9CvOTtR/F4= X-Google-DKIM-Signature: v=1; a=rsa-sha256; c=relaxed/relaxed; d=1e100.net; s=20230601; t=1760105158; x=1760709958; h=references:in-reply-to:cc:to:from:subject:message-id:date :x-gm-message-state:from:to:cc:subject:date:message-id:reply-to; bh=UOBjoOv68cuLKhlcvRAFJajEadSdPeYtOgYeiDpdd9k=; b=pEifHJxd8j+gkUIXPEQEw31WGZJwr+YAANfHsY5t7nvrISGNExmELIwYi9ODYwtc+/ VUwxrFvN+bohYqnLQ9GSwhIszp/Wz4GpGsid0oIhKnjxrX8lhDqZDwUB5AdUZVlpCxwr cbU3M06rxKi5pF4fqs4hhZf5QyTLurJ9JjRkhfObHzNLFxr/lbXp/lMytUzlPoJYZsVF GgpuNKYKe7hgZBYguepTznALKB6AQQskP389kVm3qflWAzVdnWvV+sreD+0QArV/eLa0 NTBzKA5d2JjfcO4o/s3QRHhXlxDsejAE3ErVDLgstxR6kXIh32ZK4ol1HeAr/DBKckCc R4sw== X-Gm-Message-State: AOJu0YxqNlqZkPSR9b21Dhxv+eRNvySY5VRqkwtjPVFO3jWm8Jjdsk2C XzBkymTHk+4yNsLZdqYIyYEbOLNdI7ix2VkUhKasPCvbUJTgeIWWivXLrsK4Ay+ZbHNz/OEi6uy qee7qDcvPfKIWAfuXBURTQOLwQMoiiEhrr9cjZNB1AjMG X-Gm-Gg: ASbGncvabDEtQIehobmTtpL0QqSUhffTGo4aC/POnse2BX2fDiaVKLQp50o1Dkq8w1M u3I50doHDPRslCvl8zyddL66sjw8G/I/6Zlw8rDeGenRlzC7r5A3rSu2TWnNAFq1pK65OXDMBU5 N+yzrHcuWYjmr6vkc+24BRU81G/OE/C0ZQVzlWaOOD+/ncM5BbHjG50tqnz0xHYbkgD4eA++xj2 QdzsXvt4RDJEq32nw2SevjKGX9zsi/7svBoBrZm9H+wijqhhtiXRCtbFnHzt2R1hGOMqPwfAPFJ T3VX/h6lk5KUBXpp9JXk+beLtF2bRoIljweG4w2d9QbdoJq7mRQcM1t9HMTbHp8IJShiMXLI X-Google-Smtp-Source: AGHT+IFt+i5t/BSujKh3uIwXFpHgs5EKEjjFtDagUg7S/YoBQMR4ZqIBurcgbJO2W4OkCzn8aTdKpRzC+1RN X-Received: by 2002:a05:690c:4b8b:b0:74e:b54c:49f0 with SMTP id 00721157ae682-780e1473700mr140500647b3.19.1760105157635; Fri, 10 Oct 2025 07:05:57 -0700 (PDT) Received: from postal.iol.unh.edu (postal.iol.unh.edu. [132.177.123.84]) by smtp-relay.gmail.com with ESMTPS id 00721157ae682-78106fbe05fsm1384327b3.24.2025.10.10.07.05.57 (version=TLS1_2 cipher=ECDHE-ECDSA-AES128-GCM-SHA256 bits=128/128); Fri, 10 Oct 2025 07:05:57 -0700 (PDT) X-Relaying-Domain: iol.unh.edu Date: Fri, 10 Oct 2025 07:05:57 -0700 (PDT) Message-ID: <68e912c5.050a0220.129b7c.73e6SMTPIN_ADDED_MISSING@mx.google.com> Received: from [172.21.0.2] (unknown [172.18.0.240]) by postal.iol.unh.edu (Postfix) with ESMTP id 4C2B8604D420; Fri, 10 Oct 2025 10:05:57 -0400 (EDT) Subject: |SUCCESS| pw157451 [PATCH] net/e1000: fix crash when built with GCC From: dpdklab@iol.unh.edu To: Test Report Cc: dpdk-test-reports@iol.unh.edu, Bruce Richardson In-Reply-To: <20251010125848.965340-1-ciara.loftus@intel.com> References: <20251010125848.965340-1-ciara.loftus@intel.com> Content-Type: text/plain X-BeenThere: test-report@dpdk.org X-Mailman-Version: 2.1.29 Precedence: list List-Id: automatic DPDK test reports List-Unsubscribe: , List-Archive: List-Post: List-Help: List-Subscribe: , Errors-To: test-report-bounces@dpdk.org Test-Label: iol-unit-amd64-testing Test-Status: SUCCESS http://dpdk.org/patch/157451 _Testing PASS_ Submitter: Loftus, Ciara Date: Friday, October 10 2025 12:58:48 DPDK git baseline: Repo:dpdk-next-net-intel Branch: master CommitID:d0eb31b594b42fb1dd4e8f2afad3e2a5f1846c1a 157451 --> testing pass Upstream job id: Generic-VM-Unit-Test-DPDK#31712 Test environment and result as below: +-------------------------------+----------------+ | Environment | dpdk_unit_test | +===============================+================+ | CentOS Stream 9 | PASS | +-------------------------------+----------------+ | Debian GNU/Linux 12 | PASS | +-------------------------------+----------------+ | CentOS Stream 10 | PASS | +-------------------------------+----------------+ | Fedora Linux 40 | PASS | +-------------------------------+----------------+ | Windows Server 2022 | PASS | +-------------------------------+----------------+ | Fedora Linux 41 | PASS | +-------------------------------+----------------+ | Fedora Linux 42 | PASS | +-------------------------------+----------------+ | Ubuntu 24.04 | PASS | +-------------------------------+----------------+ | Red Hat Enterprise Linux 9.5 | PASS | +-------------------------------+----------------+ | Ubuntu 20.04 | PASS | +-------------------------------+----------------+ | Ubuntu 22.04 | PASS | +-------------------------------+----------------+ | Red Hat Enterprise Linux 8.10 | PASS | +-------------------------------+----------------+ CentOS Stream 9 Kernel: 5.15 Compiler: gcc gcc (GCC) 11.5.0 20240719 (Red Hat 11.5.0-11) Debian GNU/Linux 12 Kernel: 5.15 Compiler: gcc gcc (Debian 12.2.0-14+deb12u1) 12.2.0 CentOS Stream 10 Kernel: 5.15 Compiler: gcc gcc (GCC) 14.2.1 20250110 (Red Hat 14.2.1-8) Fedora Linux 40 Kernel: 5.15 Compiler: gcc gcc (GCC) 14.2.1 20240912 (Red Hat 14.2.1-3) Windows Server 2022 Kernel: 10.0.20348.2031 Compiler: clang 15.0.7, gcc 14.1.0 (MinGW), and MSVC VS 19.39.33521 Fedora Linux 41 Kernel: 5.15 Compiler: gcc gcc (GCC) 14.3.1 20250523 (Red Hat 14.3.1-1) Fedora Linux 42 Kernel: 5.15 Compiler: gcc gcc (GCC) 15.2.1 20250808 (Red Hat 15.2.1-1) Ubuntu 24.04 Kernel: 5.15 Compiler: gcc gcc (Ubuntu 13.3.0-6ubuntu2~24.04) 13.3.0 Red Hat Enterprise Linux 9.5 Kernel: 5.15 Compiler: gcc gcc (GCC) 11.5.0 20240719 (Red Hat 11.5.0-2) Ubuntu 20.04 Kernel: 5.15 Compiler: gcc gcc (Ubuntu 9.4.0-1ubuntu1~20.04.2) 9.4.0 Ubuntu 22.04 Kernel: 5.15 Compiler: gcc gcc (Ubuntu 11.4.0-1ubuntu1~22.04) 11.4.0 Red Hat Enterprise Linux 8.10 Kernel: 5.15 Compiler: gcc gcc (GCC) 8.5.0 20210514 (Red Hat 8.5.0-22) To view detailed results, visit: https://lab.dpdk.org/results/dashboard/patchsets/34251/ UNH-IOL DPDK Community Lab To manage your email subscriptions, visit: https://lab.dpdk.org/results/dashboard/preferences/subscriptions/