From mboxrd@z Thu Jan 1 00:00:00 1970 Return-Path: Received: from mails.dpdk.org (mails.dpdk.org [217.70.189.124]) by inbox.dpdk.org (Postfix) with ESMTP id 761E448900 for ; Fri, 10 Oct 2025 16:19:06 +0200 (CEST) Received: from mails.dpdk.org (localhost [127.0.0.1]) by mails.dpdk.org (Postfix) with ESMTP id 5AD974003C; Fri, 10 Oct 2025 16:19:06 +0200 (CEST) Received: from mail-vs1-f99.google.com (mail-vs1-f99.google.com [209.85.217.99]) by mails.dpdk.org (Postfix) with ESMTP id 48DE44003C for ; Fri, 10 Oct 2025 16:19:04 +0200 (CEST) Received: by mail-vs1-f99.google.com with SMTP id ada2fe7eead31-5997f407c85so733596137.2 for ; Fri, 10 Oct 2025 07:19:04 -0700 (PDT) DKIM-Signature: v=1; a=rsa-sha256; c=relaxed/relaxed; d=iol.unh.edu; s=unh-iol; t=1760105943; x=1760710743; darn=dpdk.org; h=cc:to:from:subject:message-id:date:from:to:cc:subject:date :message-id:reply-to; bh=RMnfE3mnknVm0U9kBIYyZTmqUkuCn/5IvnWaeco8U9Q=; b=WKyHj7GmQzzRHa77GXHhUbKY14cObPUbMgL6qDgrwtt/aOXJi9Eja4r417OSd0/f5g 75eOI2yqT7ep+d2wJkAFb6iWizBEcauYVT+pqHk2CzJStxBd/YKPRFbLJMhTlGzUBSVg aIO89rXTSDpOy48HlGHoJUcnCu+05ktW8Qogw= X-Google-DKIM-Signature: v=1; a=rsa-sha256; c=relaxed/relaxed; d=1e100.net; s=20230601; t=1760105943; x=1760710743; h=cc:to:from:subject:message-id:date:x-gm-message-state:from:to:cc :subject:date:message-id:reply-to; bh=RMnfE3mnknVm0U9kBIYyZTmqUkuCn/5IvnWaeco8U9Q=; b=DxXqlLU0t79EdiT0doW4waZtj5hEbGRLPty9hNVRFmjLo1vtzUGh2YoSyL6AU2Gig5 41zYqF5o/rS/vb2B8yDmgzFXaUtzFDLxEQT8WFFy+8QOqFbNLeESqflYFaXC3GICXVWT IG1B6xkUmxISyoso4t+LOV3AWCr1Lnny42tEjzdFUuEIpL8V5rWHGYRZnvfeQVyq7UgV w6Gx3Xj/QWM3fq9Ear2ExMC+RxCJNKv/+fIKbZRixrHOFnZggFid3xtM1iPFtuCmbu4A LajfrOvUxKQxuxHMuXpxeAag4G2cc3UaOXxyA8Ra1AHJT0daTfA3YdxlvA1+LZYGY192 DlvA== X-Gm-Message-State: AOJu0YyDB4PPFy1+n0Q+i/nYNDt6+utLDHsVQ774AUHxuQ0xHpxaP2qL MCQCp3hJtIswhIAErOHEYfTD5SF26lHNOG8UdJju7I//3gnMNDnc73YQiaK5ACEarVjmej8X3Bg XiUkbnnf67yKZjkQouqzDcRAq1n2hap3TTcih X-Gm-Gg: ASbGncui9GsIQpCrJ9uZnYpEjU4S6uw8dyFKtoo/MJi09uIjODnUPLJ6kshsmHHEnQ9 D3DrcCK8WsC3J3V5lODNO+BQOCfUSpIIq1a6uo1NuDk0q5YiDRWjK/NFo0D0nSSXBM1UsKYdov3 44m/3H51GTY6c6pEq+7Hpg0e/uE1wWgB2MfSWz4TvYtoYZMEv+w2ZPEDNtlGrgsDnNsbCSlDFC5 Ds8qkaP/FsCB/U+RPCXQ7l3eeoH8WWYFfWs27CKhq8GGntgbWJTU2YGmkvFDwMC+5zPDKyCiI/C VWZjZrvZEWKxb/cabkFxeP+Dzw6ohB9XRzd8AYAx X-Google-Smtp-Source: AGHT+IGW2ZE+M6fuKuKiP16KzF10KgWOaTLp1Q9jSC2X9K/kkXcsHbzQReDE5Kkto65dSRyZ1CU6O5DABhe8 X-Received: by 2002:a67:e119:0:20b0:5d5:f6ae:38d8 with SMTP id ada2fe7eead31-5d5f6ae3c70mr1608162137.45.1760105943442; Fri, 10 Oct 2025 07:19:03 -0700 (PDT) Received: from postal.iol.unh.edu (postal.iol.unh.edu. [132.177.123.84]) by smtp-relay.gmail.com with ESMTPS id a1e0cc1a2514c-930bf6b3b70sm49414241.2.2025.10.10.07.19.03 (version=TLS1_2 cipher=ECDHE-ECDSA-AES128-GCM-SHA256 bits=128/128); Fri, 10 Oct 2025 07:19:03 -0700 (PDT) X-Relaying-Domain: iol.unh.edu Date: Fri, 10 Oct 2025 07:19:03 -0700 (PDT) Message-ID: <68e915d7.050a0220.123a13.2882SMTPIN_ADDED_MISSING@mx.google.com> Received: from [172.21.0.2] (unknown [172.18.0.240]) by postal.iol.unh.edu (Postfix) with ESMTP id 0C5AD6051830; Fri, 10 Oct 2025 10:19:03 -0400 (EDT) Subject: |SUCCESS| [GIT MASTER] d0eb31b594b42fb1dd4e8f2afad3e2a5f1846c1a From: dpdklab@iol.unh.edu To: Test Report Cc: dpdk-test-reports@iol.unh.edu, Bruce Richardson Content-Type: text/plain X-BeenThere: test-report@dpdk.org X-Mailman-Version: 2.1.29 Precedence: list List-Id: automatic DPDK test reports List-Unsubscribe: , List-Archive: List-Post: List-Help: List-Subscribe: , Errors-To: test-report-bounces@dpdk.org _Testing PASS_ Branch: dpdk-next-net-intel d0eb31b594b42fb1dd4e8f2afad3e2a5f1846c1a --> testing pass Upstream job id: Generic-DPDK-Compile-Meson#433195 Test environment and result as below: +------------------------------+--------------------+ | Environment | dpdk_meson_compile | +==============================+====================+ | Ubuntu 20.04 | PASS | +------------------------------+--------------------+ | Ubuntu 22.04 | PASS | +------------------------------+--------------------+ | Fedora Linux 42 | PASS | +------------------------------+--------------------+ | Debian GNU/Linux 12 | PASS | +------------------------------+--------------------+ | Red Hat Enterprise Linux 9.5 | PASS | +------------------------------+--------------------+ | Ubuntu 24.04 | PASS | +------------------------------+--------------------+ | CentOS Stream 10 | PASS | +------------------------------+--------------------+ | CentOS Stream 9 | PASS | +------------------------------+--------------------+ Ubuntu 20.04 Kernel: 5.15 Compiler: clang gcc (Ubuntu 9.4.0-1ubuntu1~20.04.2) 9.4.0 Ubuntu 22.04 Kernel: 5.4 Compiler: gcc gcc (Ubuntu 11.4.0-1ubuntu1~22.04) 11.4.0 Fedora Linux 42 Kernel: 5.4 Compiler: gcc gcc (GCC) 15.2.1 20250808 (Red Hat 15.2.1-1) Debian GNU/Linux 12 Kernel: 5.4 Compiler: gcc gcc (Debian 12.2.0-14+deb12u1) 12.2.0 Red Hat Enterprise Linux 9.5 Kernel: 5.4 Compiler: gcc gcc (GCC) 11.5.0 20240719 (Red Hat 11.5.0-2) Ubuntu 24.04 Kernel: 5.4 Compiler: gcc gcc (Ubuntu 13.3.0-6ubuntu2~24.04) 13.3.0 CentOS Stream 10 Kernel: 5.4 Compiler: gcc gcc (GCC) 14.2.1 20250110 (Red Hat 14.2.1-8) CentOS Stream 9 Kernel: 5.4 Compiler: gcc gcc (GCC) 11.5.0 20240719 (Red Hat 11.5.0-11) To view detailed results, visit: https://lab.dpdk.org/results/dashboard/tarballs/35167/ UNH-IOL DPDK Community Lab To manage your email subscriptions, visit: https://lab.dpdk.org/results/dashboard/preferences/subscriptions/