From mboxrd@z Thu Jan 1 00:00:00 1970 Return-Path: Received: from mails.dpdk.org (mails.dpdk.org [217.70.189.124]) by inbox.dpdk.org (Postfix) with ESMTP id 2D85348900 for ; Fri, 10 Oct 2025 16:24:48 +0200 (CEST) Received: from mails.dpdk.org (localhost [127.0.0.1]) by mails.dpdk.org (Postfix) with ESMTP id 10A3E4003C; Fri, 10 Oct 2025 16:24:48 +0200 (CEST) Received: from mail-pj1-f98.google.com (mail-pj1-f98.google.com [209.85.216.98]) by mails.dpdk.org (Postfix) with ESMTP id 19B284003C for ; Fri, 10 Oct 2025 16:24:47 +0200 (CEST) Received: by mail-pj1-f98.google.com with SMTP id 98e67ed59e1d1-3306d3ab2e4so2234667a91.3 for ; Fri, 10 Oct 2025 07:24:47 -0700 (PDT) DKIM-Signature: v=1; a=rsa-sha256; c=relaxed/relaxed; d=iol.unh.edu; s=unh-iol; t=1760106286; x=1760711086; darn=dpdk.org; h=references:in-reply-to:cc:to:from:subject:message-id:date:from:to :cc:subject:date:message-id:reply-to; bh=bcdW/RirdbLTfLiXZ4EXocyW3RL6C+0Hx54L4SVVpYY=; b=cPekg6yPT1qYT2mS3QBcn3ngQh9MbFNQKhSUeLQfzo1ZQkiFo+PZiTwjTq6bK1J7r4 Dwyn5tGWt4vH0hnBOT4lo7QeJRHoyxT/uw5Esp8Zdxy4MIKhZqnimGtZghDzJW4BqCkf f4q/gaDO6bx/POFAzCt3loGxW/BMqDtQbQeTc= X-Google-DKIM-Signature: v=1; a=rsa-sha256; c=relaxed/relaxed; d=1e100.net; s=20230601; t=1760106286; x=1760711086; h=references:in-reply-to:cc:to:from:subject:message-id:date :x-gm-message-state:from:to:cc:subject:date:message-id:reply-to; bh=bcdW/RirdbLTfLiXZ4EXocyW3RL6C+0Hx54L4SVVpYY=; b=qKtpJElT4HJOJChAkMKUjEYv33srHy8JsRPIPtInzINlygfVYNUEmGP3vHkIGwtTEk CVgCZ9ttNMklX1vY6Lo+yjMwhaWTTexslEL4JojkXGJEb4U+NKccFUy3s5zvAmKlCJdm X+o3Ez4Btuu16RawtZHxlvIsTeXKGjlbbDX4luWFQfQl+0JY6/8wrNoVzgh95CXzOkIf QBR9JUFx2tsiFzkIFDsmEoi9pumASn9NJMBkbM9ESIDmUHwNftiW2HXM8Fo8DBux1cm9 k5OFqEtQ4tK2OD3k8RqxiLGrGhbpJo1g3JQCBWfUsO5CH+5atcdOSU4cwoKTuq7E6nad npvA== X-Gm-Message-State: AOJu0Yw+N41ltTG1X/BQgZmhwbavEDJeuO0tBVnWXskeCBXNi5EXHNVi Qsv8iTnQcRhcbYzzNVS+yZEEwIklh32WC88b30OLx+S3u/JEqm2RAK11ZOV3PxdLIKtFt9R2xlN j11C7I+6aUwFzaVw3aH5IyAHUG8DSPF2f3ogzxtidjGjV X-Gm-Gg: ASbGncs5M6VIt8IxQC5Hf746mLc3sHmwPeqH/V0oUG/tmY/iQ3K3we8i2oGnpLDtmbD vDsh09SiMPDGXyJ+ezi1WTAnaPelRhOhdGXX9XsXQTv+ZubWfV0A7Lz2BZGXdasehW4VwnIS2XW QAQwrZkQJ9UJJ80RR1byaFfRAnQ7pir8+gidnps82kDYw4YfTxIykKYjnA6YUGxcxDRgEqEJHGD Fcw/yh/0VUl4t/UpSSB/XjWDZ/12dN5xVowwE9zJnK8iY7neOwnNnTn1y3YfxDOoZvbM1SdRFXu YyJb1ddY4SQE/mZoyhwx+WkEcZADdDuE0UhjSrrp5US9GiJwivgaYVk7hO9HO2QObk7pqgLI X-Google-Smtp-Source: AGHT+IEWCXehoClI86J93P5YEOE+rFixz24+ryyKove2HqtOrzrdRW3yw3G9GObc4ZOb3b3cpoXXPXaTdki+ X-Received: by 2002:a17:90b:3e82:b0:32e:64ca:e84e with SMTP id 98e67ed59e1d1-33b51149d92mr16940114a91.15.1760106285174; Fri, 10 Oct 2025 07:24:45 -0700 (PDT) Received: from postal.iol.unh.edu (postal.iol.unh.edu. [132.177.123.84]) by smtp-relay.gmail.com with ESMTPS id 98e67ed59e1d1-33b626cfe3dsm245060a91.5.2025.10.10.07.24.45 (version=TLS1_2 cipher=ECDHE-ECDSA-AES128-GCM-SHA256 bits=128/128); Fri, 10 Oct 2025 07:24:45 -0700 (PDT) X-Relaying-Domain: iol.unh.edu Date: Fri, 10 Oct 2025 07:24:45 -0700 (PDT) Message-ID: <68e9172d.170a0220.2a410a.ccb5SMTPIN_ADDED_MISSING@mx.google.com> Received: from [172.21.0.2] (unknown [172.18.0.240]) by postal.iol.unh.edu (Postfix) with ESMTP id 6C6B66051830; Fri, 10 Oct 2025 10:24:44 -0400 (EDT) Subject: |SUCCESS| pw157451 [PATCH] net/e1000: fix crash when built with GCC From: dpdklab@iol.unh.edu To: Test Report Cc: dpdk-test-reports@iol.unh.edu, Bruce Richardson In-Reply-To: <20251010125848.965340-1-ciara.loftus@intel.com> References: <20251010125848.965340-1-ciara.loftus@intel.com> Content-Type: text/plain X-BeenThere: test-report@dpdk.org X-Mailman-Version: 2.1.29 Precedence: list List-Id: automatic DPDK test reports List-Unsubscribe: , List-Archive: List-Post: List-Help: List-Subscribe: , Errors-To: test-report-bounces@dpdk.org Test-Label: iol-compile-amd64-testing Test-Status: SUCCESS http://dpdk.org/patch/157451 _Testing PASS_ Submitter: Loftus, Ciara Date: Friday, October 10 2025 12:58:48 DPDK git baseline: Repo:dpdk-next-net-intel Branch: master CommitID:d0eb31b594b42fb1dd4e8f2afad3e2a5f1846c1a 157451 --> testing pass Upstream job id: Generic-DPDK-Compile-Meson#433211 Test environment and result as below: +-------------------------------+--------------------+-------------------+------------------+-------------------------+-------------------+----------------------+ | Environment | dpdk_meson_compile | dpdk_compile_spdk | dpdk_compile_ovs | dpdk_llvm_clang_compile | dpdk_msvc_compile | dpdk_mingw64_compile | +===============================+====================+===================+==================+=========================+===================+======================+ | CentOS Stream 9 | PASS | PASS | SKIPPED | SKIPPED | SKIPPED | SKIPPED | +-------------------------------+--------------------+-------------------+------------------+-------------------------+-------------------+----------------------+ | CentOS Stream 10 | PASS | SKIPPED | SKIPPED | SKIPPED | SKIPPED | SKIPPED | +-------------------------------+--------------------+-------------------+------------------+-------------------------+-------------------+----------------------+ | Debian GNU/Linux 12 | PASS | PASS | SKIPPED | SKIPPED | SKIPPED | SKIPPED | +-------------------------------+--------------------+-------------------+------------------+-------------------------+-------------------+----------------------+ | Fedora Linux 42 | PASS | PASS | PASS | SKIPPED | SKIPPED | SKIPPED | +-------------------------------+--------------------+-------------------+------------------+-------------------------+-------------------+----------------------+ | Ubuntu 20.04 | PASS | SKIPPED | SKIPPED | SKIPPED | SKIPPED | SKIPPED | +-------------------------------+--------------------+-------------------+------------------+-------------------------+-------------------+----------------------+ | FreeBSD 14.2 | PASS | SKIPPED | SKIPPED | SKIPPED | SKIPPED | SKIPPED | +-------------------------------+--------------------+-------------------+------------------+-------------------------+-------------------+----------------------+ | Red Hat Enterprise Linux 8.10 | PASS | SKIPPED | SKIPPED | SKIPPED | SKIPPED | SKIPPED | +-------------------------------+--------------------+-------------------+------------------+-------------------------+-------------------+----------------------+ | openSUSE Leap 15.6 | PASS | SKIPPED | SKIPPED | SKIPPED | SKIPPED | SKIPPED | +-------------------------------+--------------------+-------------------+------------------+-------------------------+-------------------+----------------------+ | Ubuntu 24.04 | PASS | PASS | PASS | SKIPPED | SKIPPED | SKIPPED | +-------------------------------+--------------------+-------------------+------------------+-------------------------+-------------------+----------------------+ | Ubuntu 22.04 | PASS | PASS | SKIPPED | SKIPPED | SKIPPED | SKIPPED | +-------------------------------+--------------------+-------------------+------------------+-------------------------+-------------------+----------------------+ | Red Hat Enterprise Linux 9.5 | PASS | SKIPPED | SKIPPED | SKIPPED | SKIPPED | SKIPPED | +-------------------------------+--------------------+-------------------+------------------+-------------------------+-------------------+----------------------+ | Alpine Linux 3.22.0 | PASS | SKIPPED | SKIPPED | SKIPPED | SKIPPED | SKIPPED | +-------------------------------+--------------------+-------------------+------------------+-------------------------+-------------------+----------------------+ | Windows Server 2022 | SKIPPED | SKIPPED | SKIPPED | PASS | PASS | PASS | +-------------------------------+--------------------+-------------------+------------------+-------------------------+-------------------+----------------------+ CentOS Stream 9 Kernel: 5.15 Compiler: gcc gcc (GCC) 11.5.0 20240719 (Red Hat 11.5.0-11) CentOS Stream 10 Kernel: 5.15 Compiler: gcc gcc (GCC) 14.2.1 20250110 (Red Hat 14.2.1-8) Debian GNU/Linux 12 Kernel: 5.15 Compiler: gcc gcc (Debian 12.2.0-14+deb12u1) 12.2.0 Fedora Linux 42 Kernel: 5.15 Compiler: clang gcc (GCC) 15.2.1 20250808 (Red Hat 15.2.1-1) Ubuntu 20.04 Kernel: 4.19 Compiler: gcc gcc (Ubuntu 9.4.0-1ubuntu1~20.04.2) 9.4.0 FreeBSD 14.2 Kernel: 14.2-RELEASE Compiler: clang 18.1.6 Red Hat Enterprise Linux 8.10 Kernel: 5.15 Compiler: gcc gcc (GCC) 8.5.0 20210514 (Red Hat 8.5.0-22) openSUSE Leap 15.6 Kernel: 5.15 Compiler: gcc gcc (SUSE Linux) 7.5.0 Ubuntu 24.04 Kernel: 5.15 Compiler: gcc gcc (Ubuntu 13.3.0-6ubuntu2~24.04) 13.3.0 Ubuntu 22.04 Kernel: 5.15 Compiler: gcc gcc (Ubuntu 11.4.0-1ubuntu1~22.04) 11.4.0 Red Hat Enterprise Linux 9.5 Kernel: 5.15 Compiler: gcc gcc (GCC) 11.5.0 20240719 (Red Hat 11.5.0-2) Alpine Linux 3.22.0 Kernel: 5.15 Compiler: gcc gcc (Alpine 14.2.0) 14.2.0 Windows Server 2022 Kernel: 10.0.20348.2031 Compiler: clang 15.0.7, gcc 14.1.0 (MinGW), and MSVC VS 19.39.33521 To view detailed results, visit: https://lab.dpdk.org/results/dashboard/patchsets/34251/ UNH-IOL DPDK Community Lab To manage your email subscriptions, visit: https://lab.dpdk.org/results/dashboard/preferences/subscriptions/