From mboxrd@z Thu Jan 1 00:00:00 1970 Return-Path: Received: from mails.dpdk.org (mails.dpdk.org [217.70.189.124]) by inbox.dpdk.org (Postfix) with ESMTP id 2267748900 for ; Fri, 10 Oct 2025 16:24:52 +0200 (CEST) Received: from mails.dpdk.org (localhost [127.0.0.1]) by mails.dpdk.org (Postfix) with ESMTP id 1D65F4003C; Fri, 10 Oct 2025 16:24:52 +0200 (CEST) Received: from mail-qv1-f100.google.com (mail-qv1-f100.google.com [209.85.219.100]) by mails.dpdk.org (Postfix) with ESMTP id C744C4003C for ; Fri, 10 Oct 2025 16:24:50 +0200 (CEST) Received: by mail-qv1-f100.google.com with SMTP id 6a1803df08f44-7f7835f4478so17003296d6.1 for ; Fri, 10 Oct 2025 07:24:50 -0700 (PDT) DKIM-Signature: v=1; a=rsa-sha256; c=relaxed/relaxed; d=iol.unh.edu; s=unh-iol; t=1760106290; x=1760711090; darn=dpdk.org; h=references:in-reply-to:cc:to:from:subject:message-id:date:from:to :cc:subject:date:message-id:reply-to; bh=iOOmPqHMKzqvOhAWhroFysawcIWoZgDMOeiiMA4tLTw=; b=OOGZtu018+bVEqAdg/QbJUWa17QAIFpzewsQ11ByBp+K1zWcQxtzqNGXQvNzJ3x9MI z4xkaz+y/NkEfnahVNO9U80+ujVVVn1gao6A8yYTtoyykXpGg0ixdlr0lxq+nv/ZRH4h Bw4tYRgFJOyIL0EtbPYaDDmf/aqI2fnqVe9GQ= X-Google-DKIM-Signature: v=1; a=rsa-sha256; c=relaxed/relaxed; d=1e100.net; s=20230601; t=1760106290; x=1760711090; h=references:in-reply-to:cc:to:from:subject:message-id:date :x-gm-message-state:from:to:cc:subject:date:message-id:reply-to; bh=iOOmPqHMKzqvOhAWhroFysawcIWoZgDMOeiiMA4tLTw=; b=Ki/DwsaUprWsttjkAzXQ7UnvKGNZguoQgWcR4jN10vQ3MvacIukRoO+Ifhm+Cpazmh iKca5sjp9RxfLz1GNNSz6F5ttF97ToGglsvfywFzf2tInnef/AKCFyCnEJ0J7zqhDTu4 1SJQJ22KoJzO3qSBLf5XVuFIkT2FHo06bYdc6sUU73NgQERa5HH8qGpmVqZGvFUsYLLp FMyWD4l/clsORVUtKV7/iLB55SGIketb6gEmAfgi9i6Q48qneyZ+4GRqVdZ4cTkUmjY7 Q0OqgsVCgPfPinJ5SikEkMkhFhYWikQJuQLZ4JBNOpR0qlxU4+vl5symQGRT1TQErOJp ZsqA== X-Gm-Message-State: AOJu0YzH55k//zz5IaeWRPMSruDLMR2IvZ3Q2m4B4UNtLX6yCecwz0WR rjODeanoEpBEMZmlFpiIKTu2iNTuvJQld2ocvxXFHXEBxQfxMGnql5UHCcIY9kboC9/VLRtB+tE hfVQmR9x7V7pOiqt33+iTcXjed4zjq8HL0fonNefmmF75t1KQFo70LKp40f5W X-Gm-Gg: ASbGncsetE+q0H+8KbAj4k4G62rWKOduXxjxuRU4BKiQu2ZNw7rwdrShg7QXdnUA7Jm z2HL0gteKRrIJGQCELACHB3tpSjKWCrBOVDOrTS6Q2TWcFkt/36p10JEaqbH4RqlHNJq6vN9kXt VZk7FuEUdnhtwr3tWkX+XNO7iBG5n0VqBHA1gRVXYtT8NudpAbnu6c8Y1d1JjsiglJeRT5fUhRm oNL8G97iI+0NB57io8yGMIs81VjbQVMildp4WD4DtdqTLJ8bB3LNBqvYtZ8KXuKe9ZoNPpO9b58 HDJnD3JB+B8huZvYID2LO9yXMvmxdC2jdfhLSfNBwgR2fhEWPA== X-Google-Smtp-Source: AGHT+IEYEmyT9JE2BUxMJWSy7iDNqlwHa3a7AtcQCT2JE1fdpHQcY1VYsAJaJl6EItZQC/dqo9hr2l8a3cOT X-Received: by 2002:ad4:4ea4:0:b0:775:1d3:d07f with SMTP id 6a1803df08f44-87b20fedaaamr159288826d6.11.1760106289658; Fri, 10 Oct 2025 07:24:49 -0700 (PDT) Received: from postal.iol.unh.edu (postal.iol.unh.edu. [2606:4100:3880:1234::84]) by smtp-relay.gmail.com with ESMTPS id 6a1803df08f44-87bc356a882sm1737106d6.38.2025.10.10.07.24.49 (version=TLS1_2 cipher=ECDHE-ECDSA-AES128-GCM-SHA256 bits=128/128); Fri, 10 Oct 2025 07:24:49 -0700 (PDT) X-Relaying-Domain: iol.unh.edu Date: Fri, 10 Oct 2025 07:24:49 -0700 (PDT) Message-ID: <68e91731.050a0220.372287.911aSMTPIN_ADDED_MISSING@mx.google.com> Received: from [172.21.0.3] (unknown [172.18.0.240]) by postal.iol.unh.edu (Postfix) with ESMTP id 636236051830; Fri, 10 Oct 2025 10:24:49 -0400 (EDT) Subject: |SUCCESS| pw157452-157453 [PATCH] [v3,2/2] net/ice: fix memory leak From: dpdklab@iol.unh.edu To: Test Report Cc: dpdk-test-reports@iol.unh.edu, Bruce Richardson In-Reply-To: <90b43cc3ea3d614c7a8812e1a5ecb0d5fff3615e.1760101992.git.anatoly.burakov@intel.com> References: <90b43cc3ea3d614c7a8812e1a5ecb0d5fff3615e.1760101992.git.anatoly.burakov@intel.com> Content-Type: text/plain X-BeenThere: test-report@dpdk.org X-Mailman-Version: 2.1.29 Precedence: list List-Id: automatic DPDK test reports List-Unsubscribe: , List-Archive: List-Post: List-Help: List-Subscribe: , Errors-To: test-report-bounces@dpdk.org Test-Label: iol-unit-amd64-testing Test-Status: SUCCESS http://dpdk.org/patch/157453 _Testing PASS_ Submitter: Anatoly Burakov Date: Friday, October 10 2025 13:13:20 DPDK git baseline: Repo:dpdk-next-net-intel Branch: master CommitID:d0eb31b594b42fb1dd4e8f2afad3e2a5f1846c1a 157452-157453 --> testing pass Upstream job id: Generic-Unit-Test-DPDK#380302 Test environment and result as below: +-------------------------------+----------------+ | Environment | dpdk_unit_test | +===============================+================+ | CentOS Stream 9 | PASS | +-------------------------------+----------------+ | Debian GNU/Linux 12 | PASS | +-------------------------------+----------------+ | CentOS Stream 10 | PASS | +-------------------------------+----------------+ | Fedora Linux 40 | PASS | +-------------------------------+----------------+ | Fedora Linux 41 | PASS | +-------------------------------+----------------+ | Fedora Linux 42 | PASS | +-------------------------------+----------------+ | Red Hat Enterprise Linux 8.10 | PASS | +-------------------------------+----------------+ | Ubuntu 20.04 | PASS | +-------------------------------+----------------+ | Ubuntu 24.04 | PASS | +-------------------------------+----------------+ | Red Hat Enterprise Linux 9.5 | PASS | +-------------------------------+----------------+ | Ubuntu 22.04 | PASS | +-------------------------------+----------------+ CentOS Stream 9 Kernel: 5.15 Compiler: gcc gcc (GCC) 11.5.0 20240719 (Red Hat 11.5.0-11) Debian GNU/Linux 12 Kernel: 5.15 Compiler: gcc gcc (Debian 12.2.0-14+deb12u1) 12.2.0 CentOS Stream 10 Kernel: 5.15 Compiler: gcc gcc (GCC) 14.2.1 20250110 (Red Hat 14.2.1-8) Fedora Linux 40 Kernel: 5.15 Compiler: gcc gcc (GCC) 14.2.1 20240912 (Red Hat 14.2.1-3) Fedora Linux 41 Kernel: 5.15 Compiler: gcc gcc (GCC) 14.3.1 20250523 (Red Hat 14.3.1-1) Fedora Linux 42 Kernel: 5.15 Compiler: clang gcc (GCC) 15.2.1 20250808 (Red Hat 15.2.1-1) Red Hat Enterprise Linux 8.10 Kernel: 5.15 Compiler: gcc gcc (GCC) 8.5.0 20210514 (Red Hat 8.5.0-22) Ubuntu 20.04 Kernel: 5.15 Compiler: gcc gcc (Ubuntu 9.4.0-1ubuntu1~20.04.2) 9.4.0 Ubuntu 24.04 Kernel: 5.15 Compiler: gcc gcc (Ubuntu 13.3.0-6ubuntu2~24.04) 13.3.0 Red Hat Enterprise Linux 9.5 Kernel: 5.15 Compiler: gcc gcc (GCC) 11.5.0 20240719 (Red Hat 11.5.0-2) Ubuntu 22.04 Kernel: 5.15 Compiler: gcc gcc (Ubuntu 11.4.0-1ubuntu1~22.04) 11.4.0 To view detailed results, visit: https://lab.dpdk.org/results/dashboard/patchsets/34252/ UNH-IOL DPDK Community Lab To manage your email subscriptions, visit: https://lab.dpdk.org/results/dashboard/preferences/subscriptions/