From mboxrd@z Thu Jan 1 00:00:00 1970 Return-Path: Received: from mails.dpdk.org (mails.dpdk.org [217.70.189.124]) by inbox.dpdk.org (Postfix) with ESMTP id 326B548900 for ; Fri, 10 Oct 2025 16:25:08 +0200 (CEST) Received: from mails.dpdk.org (localhost [127.0.0.1]) by mails.dpdk.org (Postfix) with ESMTP id 2E8664003C; Fri, 10 Oct 2025 16:25:08 +0200 (CEST) Received: from mail-pg1-f226.google.com (mail-pg1-f226.google.com [209.85.215.226]) by mails.dpdk.org (Postfix) with ESMTP id 4628A4003C for ; Fri, 10 Oct 2025 16:25:07 +0200 (CEST) Received: by mail-pg1-f226.google.com with SMTP id 41be03b00d2f7-b57bffc0248so1665442a12.0 for ; Fri, 10 Oct 2025 07:25:07 -0700 (PDT) DKIM-Signature: v=1; a=rsa-sha256; c=relaxed/relaxed; d=iol.unh.edu; s=unh-iol; t=1760106306; x=1760711106; darn=dpdk.org; h=references:in-reply-to:cc:to:from:subject:message-id:date:from:to :cc:subject:date:message-id:reply-to; bh=zW11px+VaG5YH3ZP07oQ6f7mRYm5Tpfw+n1erpJsVhM=; b=W301LL3XuNycVtZddzxSgFPZrg2ksNVS2e4qcuCB+SpzS/kSoqZwpJXITurxLjMhha 1AB5YynrZYJTNf6uBMtcYZX9UeMRyUMK0EePvbeBJp0+9SGQzmLMz1gjZvYEIUPdnbQJ ne+sq0ISZGuVTVbLkPJyt4jzlJ7x2VMV7U3K4= X-Google-DKIM-Signature: v=1; a=rsa-sha256; c=relaxed/relaxed; d=1e100.net; s=20230601; t=1760106306; x=1760711106; h=references:in-reply-to:cc:to:from:subject:message-id:date :x-gm-message-state:from:to:cc:subject:date:message-id:reply-to; bh=zW11px+VaG5YH3ZP07oQ6f7mRYm5Tpfw+n1erpJsVhM=; b=Aso/KZX1ZHcAi6glvL6QSvL8KGmaBxrreIRzD53Cl8VtH0soRWcNouQFqSSxHz/Kxn NwPRHZ79l0Iq9MNJs/drFA3SZln3Db/QfW4piYiMb3eWKRwYel/v5TPTLCgRAQtpgX7F 8tzVIq2llzRAtXijskkG77er2sUJ5WpTPzaR6XxvzjGJsV/Owwgrr0Btw4eLhmJePrnr YlAt9YT2qG10zkQMP9Y16/MgWLRZ/QDnc3C3jlJDzDw9JH/PMOF91jV9Rtwkenkda1/i 6eTU55Lmpnl0agdLrgVq2zL1rUfEoWtKMt3FGDq7SrZaMDLdwp1xjPFW0VkwRkU4XKMR rZSw== X-Gm-Message-State: AOJu0Yw5AZqowHErAbyDdSSvrk6uvmvVwxh4Hqcr92ca1URi+fcr68g1 M0P7d1u+CAsWsQBZpJ3MlAMgu/t+Obb+OmyCW3IjudooZWL1ctevZ6ZMsYHJQGjAeVdyEd///6B RmU+m1NIrka38e/zVmrvkDy5K5ocWV54HanQqtIXLwD10/q82XWwFiz8Mey2o X-Gm-Gg: ASbGncuOldWw7jDjFN+d/usdOXxDC6c6gmROOMCDOaV4r04LkFkzxyN8SHF4Z/TpkZ8 ikr9twfdvcVhf0KjGF+5bX6B8QEZFu6bSQwicxYy4FAClpi0Ciehml4x2F/pySt8SGXuSpjHwl1 hOV9CMIXYP1zs7BaH4VqKKaeK2ELN9zUAG4UutwpQCMeWBB9vyiuT4XdlDay7Kcfte5i5+Cl+rV k0gXZLKZhnBT74T5PLbRFDpJGWzlxjBhDbHDOUC1d6lKFK52YDLBJ4wAR0vD+NiSShS/dfNpLiW Ic18Ck/nsdX9u/SFYtj08op8N2SuXuWH7JXITJXoLZxboWdXSQ== X-Google-Smtp-Source: AGHT+IERPsVr/lbF4TBx+eLfuc80RCGcrxe7OM6r3THuJnPGqtlSB1GxL/+lMAvdNIO8mq4I170T83rvSMgw X-Received: by 2002:a17:903:298c:b0:267:9601:dca0 with SMTP id d9443c01a7336-29027f3b996mr133921815ad.27.1760106306307; Fri, 10 Oct 2025 07:25:06 -0700 (PDT) Received: from postal.iol.unh.edu (postal.iol.unh.edu. [2606:4100:3880:1234::84]) by smtp-relay.gmail.com with ESMTPS id d9443c01a7336-29034efa708sm4744285ad.37.2025.10.10.07.25.06 (version=TLS1_2 cipher=ECDHE-ECDSA-AES128-GCM-SHA256 bits=128/128); Fri, 10 Oct 2025 07:25:06 -0700 (PDT) X-Relaying-Domain: iol.unh.edu Date: Fri, 10 Oct 2025 07:25:06 -0700 (PDT) Message-ID: <68e91742.170a0220.17f506.90a8SMTPIN_ADDED_MISSING@mx.google.com> Received: from [172.21.0.2] (unknown [172.18.0.240]) by postal.iol.unh.edu (Postfix) with ESMTP id 930696051830; Fri, 10 Oct 2025 10:25:05 -0400 (EDT) Subject: |SUCCESS| pw157452-157453 [PATCH] [v3,2/2] net/ice: fix memory leak From: dpdklab@iol.unh.edu To: Test Report Cc: dpdk-test-reports@iol.unh.edu, Bruce Richardson In-Reply-To: <90b43cc3ea3d614c7a8812e1a5ecb0d5fff3615e.1760101992.git.anatoly.burakov@intel.com> References: <90b43cc3ea3d614c7a8812e1a5ecb0d5fff3615e.1760101992.git.anatoly.burakov@intel.com> Content-Type: text/plain X-BeenThere: test-report@dpdk.org X-Mailman-Version: 2.1.29 Precedence: list List-Id: automatic DPDK test reports List-Unsubscribe: , List-Archive: List-Post: List-Help: List-Subscribe: , Errors-To: test-report-bounces@dpdk.org Test-Label: iol-unit-amd64-testing Test-Status: SUCCESS http://dpdk.org/patch/157453 _Testing PASS_ Submitter: Anatoly Burakov Date: Friday, October 10 2025 13:13:20 DPDK git baseline: Repo:dpdk-next-net-intel Branch: master CommitID:d0eb31b594b42fb1dd4e8f2afad3e2a5f1846c1a 157452-157453 --> testing pass Upstream job id: Generic-Unit-Test-DPDK#380306 Test environment and result as below: +-------------------------------+----------------+ | Environment | dpdk_unit_test | +===============================+================+ | CentOS Stream 9 | PASS | +-------------------------------+----------------+ | Debian GNU/Linux 12 | PASS | +-------------------------------+----------------+ | CentOS Stream 10 | PASS | +-------------------------------+----------------+ | Fedora Linux 40 | PASS | +-------------------------------+----------------+ | Fedora Linux 41 | PASS | +-------------------------------+----------------+ | Fedora Linux 42 | PASS | +-------------------------------+----------------+ | Red Hat Enterprise Linux 8.10 | PASS | +-------------------------------+----------------+ | Ubuntu 20.04 | PASS | +-------------------------------+----------------+ | Ubuntu 24.04 | PASS | +-------------------------------+----------------+ | Red Hat Enterprise Linux 9.5 | PASS | +-------------------------------+----------------+ | Ubuntu 22.04 | PASS | +-------------------------------+----------------+ CentOS Stream 9 Kernel: 5.15 Compiler: gcc gcc (GCC) 11.5.0 20240719 (Red Hat 11.5.0-11) Debian GNU/Linux 12 Kernel: 5.15 Compiler: gcc gcc (Debian 12.2.0-14+deb12u1) 12.2.0 CentOS Stream 10 Kernel: 5.15 Compiler: gcc gcc (GCC) 14.2.1 20250110 (Red Hat 14.2.1-8) Fedora Linux 40 Kernel: 5.15 Compiler: gcc gcc (GCC) 14.2.1 20240912 (Red Hat 14.2.1-3) Fedora Linux 41 Kernel: 5.15 Compiler: gcc gcc (GCC) 14.3.1 20250523 (Red Hat 14.3.1-1) Fedora Linux 42 Kernel: 5.15 Compiler: clang gcc (GCC) 15.2.1 20250808 (Red Hat 15.2.1-1) Red Hat Enterprise Linux 8.10 Kernel: 5.15 Compiler: gcc gcc (GCC) 8.5.0 20210514 (Red Hat 8.5.0-22) Ubuntu 20.04 Kernel: 5.15 Compiler: gcc gcc (Ubuntu 9.4.0-1ubuntu1~20.04.2) 9.4.0 Ubuntu 24.04 Kernel: 5.15 Compiler: gcc gcc (Ubuntu 13.3.0-6ubuntu2~24.04) 13.3.0 Red Hat Enterprise Linux 9.5 Kernel: 5.15 Compiler: gcc gcc (GCC) 11.5.0 20240719 (Red Hat 11.5.0-2) Ubuntu 22.04 Kernel: 5.15 Compiler: gcc gcc (Ubuntu 11.4.0-1ubuntu1~22.04) 11.4.0 To view detailed results, visit: https://lab.dpdk.org/results/dashboard/patchsets/34252/ UNH-IOL DPDK Community Lab To manage your email subscriptions, visit: https://lab.dpdk.org/results/dashboard/preferences/subscriptions/