From mboxrd@z Thu Jan 1 00:00:00 1970 Return-Path: Received: from mails.dpdk.org (mails.dpdk.org [217.70.189.124]) by inbox.dpdk.org (Postfix) with ESMTP id DA88C48900 for ; Fri, 10 Oct 2025 16:32:08 +0200 (CEST) Received: from mails.dpdk.org (localhost [127.0.0.1]) by mails.dpdk.org (Postfix) with ESMTP id D50F94021E; Fri, 10 Oct 2025 16:32:08 +0200 (CEST) Received: from mail-pg1-f228.google.com (mail-pg1-f228.google.com [209.85.215.228]) by mails.dpdk.org (Postfix) with ESMTP id 999254003C for ; Fri, 10 Oct 2025 16:32:07 +0200 (CEST) Received: by mail-pg1-f228.google.com with SMTP id 41be03b00d2f7-b4fb8d3a2dbso1535674a12.3 for ; Fri, 10 Oct 2025 07:32:07 -0700 (PDT) DKIM-Signature: v=1; a=rsa-sha256; c=relaxed/relaxed; d=iol.unh.edu; s=unh-iol; t=1760106727; x=1760711527; darn=dpdk.org; h=references:in-reply-to:cc:to:from:subject:message-id:date:from:to :cc:subject:date:message-id:reply-to; bh=BolVzN8XXK2949sw43bjAJ3AieSmYOmlu842QjglLdE=; b=as0sbaxwTFdTGpDH8svwSY4OyzWieCzBRxw6rERqVHqKGshVssFHAIm2hxdqe2GAma ImUO4hV2PSFogDEufkAKaDZdvNO7KDOtlhsFJDa5zGx2B6KrfCGOWarDU9Lt8sQf+Rgk Ya0zaZylMXKz4bwMCx6aAWJyaf9/TlrhvqCoA= X-Google-DKIM-Signature: v=1; a=rsa-sha256; c=relaxed/relaxed; d=1e100.net; s=20230601; t=1760106727; x=1760711527; h=references:in-reply-to:cc:to:from:subject:message-id:date :x-gm-message-state:from:to:cc:subject:date:message-id:reply-to; bh=BolVzN8XXK2949sw43bjAJ3AieSmYOmlu842QjglLdE=; b=k4GrU8aKbovSozRkU4Y7vcwT32m3MHPifNBPUbokSszmEJ5mZXK+6W08bj0ThzyP6u MLDk55WgeVa90ND/R7Jw/GkmDTIKfRUjlIaAvx0bA1attCXizuC5GUEJ5nIiGD8ci5nd yeGSOAsE8JEXhE7dnjZyugSx+xsutd1W15asdfN1OFObE4KD4p3uFKJzi+gN713FSNGQ lAC9JBxZFCVfkPQnoeNmGGPrwIaO2BfAP/U75qNA0LLk8c9RzCF3DqQOfELYmzMvw3Jj dKBOk5t6eDM232AF2YzmGLFTC0+ObeXewdq4tV4Zh01v0G4mLMDKKa/J8wpxbRonRfug U7Rg== X-Gm-Message-State: AOJu0YyE0n0iNwozkSGoz97MsbXeXIqPhcHR0Pd++Hbx4qujVKKswMm+ 6q3yjYVPEVtRaY1QHZO50z7uca7DEOTJZ8eFGaejiecmfzGM56YrJKHSpSZhJOzrAq+26I/0kec q46seQ8VgV243/pVw1VHC4kf4HVKt4StD0CjllzwvfuCu X-Gm-Gg: ASbGncuD3Em/tljPcnnVVGETVkKidXnkB0xY7yuCy0V8fF7axDeZReKbEwyCaQt2EPp DOw6RvNSHkGaMoo+XaBo8J3beOLcJRVvj0jZ8o62nEEqn1QYdTcXPblaqLnK+eR2BIdcLv7Pj/T 4jPCQTEdUxy1X0BfD3sabz5esthfFi7q+E5fgh8YIO8wi0iBdtcwztMJKkIQiZTpn8/hJFfI+Qe U+Nr6kIoniqEikrQWoK6UDtTswxzd24o/eBEc07qDQ9U/sPYs4BXN7Q/hMMyJgOSwtUctUDzKC2 kVfF+3onhhPe87epPVTfSDOBR3LN6MWnOI1ytvSJrio6///qXcoiJWMZBCNAOO3TJnv01+jy X-Google-Smtp-Source: AGHT+IE/LakBhG+NHY1Sgw1ZLFL9P+++jOwEkVUCR5OlZ6YGzL0MgkNannO11cFhUe44No68zAbVxqtq4qrB X-Received: by 2002:a17:903:2c05:b0:275:2328:5d3e with SMTP id d9443c01a7336-29027238ec0mr141006955ad.18.1760106726377; Fri, 10 Oct 2025 07:32:06 -0700 (PDT) Received: from postal.iol.unh.edu (postal.iol.unh.edu. [132.177.123.84]) by smtp-relay.gmail.com with ESMTPS id d9443c01a7336-29034f2ca5dsm4873165ad.49.2025.10.10.07.32.06 (version=TLS1_2 cipher=ECDHE-ECDSA-AES128-GCM-SHA256 bits=128/128); Fri, 10 Oct 2025 07:32:06 -0700 (PDT) X-Relaying-Domain: iol.unh.edu Date: Fri, 10 Oct 2025 07:32:06 -0700 (PDT) Message-ID: <68e918e6.170a0220.1539ab.9106SMTPIN_ADDED_MISSING@mx.google.com> Received: from [172.21.0.2] (unknown [172.18.0.240]) by postal.iol.unh.edu (Postfix) with ESMTP id D29616051830; Fri, 10 Oct 2025 10:32:05 -0400 (EDT) Subject: |SUCCESS| pw157451 [PATCH] net/e1000: fix crash when built with GCC From: dpdklab@iol.unh.edu To: Test Report Cc: dpdk-test-reports@iol.unh.edu, Bruce Richardson In-Reply-To: <20251010125848.965340-1-ciara.loftus@intel.com> References: <20251010125848.965340-1-ciara.loftus@intel.com> Content-Type: text/plain X-BeenThere: test-report@dpdk.org X-Mailman-Version: 2.1.29 Precedence: list List-Id: automatic DPDK test reports List-Unsubscribe: , List-Archive: List-Post: List-Help: List-Subscribe: , Errors-To: test-report-bounces@dpdk.org Test-Label: iol-unit-amd64-testing Test-Status: SUCCESS http://dpdk.org/patch/157451 _Testing PASS_ Submitter: Loftus, Ciara Date: Friday, October 10 2025 12:58:48 DPDK git baseline: Repo:dpdk-next-net-intel Branch: master CommitID:d0eb31b594b42fb1dd4e8f2afad3e2a5f1846c1a 157451 --> testing pass Upstream job id: Generic-VM-Unit-Test-DPDK#31713 Test environment and result as below: +-------------------------------+----------------+ | Environment | dpdk_unit_test | +===============================+================+ | CentOS Stream 9 | PASS | +-------------------------------+----------------+ | Debian GNU/Linux 12 | PASS | +-------------------------------+----------------+ | CentOS Stream 10 | PASS | +-------------------------------+----------------+ | Fedora Linux 40 | PASS | +-------------------------------+----------------+ | Windows Server 2022 | PASS | +-------------------------------+----------------+ | Fedora Linux 41 | PASS | +-------------------------------+----------------+ | Fedora Linux 42 | PASS | +-------------------------------+----------------+ | Ubuntu 24.04 | PASS | +-------------------------------+----------------+ | Red Hat Enterprise Linux 9.5 | PASS | +-------------------------------+----------------+ | Ubuntu 20.04 | PASS | +-------------------------------+----------------+ | Ubuntu 22.04 | PASS | +-------------------------------+----------------+ | Red Hat Enterprise Linux 8.10 | PASS | +-------------------------------+----------------+ CentOS Stream 9 Kernel: 5.15 Compiler: gcc gcc (GCC) 11.5.0 20240719 (Red Hat 11.5.0-11) Debian GNU/Linux 12 Kernel: 5.15 Compiler: gcc gcc (Debian 12.2.0-14+deb12u1) 12.2.0 CentOS Stream 10 Kernel: 5.15 Compiler: gcc gcc (GCC) 14.2.1 20250110 (Red Hat 14.2.1-8) Fedora Linux 40 Kernel: 5.15 Compiler: gcc gcc (GCC) 14.2.1 20240912 (Red Hat 14.2.1-3) Windows Server 2022 Kernel: 10.0.20348.2031 Compiler: clang 15.0.7, gcc 14.1.0 (MinGW), and MSVC VS 19.39.33521 Fedora Linux 41 Kernel: 5.15 Compiler: gcc gcc (GCC) 14.3.1 20250523 (Red Hat 14.3.1-1) Fedora Linux 42 Kernel: 5.15 Compiler: gcc gcc (GCC) 15.2.1 20250808 (Red Hat 15.2.1-1) Ubuntu 24.04 Kernel: 5.15 Compiler: gcc gcc (Ubuntu 13.3.0-6ubuntu2~24.04) 13.3.0 Red Hat Enterprise Linux 9.5 Kernel: 5.15 Compiler: gcc gcc (GCC) 11.5.0 20240719 (Red Hat 11.5.0-2) Ubuntu 20.04 Kernel: 5.15 Compiler: gcc gcc (Ubuntu 9.4.0-1ubuntu1~20.04.2) 9.4.0 Ubuntu 22.04 Kernel: 5.15 Compiler: gcc gcc (Ubuntu 11.4.0-1ubuntu1~22.04) 11.4.0 Red Hat Enterprise Linux 8.10 Kernel: 5.15 Compiler: gcc gcc (GCC) 8.5.0 20210514 (Red Hat 8.5.0-22) To view detailed results, visit: https://lab.dpdk.org/results/dashboard/patchsets/34251/ UNH-IOL DPDK Community Lab To manage your email subscriptions, visit: https://lab.dpdk.org/results/dashboard/preferences/subscriptions/