From mboxrd@z Thu Jan 1 00:00:00 1970 Return-Path: Received: from mails.dpdk.org (mails.dpdk.org [217.70.189.124]) by inbox.dpdk.org (Postfix) with ESMTP id 9157148900 for ; Fri, 10 Oct 2025 16:46:52 +0200 (CEST) Received: from mails.dpdk.org (localhost [127.0.0.1]) by mails.dpdk.org (Postfix) with ESMTP id 8A0B24067E; Fri, 10 Oct 2025 16:46:52 +0200 (CEST) Received: from mail-pg1-f227.google.com (mail-pg1-f227.google.com [209.85.215.227]) by mails.dpdk.org (Postfix) with ESMTP id B94164067E for ; Fri, 10 Oct 2025 16:46:50 +0200 (CEST) Received: by mail-pg1-f227.google.com with SMTP id 41be03b00d2f7-b6271ea39f4so1496202a12.3 for ; Fri, 10 Oct 2025 07:46:50 -0700 (PDT) DKIM-Signature: v=1; a=rsa-sha256; c=relaxed/relaxed; d=iol.unh.edu; s=unh-iol; t=1760107610; x=1760712410; darn=dpdk.org; h=references:in-reply-to:cc:to:from:subject:message-id:date:from:to :cc:subject:date:message-id:reply-to; bh=8nQzjxjM/myYaqqLM6oiVc5IXDbK4SpXPws+gE1bsjc=; b=drm56b4ZDBISAfqodTrLpNChnppgRQGjz0S2Qy2LcqVGvTeW/NIZEBnMZObRfw7iQB 6xwZp2I6fz6AMJ2DDut9BfGKg1Uiv2uBuDgWYtWch1H0ufIZaomhRNYFRoXOnzvy1+Vc Syjo78gvFPkhwg29y6XzOtFrSHKy2BJhEv37s= X-Google-DKIM-Signature: v=1; a=rsa-sha256; c=relaxed/relaxed; d=1e100.net; s=20230601; t=1760107610; x=1760712410; h=references:in-reply-to:cc:to:from:subject:message-id:date :x-gm-message-state:from:to:cc:subject:date:message-id:reply-to; bh=8nQzjxjM/myYaqqLM6oiVc5IXDbK4SpXPws+gE1bsjc=; b=bsjdYDhE1dgTTT6zZeyB7M55hATi+A7BqMvOsJujvIW5VRHRdhCEsICwSaOfXp2yFX Hy8mGuWP1wXjty+2ZLpV7dVw7+eKdNjtZiV+37mMp0QcK3q1QDow6GakIrExHs1WYmLg yxXUd0j/KioX7Rws/SYK8SyC02Oshqhek6t8hBsQ9J8ip1zFKvvjPk/HTUwjBrV1QHVn kpeCzQifOJIuQ5QtT+x8aepV3WN3SmdJAPYWx+YoceMgO/XRRtspMHXnGnTlmTyMddgL lUfiufoH7mQ3Z2wVclveN4sPR4SQIxmPtfSqcD5jNHRjGQSay4x8G9Xf23D3ukSXlV1t VWxQ== X-Gm-Message-State: AOJu0Yz3XGsuQqFCKEdM2n1MZ5/f6Mb9eFSha3kxCDkuq9nlt4uRGj96 I37Kv6I41Z1uMA8ryqYWV6k8v/yAkwqIJSX3DijKUF8tTIzdJg5O2i8t38AtMXfN5HYhxVpRHVV Vqtd0MT0p/L45jUMMA/YTxb0YVyDKGznaoB3q2hmFQIMX6CTEek381NuF3k+M X-Gm-Gg: ASbGncsqqYs2BEMnn/SZEqf1LdWXjK0J6cUI3BgattalB1NA9p10QyeFsVwhrWxM1qh HsFdB2gH+4TqdFviAqpQ2ZLJ8VpG2J7BbfATPQVKcsumawxJ/fadiA+P4wb7KugyEXUea3q7agA f5+ilvI4QcyMIf7eMdZDFvDQjI2vosidKRLC+ipEGwQj3wo1b5w8W/zt2yYRpAZ465zCyWwYL7q 5Y1axlW4U3qzgd5sZsLtGcXt3HKpLaaj+KeutuX6f+M8Js6Vqa90tLytHp5ipQ2dIPIH1cyBpqp 8n6s7o02zBLkmqhk1UjlxCB7nIxJ3XUqchDHq51T9R9GG3wUbw== X-Google-Smtp-Source: AGHT+IGHYSz0Mhgz13msJ1bHv11I8bCnRt2c4PtdfaULQnnNmeru4mxUJzgK1tpgHTjoj1IQMjJ/NTlA40RO X-Received: by 2002:a17:903:3c6c:b0:24b:25f:5f81 with SMTP id d9443c01a7336-29027379a03mr156851075ad.17.1760107609904; Fri, 10 Oct 2025 07:46:49 -0700 (PDT) Received: from postal.iol.unh.edu (postal.iol.unh.edu. [2606:4100:3880:1234::84]) by smtp-relay.gmail.com with ESMTPS id d9443c01a7336-29034efa90dsm4690325ad.41.2025.10.10.07.46.49 (version=TLS1_2 cipher=ECDHE-ECDSA-AES128-GCM-SHA256 bits=128/128); Fri, 10 Oct 2025 07:46:49 -0700 (PDT) X-Relaying-Domain: iol.unh.edu Date: Fri, 10 Oct 2025 07:46:49 -0700 (PDT) Message-ID: <68e91c59.170a0220.83492.8809SMTPIN_ADDED_MISSING@mx.google.com> Received: from [172.21.0.2] (unknown [172.18.0.240]) by postal.iol.unh.edu (Postfix) with ESMTP id 1B3EB6050A61; Fri, 10 Oct 2025 10:46:49 -0400 (EDT) Subject: |SUCCESS| pw157452-157453 [PATCH] [v3,2/2] net/ice: fix memory leak From: dpdklab@iol.unh.edu To: Test Report Cc: dpdk-test-reports@iol.unh.edu, Bruce Richardson In-Reply-To: <90b43cc3ea3d614c7a8812e1a5ecb0d5fff3615e.1760101992.git.anatoly.burakov@intel.com> References: <90b43cc3ea3d614c7a8812e1a5ecb0d5fff3615e.1760101992.git.anatoly.burakov@intel.com> Content-Type: text/plain X-BeenThere: test-report@dpdk.org X-Mailman-Version: 2.1.29 Precedence: list List-Id: automatic DPDK test reports List-Unsubscribe: , List-Archive: List-Post: List-Help: List-Subscribe: , Errors-To: test-report-bounces@dpdk.org Test-Label: iol-compile-amd64-testing Test-Status: SUCCESS http://dpdk.org/patch/157453 _Testing PASS_ Submitter: Anatoly Burakov Date: Friday, October 10 2025 13:13:20 DPDK git baseline: Repo:dpdk-next-net-intel Branch: master CommitID:d0eb31b594b42fb1dd4e8f2afad3e2a5f1846c1a 157452-157453 --> testing pass Upstream job id: Windows-Compile-DPDK-Native#31543 Test environment and result as below: +-------------------------------+--------------------+-------------------+------------------+-------------------+-------------------------+ | Environment | dpdk_meson_compile | dpdk_compile_spdk | dpdk_compile_ovs | dpdk_msvc_compile | dpdk_llvm_clang_compile | +===============================+====================+===================+==================+===================+=========================+ | CentOS Stream 9 | PASS | PASS | SKIPPED | SKIPPED | SKIPPED | +-------------------------------+--------------------+-------------------+------------------+-------------------+-------------------------+ | CentOS Stream 10 | PASS | SKIPPED | SKIPPED | SKIPPED | SKIPPED | +-------------------------------+--------------------+-------------------+------------------+-------------------+-------------------------+ | Debian GNU/Linux 12 | PASS | PASS | SKIPPED | SKIPPED | SKIPPED | +-------------------------------+--------------------+-------------------+------------------+-------------------+-------------------------+ | Fedora Linux 42 | PASS | PASS | PASS | SKIPPED | SKIPPED | +-------------------------------+--------------------+-------------------+------------------+-------------------+-------------------------+ | Ubuntu 20.04 | PASS | SKIPPED | SKIPPED | SKIPPED | SKIPPED | +-------------------------------+--------------------+-------------------+------------------+-------------------+-------------------------+ | FreeBSD 14.2 | PASS | SKIPPED | SKIPPED | SKIPPED | SKIPPED | +-------------------------------+--------------------+-------------------+------------------+-------------------+-------------------------+ | Red Hat Enterprise Linux 8.10 | PASS | SKIPPED | SKIPPED | SKIPPED | SKIPPED | +-------------------------------+--------------------+-------------------+------------------+-------------------+-------------------------+ | openSUSE Leap 15.6 | PASS | SKIPPED | SKIPPED | SKIPPED | SKIPPED | +-------------------------------+--------------------+-------------------+------------------+-------------------+-------------------------+ | Red Hat Enterprise Linux 9.5 | PASS | SKIPPED | SKIPPED | SKIPPED | SKIPPED | +-------------------------------+--------------------+-------------------+------------------+-------------------+-------------------------+ | Ubuntu 24.04 | PASS | PASS | PASS | SKIPPED | SKIPPED | +-------------------------------+--------------------+-------------------+------------------+-------------------+-------------------------+ | Ubuntu 22.04 | PASS | PASS | SKIPPED | SKIPPED | SKIPPED | +-------------------------------+--------------------+-------------------+------------------+-------------------+-------------------------+ | Alpine Linux 3.22.0 | PASS | SKIPPED | SKIPPED | SKIPPED | SKIPPED | +-------------------------------+--------------------+-------------------+------------------+-------------------+-------------------------+ | Windows Server 2022 | SKIPPED | SKIPPED | SKIPPED | PASS | PASS | +-------------------------------+--------------------+-------------------+------------------+-------------------+-------------------------+ CentOS Stream 9 Kernel: 5.15 Compiler: gcc gcc (GCC) 11.5.0 20240719 (Red Hat 11.5.0-11) CentOS Stream 10 Kernel: 5.15 Compiler: gcc gcc (GCC) 14.2.1 20250110 (Red Hat 14.2.1-8) Debian GNU/Linux 12 Kernel: 5.15 Compiler: gcc gcc (Debian 12.2.0-14+deb12u1) 12.2.0 Fedora Linux 42 Kernel: 5.15 Compiler: clang gcc (GCC) 15.2.1 20250808 (Red Hat 15.2.1-1) Ubuntu 20.04 Kernel: 4.19 Compiler: gcc gcc (Ubuntu 9.4.0-1ubuntu1~20.04.2) 9.4.0 FreeBSD 14.2 Kernel: 14.2-RELEASE Compiler: clang 18.1.6 Red Hat Enterprise Linux 8.10 Kernel: 5.15 Compiler: gcc gcc (GCC) 8.5.0 20210514 (Red Hat 8.5.0-22) openSUSE Leap 15.6 Kernel: 5.15 Compiler: gcc gcc (SUSE Linux) 7.5.0 Red Hat Enterprise Linux 9.5 Kernel: 5.15 Compiler: gcc gcc (GCC) 11.5.0 20240719 (Red Hat 11.5.0-2) Ubuntu 24.04 Kernel: 5.15 Compiler: gcc gcc (Ubuntu 13.3.0-6ubuntu2~24.04) 13.3.0 Ubuntu 22.04 Kernel: 5.15 Compiler: gcc gcc (Ubuntu 11.4.0-1ubuntu1~22.04) 11.4.0 Alpine Linux 3.22.0 Kernel: 5.15 Compiler: gcc gcc (Alpine 14.2.0) 14.2.0 Windows Server 2022 Kernel: 10.0.20348.2031 Compiler: clang 15.0.7, gcc 14.1.0 (MinGW), and MSVC VS 19.39.33521 To view detailed results, visit: https://lab.dpdk.org/results/dashboard/patchsets/34252/ UNH-IOL DPDK Community Lab To manage your email subscriptions, visit: https://lab.dpdk.org/results/dashboard/preferences/subscriptions/