automatic DPDK test reports
 help / color / mirror / Atom feed
From: dpdklab@iol.unh.edu
To: Test Report <test-report@dpdk.org>
Cc: dpdk-test-reports@iol.unh.edu, Chenbo Xia <chenbox@nvidia.com>,
	Maxime Coquelin <maxime.coquelin@redhat.com>
Subject: |SUCCESS| pw157450 [PATCH] [v3] vhost: fix a double fetch when deque
Date: Fri, 10 Oct 2025 07:53:32 -0700 (PDT)	[thread overview]
Message-ID: <68e91dec.050a0220.29fc06.bd6fSMTPIN_ADDED_MISSING@mx.google.com> (raw)
In-Reply-To: <1760085696-35028-1-git-send-email-wangyunjian@huawei.com>

Test-Label: iol-compile-arm64-testing
Test-Status: SUCCESS
http://dpdk.org/patch/157450

_Testing PASS_

Submitter: Yunjian Wang <wangyunjian@huawei.com>
Date: Friday, October 10 2025 08:41:36 
DPDK git baseline: Repo:dpdk-next-virtio
  Branch: master
  CommitID:4159ea62922ce41566c7bab44655ad78bee85458

157450 --> testing pass

Upstream job id: Generic-DPDK-Compile-Meson#433156

Test environment and result as below:

+------------------------------+--------------------+
|         Environment          | dpdk_meson_compile |
+==============================+====================+
| Red Hat Enterprise Linux 9.5 | PASS               |
+------------------------------+--------------------+
| Ubuntu 20.04                 | PASS               |
+------------------------------+--------------------+
| Debian GNU/Linux 12          | PASS               |
+------------------------------+--------------------+
| Fedora Linux 42              | PASS               |
+------------------------------+--------------------+
| Ubuntu 24.04                 | PASS               |
+------------------------------+--------------------+
| Ubuntu 22.04                 | PASS               |
+------------------------------+--------------------+
| CentOS Stream 10             | PASS               |
+------------------------------+--------------------+
| CentOS Stream 9              | PASS               |
+------------------------------+--------------------+


Red Hat Enterprise Linux 9.5
	Kernel: 5.4
	Compiler: gcc gcc (GCC) 11.5.0 20240719 (Red Hat 11.5.0-2)

Ubuntu 20.04
	Kernel: 5.15
	Compiler: aarch64-linux-gnu-gcc gcc (Ubuntu 9.4.0-1ubuntu1~20.04.2) 9.4.0

Debian GNU/Linux 12
	Kernel: 5.4
	Compiler: gcc gcc (Debian 12.2.0-14+deb12u1) 12.2.0

Fedora Linux 42
	Kernel: 5.4
	Compiler: gcc gcc (GCC) 15.2.1 20250808 (Red Hat 15.2.1-1)

Ubuntu 24.04
	Kernel: 5.4
	Compiler: gcc gcc (Ubuntu 13.3.0-6ubuntu2~24.04) 13.3.0

Ubuntu 22.04
	Kernel: 5.4
	Compiler: gcc gcc (Ubuntu 11.4.0-1ubuntu1~22.04) 11.4.0

CentOS Stream 10
	Kernel: 5.4
	Compiler: gcc gcc (GCC) 14.2.1 20250110 (Red Hat 14.2.1-8)

CentOS Stream 9
	Kernel: 5.4
	Compiler: gcc gcc (GCC) 11.5.0 20240719 (Red Hat 11.5.0-11)

To view detailed results, visit:
https://lab.dpdk.org/results/dashboard/patchsets/34250/

UNH-IOL DPDK Community Lab

To manage your email subscriptions, visit: 
https://lab.dpdk.org/results/dashboard/preferences/subscriptions/

      parent reply	other threads:[~2025-10-10 14:53 UTC|newest]

Thread overview: 24+ messages / expand[flat|nested]  mbox.gz  Atom feed  top
     [not found] <1760085696-35028-1-git-send-email-wangyunjian@huawei.com>
2025-10-10  8:07 ` |SUCCESS| pw157450 [PATCH v3] vhost: fix a double fetch when dequeue offloading qemudev
2025-10-10  8:12 ` qemudev
2025-10-10  8:42 ` checkpatch
2025-10-10  9:15 ` |PENDING| pw157450 [PATCH] [v3] vhost: fix a double fetch when deque dpdklab
2025-10-10  9:16 ` |SUCCESS| " dpdklab
2025-10-10  9:17 ` dpdklab
2025-10-10  9:26 ` dpdklab
2025-10-10  9:34 ` |PENDING| " dpdklab
2025-10-10  9:37 ` |SUCCESS| " dpdklab
2025-10-10  9:39 ` dpdklab
2025-10-10  9:52 ` |PENDING| " dpdklab
2025-10-10 10:01 ` dpdklab
2025-10-10 10:26 ` |SUCCESS| " dpdklab
2025-10-10 10:28 ` dpdklab
2025-10-10 10:33 ` dpdklab
2025-10-10 10:38 ` |SUCCESS| pw157450 [PATCH v3] vhost: fix a double fetch when dequeue offloading 0-day Robot
2025-10-10 10:38 ` 0-day Robot
2025-10-10 11:08 ` |SUCCESS| pw157450 [PATCH] [v3] vhost: fix a double fetch when deque dpdklab
2025-10-10 11:09 ` dpdklab
2025-10-10 11:23 ` dpdklab
2025-10-10 11:51 ` dpdklab
2025-10-10 12:11 ` dpdklab
2025-10-10 12:14 ` dpdklab
2025-10-10 14:53 ` dpdklab [this message]

Reply instructions:

You may reply publicly to this message via plain-text email
using any one of the following methods:

* Save the following mbox file, import it into your mail client,
  and reply-to-all from there: mbox

  Avoid top-posting and favor interleaved quoting:
  https://en.wikipedia.org/wiki/Posting_style#Interleaved_style

* Reply using the --to, --cc, and --in-reply-to
  switches of git-send-email(1):

  git send-email \
    --in-reply-to=68e91dec.050a0220.29fc06.bd6fSMTPIN_ADDED_MISSING@mx.google.com \
    --to=dpdklab@iol.unh.edu \
    --cc=chenbox@nvidia.com \
    --cc=dpdk-test-reports@iol.unh.edu \
    --cc=maxime.coquelin@redhat.com \
    --cc=test-report@dpdk.org \
    /path/to/YOUR_REPLY

  https://kernel.org/pub/software/scm/git/docs/git-send-email.html

* If your mail client supports setting the In-Reply-To header
  via mailto: links, try the mailto: link
Be sure your reply has a Subject: header at the top and a blank line before the message body.
This is a public inbox, see mirroring instructions
for how to clone and mirror all data and code used for this inbox;
as well as URLs for NNTP newsgroup(s).