From mboxrd@z Thu Jan 1 00:00:00 1970 Return-Path: Received: from mails.dpdk.org (mails.dpdk.org [217.70.189.124]) by inbox.dpdk.org (Postfix) with ESMTP id 6124348900 for ; Fri, 10 Oct 2025 16:53:35 +0200 (CEST) Received: from mails.dpdk.org (localhost [127.0.0.1]) by mails.dpdk.org (Postfix) with ESMTP id 33A1B4003C; Fri, 10 Oct 2025 16:53:35 +0200 (CEST) Received: from mail-il1-f226.google.com (mail-il1-f226.google.com [209.85.166.226]) by mails.dpdk.org (Postfix) with ESMTP id C88AC4003C for ; Fri, 10 Oct 2025 16:53:33 +0200 (CEST) Received: by mail-il1-f226.google.com with SMTP id e9e14a558f8ab-42f8d7f116eso8353715ab.2 for ; Fri, 10 Oct 2025 07:53:33 -0700 (PDT) DKIM-Signature: v=1; a=rsa-sha256; c=relaxed/relaxed; d=iol.unh.edu; s=unh-iol; t=1760108013; x=1760712813; darn=dpdk.org; h=references:in-reply-to:cc:to:from:subject:message-id:date:from:to :cc:subject:date:message-id:reply-to; bh=HzULqFL6IhtpgIyFmA2Q37oVCS0Vi1f5QZhiU4UZ/u8=; b=KKIQpEdYt+IhtyWD9IPd6VAvUFojszizNStWRtwu3lP7Mg4Pp5ALqBcEcSHCwsJFce Mmth8smT6YfrM82GSpjQzeoe2V6bIjBp7AIZrZ+fu4RH1RjuFmfgEnauBAl+9eLaKQZk dLBhbrhW/n9MJxq0+oDH1qiSShi30bnwrQ4qo= X-Google-DKIM-Signature: v=1; a=rsa-sha256; c=relaxed/relaxed; d=1e100.net; s=20230601; t=1760108013; x=1760712813; h=references:in-reply-to:cc:to:from:subject:message-id:date :x-gm-message-state:from:to:cc:subject:date:message-id:reply-to; bh=HzULqFL6IhtpgIyFmA2Q37oVCS0Vi1f5QZhiU4UZ/u8=; b=oG0R65bSMpgcji6h0zV2pXWmJLAiC2tnuq9M1KU5wScQbhe2/A6cAwsADdkqFHo8qi o9HWy2zGrlqBRgqu9MTOm+cD0mfPZfPkpSLSuNARRFJU89X8K6t5YXNUSH07sYs/yBGw /gvTRmG6DErBm479Jlp2MEkGbFK6yZwCU35YDr8xYwfoNwrGTe5QvtcMPB4CLs5TT9NL 2CvoEY2LgG1+ijab4Zx9aY3mVLw/WWXZsVVh8XtYJKvvXKErKAb4uKXbRUaJpGIrn15q ok7i8yDqWpFcyMFpB8r/7AvQX3zDs4uxAtWkd5Uze4OYTD766kNYP5CagwRzh3IoZI8l uB1g== X-Gm-Message-State: AOJu0Yy7YaRoUAuOBj+/fBpeL0VlG8Pt1Q/FwoLlciWStpU1VMh0psg4 YJT4pfbXusSGaAaAwKfEcLdv8L21HVFhYz4Rft56tBtZ/OIg7l9RiMjqwmfLPNe4JS0x5lMy5H+ 4iYCZrYYXi6KOzJSf5q8up1FHok6/b8xsnrwD9IcZJxhfC/TneTQpPsQ2paTB X-Gm-Gg: ASbGncskijg1FGzPm8IC3WlVkyCA+pLD8Ku2lqvKOk6VEVuiyAImIlI7hyAggXziV+L W1rbv1zNHz7QWbc5EFtw0UrSASzX/o11EPJqMRjMozlJeEP9XYhb5jL2y8HCxmusko8RWiUCokn v0SmMMnULAnHGaDeatkUgX5/mguQDDhVm1SsGisB/PDYoYocXK1g5Dy1EhmF1qQjAsqoFPtpCZC Xs/f43EawJLpXPjWWsfldZRL+AzoYzrDHk+KLwldNE/8Nm7bEA/+1vWy2dJNtn3/b0iVKxBBFeC 8wCBrxqI7ej252aKhA8cU7pOLn78RUD3xTeNGvZrNKBxaTf1oQ== X-Google-Smtp-Source: AGHT+IHPINUqfXcBSAQLvXoB5SioaA2mhK2I7ZuPRelWnUKnCzAR3GNVZJki8XPQTbvjGoaw4OLabrAc711R X-Received: by 2002:a05:6e02:481b:b0:42f:a60a:8538 with SMTP id e9e14a558f8ab-42fa60a8b0dmr11699525ab.16.1760108012919; Fri, 10 Oct 2025 07:53:32 -0700 (PDT) Received: from postal.iol.unh.edu (postal.iol.unh.edu. [2606:4100:3880:1234::84]) by smtp-relay.gmail.com with ESMTPS id 8926c6da1cb9f-58f6d042b50sm226212173.9.2025.10.10.07.53.32 (version=TLS1_2 cipher=ECDHE-ECDSA-AES128-GCM-SHA256 bits=128/128); Fri, 10 Oct 2025 07:53:32 -0700 (PDT) X-Relaying-Domain: iol.unh.edu Date: Fri, 10 Oct 2025 07:53:32 -0700 (PDT) Message-ID: <68e91dec.050a0220.29fc06.bd6fSMTPIN_ADDED_MISSING@mx.google.com> Received: from [172.21.0.2] (unknown [172.18.0.240]) by postal.iol.unh.edu (Postfix) with ESMTP id 95B766050A61; Fri, 10 Oct 2025 10:53:32 -0400 (EDT) Subject: |SUCCESS| pw157450 [PATCH] [v3] vhost: fix a double fetch when deque From: dpdklab@iol.unh.edu To: Test Report Cc: dpdk-test-reports@iol.unh.edu, Chenbo Xia , Maxime Coquelin In-Reply-To: <1760085696-35028-1-git-send-email-wangyunjian@huawei.com> References: <1760085696-35028-1-git-send-email-wangyunjian@huawei.com> Content-Type: text/plain X-BeenThere: test-report@dpdk.org X-Mailman-Version: 2.1.29 Precedence: list List-Id: automatic DPDK test reports List-Unsubscribe: , List-Archive: List-Post: List-Help: List-Subscribe: , Errors-To: test-report-bounces@dpdk.org Test-Label: iol-compile-arm64-testing Test-Status: SUCCESS http://dpdk.org/patch/157450 _Testing PASS_ Submitter: Yunjian Wang Date: Friday, October 10 2025 08:41:36 DPDK git baseline: Repo:dpdk-next-virtio Branch: master CommitID:4159ea62922ce41566c7bab44655ad78bee85458 157450 --> testing pass Upstream job id: Generic-DPDK-Compile-Meson#433156 Test environment and result as below: +------------------------------+--------------------+ | Environment | dpdk_meson_compile | +==============================+====================+ | Red Hat Enterprise Linux 9.5 | PASS | +------------------------------+--------------------+ | Ubuntu 20.04 | PASS | +------------------------------+--------------------+ | Debian GNU/Linux 12 | PASS | +------------------------------+--------------------+ | Fedora Linux 42 | PASS | +------------------------------+--------------------+ | Ubuntu 24.04 | PASS | +------------------------------+--------------------+ | Ubuntu 22.04 | PASS | +------------------------------+--------------------+ | CentOS Stream 10 | PASS | +------------------------------+--------------------+ | CentOS Stream 9 | PASS | +------------------------------+--------------------+ Red Hat Enterprise Linux 9.5 Kernel: 5.4 Compiler: gcc gcc (GCC) 11.5.0 20240719 (Red Hat 11.5.0-2) Ubuntu 20.04 Kernel: 5.15 Compiler: aarch64-linux-gnu-gcc gcc (Ubuntu 9.4.0-1ubuntu1~20.04.2) 9.4.0 Debian GNU/Linux 12 Kernel: 5.4 Compiler: gcc gcc (Debian 12.2.0-14+deb12u1) 12.2.0 Fedora Linux 42 Kernel: 5.4 Compiler: gcc gcc (GCC) 15.2.1 20250808 (Red Hat 15.2.1-1) Ubuntu 24.04 Kernel: 5.4 Compiler: gcc gcc (Ubuntu 13.3.0-6ubuntu2~24.04) 13.3.0 Ubuntu 22.04 Kernel: 5.4 Compiler: gcc gcc (Ubuntu 11.4.0-1ubuntu1~22.04) 11.4.0 CentOS Stream 10 Kernel: 5.4 Compiler: gcc gcc (GCC) 14.2.1 20250110 (Red Hat 14.2.1-8) CentOS Stream 9 Kernel: 5.4 Compiler: gcc gcc (GCC) 11.5.0 20240719 (Red Hat 11.5.0-11) To view detailed results, visit: https://lab.dpdk.org/results/dashboard/patchsets/34250/ UNH-IOL DPDK Community Lab To manage your email subscriptions, visit: https://lab.dpdk.org/results/dashboard/preferences/subscriptions/