From mboxrd@z Thu Jan 1 00:00:00 1970 Return-Path: Received: from mails.dpdk.org (mails.dpdk.org [217.70.189.124]) by inbox.dpdk.org (Postfix) with ESMTP id 6595A48900 for ; Fri, 10 Oct 2025 16:54:58 +0200 (CEST) Received: from mails.dpdk.org (localhost [127.0.0.1]) by mails.dpdk.org (Postfix) with ESMTP id 5BE674003C; Fri, 10 Oct 2025 16:54:58 +0200 (CEST) Received: from mail-yx1-f98.google.com (mail-yx1-f98.google.com [74.125.224.98]) by mails.dpdk.org (Postfix) with ESMTP id 31DD64003C for ; Fri, 10 Oct 2025 16:54:57 +0200 (CEST) Received: by mail-yx1-f98.google.com with SMTP id 956f58d0204a3-63470a6f339so2177489d50.0 for ; Fri, 10 Oct 2025 07:54:57 -0700 (PDT) DKIM-Signature: v=1; a=rsa-sha256; c=relaxed/relaxed; d=iol.unh.edu; s=unh-iol; t=1760108096; x=1760712896; darn=dpdk.org; h=references:in-reply-to:cc:to:from:subject:message-id:date:from:to :cc:subject:date:message-id:reply-to; bh=RXHqBTdReZ0sqhxmH5kL5DyLh5fM6bcv2eN2mkH38ck=; b=H7d59pHmLeM0vet6o/cGR15ffgQwdRwAMuzdQwAYYliaheceegm2FMx0A2pw5++9sS CxB1+wBDVUlzKTRfz5AWpGXH+E8oBL5HsQDD4rz8wSoLKJRQg/KkgM3QVhzy4mgM/MTY Xyvl20UKDUoPcGjksOLDdYrjDWkhh/YbKrCrA= X-Google-DKIM-Signature: v=1; a=rsa-sha256; c=relaxed/relaxed; d=1e100.net; s=20230601; t=1760108096; x=1760712896; h=references:in-reply-to:cc:to:from:subject:message-id:date :x-gm-message-state:from:to:cc:subject:date:message-id:reply-to; bh=RXHqBTdReZ0sqhxmH5kL5DyLh5fM6bcv2eN2mkH38ck=; b=XpqqG0UQ19GNtHarfV21i/TWoaS0EUQjLq4bHqy/MFrIGI/hmYebxbDs0tviXIcRbB REDH0jw1DRKT9Ap03OiBODLVSTrlTv5gt8aiyB7HwQ0C4xFfF9WecYVtMLAGPK36rx9z mDZ4ksPCpN8SKyP9drxJ072rg9q1wIf1nsaSZj7Jub2QHIa8SH09cilNXAs3bvo9r65k +yFk98zh2gJTL+QC1lemY4aOq2wyHPSLAamJXvsBUT0lS+eVeMsSz6Bjz00OtPWqwNfI FvweuqOU05s8Eos1GbXK/nlxiHW9ooTXc4jlPLdqjqm/JEVhWWdtY2zuWzpgk17t4xT/ 715Q== X-Gm-Message-State: AOJu0YzrAZJqYSeGgGo2cI87/YRVb+Q9N5a0lgtWTNuJFGECLLoaAVHy ZR+QdUA1msNlR7s6Kod+qrlHpvzRUJMrvwUwt6Z5y/XQNqnJYuUqI5uOlKO/YJxsDaaaSYuPm1c /wSwx2+5OikHGWat4Kxw1Ee5b0Ob5f0lRu72tvVBDn6iPOQD76ZoOioge2l80 X-Gm-Gg: ASbGncvNt91KefyPUB2XtvR+Z4pLm6h/9Q5jQ1Uzun+LOvZzaKVLmAmyJTmuhmWI0ru swZrN3FSu1Zh3iUOJqsV2KMbGoK+Grl41WVsXiIheH8NzZrenrlnXGcG8AaHu+YOWA5SUS1t8nx ZeSwos6YKepqgsBqIa2b2BHFjs9TMg+VNQYdpoylGDrloB1itrRpRSm+hFTJk1zHrq3V96APilj jgI1ns+qDQsImFmwCf95LFTWl/l4gEuhAGIhgY9KloxVsKCcssPPJyMf3km+39V6sdVTAdHfZ42 JQ0vts2ZGMmIMf9aEwMXx9MFxRLJJFKaaNXoNfxxhaZ0RN++dQ== X-Google-Smtp-Source: AGHT+IGSYkmENk+AGjA4CDG1jLxqZAFFlxwTzfb+JQixOh0a2As16Ie41wJbDW2vYFW4IO8loBBpOoR3apl4 X-Received: by 2002:a05:690c:4a0c:b0:780:fdbb:5265 with SMTP id 00721157ae682-780fdbb5de0mr98093707b3.19.1760108096256; Fri, 10 Oct 2025 07:54:56 -0700 (PDT) Received: from postal.iol.unh.edu (postal.iol.unh.edu. [2606:4100:3880:1234::84]) by smtp-relay.gmail.com with ESMTPS id 00721157ae682-7810706f9aesm1631937b3.36.2025.10.10.07.54.56 (version=TLS1_2 cipher=ECDHE-ECDSA-AES128-GCM-SHA256 bits=128/128); Fri, 10 Oct 2025 07:54:56 -0700 (PDT) X-Relaying-Domain: iol.unh.edu Date: Fri, 10 Oct 2025 07:54:56 -0700 (PDT) Message-ID: <68e91e40.050a0220.24c5ca.90b6SMTPIN_ADDED_MISSING@mx.google.com> Received: from [172.21.0.2] (unknown [172.18.0.240]) by postal.iol.unh.edu (Postfix) with ESMTP id E767C6050A61; Fri, 10 Oct 2025 10:54:55 -0400 (EDT) Subject: |SUCCESS| pw157452-157453 [PATCH] [v3,2/2] net/ice: fix memory leak From: dpdklab@iol.unh.edu To: Test Report Cc: dpdk-test-reports@iol.unh.edu, Bruce Richardson In-Reply-To: <90b43cc3ea3d614c7a8812e1a5ecb0d5fff3615e.1760101992.git.anatoly.burakov@intel.com> References: <90b43cc3ea3d614c7a8812e1a5ecb0d5fff3615e.1760101992.git.anatoly.burakov@intel.com> Content-Type: text/plain X-BeenThere: test-report@dpdk.org X-Mailman-Version: 2.1.29 Precedence: list List-Id: automatic DPDK test reports List-Unsubscribe: , List-Archive: List-Post: List-Help: List-Subscribe: , Errors-To: test-report-bounces@dpdk.org Test-Label: iol-unit-amd64-testing Test-Status: SUCCESS http://dpdk.org/patch/157453 _Testing PASS_ Submitter: Anatoly Burakov Date: Friday, October 10 2025 13:13:20 DPDK git baseline: Repo:dpdk-next-net-intel Branch: master CommitID:d0eb31b594b42fb1dd4e8f2afad3e2a5f1846c1a 157452-157453 --> testing pass Upstream job id: Generic-VM-Unit-Test-DPDK#31714 Test environment and result as below: +-------------------------------+----------------+ | Environment | dpdk_unit_test | +===============================+================+ | CentOS Stream 9 | PASS | +-------------------------------+----------------+ | Debian GNU/Linux 12 | PASS | +-------------------------------+----------------+ | CentOS Stream 10 | PASS | +-------------------------------+----------------+ | Fedora Linux 40 | PASS | +-------------------------------+----------------+ | Fedora Linux 41 | PASS | +-------------------------------+----------------+ | Fedora Linux 42 | PASS | +-------------------------------+----------------+ | Red Hat Enterprise Linux 8.10 | PASS | +-------------------------------+----------------+ | Ubuntu 20.04 | PASS | +-------------------------------+----------------+ | Ubuntu 24.04 | PASS | +-------------------------------+----------------+ | Red Hat Enterprise Linux 9.5 | PASS | +-------------------------------+----------------+ | Ubuntu 22.04 | PASS | +-------------------------------+----------------+ | Windows Server 2022 | PASS | +-------------------------------+----------------+ CentOS Stream 9 Kernel: 5.15 Compiler: gcc gcc (GCC) 11.5.0 20240719 (Red Hat 11.5.0-11) Debian GNU/Linux 12 Kernel: 5.15 Compiler: gcc gcc (Debian 12.2.0-14+deb12u1) 12.2.0 CentOS Stream 10 Kernel: 5.15 Compiler: gcc gcc (GCC) 14.2.1 20250110 (Red Hat 14.2.1-8) Fedora Linux 40 Kernel: 5.15 Compiler: gcc gcc (GCC) 14.2.1 20240912 (Red Hat 14.2.1-3) Fedora Linux 41 Kernel: 5.15 Compiler: gcc gcc (GCC) 14.3.1 20250523 (Red Hat 14.3.1-1) Fedora Linux 42 Kernel: 5.15 Compiler: clang gcc (GCC) 15.2.1 20250808 (Red Hat 15.2.1-1) Red Hat Enterprise Linux 8.10 Kernel: 5.15 Compiler: gcc gcc (GCC) 8.5.0 20210514 (Red Hat 8.5.0-22) Ubuntu 20.04 Kernel: 5.15 Compiler: gcc gcc (Ubuntu 9.4.0-1ubuntu1~20.04.2) 9.4.0 Ubuntu 24.04 Kernel: 5.15 Compiler: gcc gcc (Ubuntu 13.3.0-6ubuntu2~24.04) 13.3.0 Red Hat Enterprise Linux 9.5 Kernel: 5.15 Compiler: gcc gcc (GCC) 11.5.0 20240719 (Red Hat 11.5.0-2) Ubuntu 22.04 Kernel: 5.15 Compiler: gcc gcc (Ubuntu 11.4.0-1ubuntu1~22.04) 11.4.0 Windows Server 2022 Kernel: 10.0.20348.2031 Compiler: clang 15.0.7, gcc 14.1.0 (MinGW), and MSVC VS 19.39.33521 To view detailed results, visit: https://lab.dpdk.org/results/dashboard/patchsets/34252/ UNH-IOL DPDK Community Lab To manage your email subscriptions, visit: https://lab.dpdk.org/results/dashboard/preferences/subscriptions/