From mboxrd@z Thu Jan 1 00:00:00 1970 Return-Path: Received: from mails.dpdk.org (mails.dpdk.org [217.70.189.124]) by inbox.dpdk.org (Postfix) with ESMTP id 910AE48900 for ; Fri, 10 Oct 2025 16:56:05 +0200 (CEST) Received: from mails.dpdk.org (localhost [127.0.0.1]) by mails.dpdk.org (Postfix) with ESMTP id 8BD224003C; Fri, 10 Oct 2025 16:56:05 +0200 (CEST) Received: from mail-pf1-f226.google.com (mail-pf1-f226.google.com [209.85.210.226]) by mails.dpdk.org (Postfix) with ESMTP id AD68F4003C for ; Fri, 10 Oct 2025 16:56:03 +0200 (CEST) Received: by mail-pf1-f226.google.com with SMTP id d2e1a72fcca58-7811a02316bso1577047b3a.3 for ; Fri, 10 Oct 2025 07:56:03 -0700 (PDT) DKIM-Signature: v=1; a=rsa-sha256; c=relaxed/relaxed; d=iol.unh.edu; s=unh-iol; t=1760108163; x=1760712963; darn=dpdk.org; h=references:in-reply-to:cc:to:from:subject:message-id:date:from:to :cc:subject:date:message-id:reply-to; bh=oU87oO6Fb7HPPt/yYMXrV+wS+5yQz9A/xWAPjS8q2XM=; b=ac9ElPuKJDNdZ3YFK1ndrg92zoJfzK328yTxRlBs7TJ1R4xoKzgh6sLJhfj6cjiZLY Cryr3cf+JqHT7XY/HIgnEBmpcDli2UN9bu9Tb3KPJtjSUScR/aTgVyBB7dgXFDip/A8h VQYktQyUKsnX0x3h5uHtYquEJKeTHRxGm3qP0= X-Google-DKIM-Signature: v=1; a=rsa-sha256; c=relaxed/relaxed; d=1e100.net; s=20230601; t=1760108163; x=1760712963; h=references:in-reply-to:cc:to:from:subject:message-id:date :x-gm-message-state:from:to:cc:subject:date:message-id:reply-to; bh=oU87oO6Fb7HPPt/yYMXrV+wS+5yQz9A/xWAPjS8q2XM=; b=c8BReYvwZpAmSlylDye5a+NDJ4N3OyJuPSTm1eWXqHKnu6gZUNMmEu/rXHk8ThUV+w 8CT41UecoEGX+dyWxv7GELn8KkOtrFzCilIJFqDoLEX6JSbbhp+8Uiy1TAqW4ZQSUk0h SScxVp1LMK0dmLCfQ73bKHqY3MJ9RNMaBtXe5Cz9AkjoBCJxils5HlX3i5UXVo39qztL 0fOpyPLUsnMVWohKvlX+pE8Gf1BJ55VyazTMDnqkEUGiHDodTWoTP4vpshfdnOEqEysr S3Kr6wlE9b+g9QSUsIbzmNdueKG09vDf6wHc/o+q96adeOkTuq6UkENzev1KZawUGGjv dkLQ== X-Gm-Message-State: AOJu0YxOpsfvu6YiQj0u9BxqEdEERFrIZYxJChXVjK38D3O54+3A9Ul4 xgpkPoj3LI0UikqYWmN6YXV0nu66Fh/n7/08Z+a6EkT4eBAULzQXTEHmNusWLu02FaLZ+uUd802 UG6E9mZi9C1NlVETJdqUS7KEcFR0drssymXi7NiqHYiSB X-Gm-Gg: ASbGncubnVwJ5CPhBPsDw7kxZJ5MskEzoYeZLUTWKCamr26bK+fbejkIoWm2MCUk+v2 rHsCq9W5so5/h+Y65zkTMP9o66zu1be0eP1l/D677q2WE2XFXZT1X76dr7CD1bhaEFRMHGD+GLj i06qpzT9jcnG13rriumPiDvYaWKpF9WYYHK6EVGHpYHC7LS0jdUzT4l8WSK+ZC5A2SfzfctkZWa WMT82myJo+QcbJu/ehHXSmclZ+rKuyRZVIm31JN0Ud8bYaqhpJ8iaalcbfBQKe8BaVdrVDd+pTD f9S/28MRpI1gHzXrIeX6plcajlEfbI+SE3leeGe1yxY20duhYfGkXbd9BWlX4DpKqryT438y X-Google-Smtp-Source: AGHT+IFwJEVVCxz7RcK058SwgTGw0NgTkB8csYfiefuWgsHKL58ATvDLunA+w7uklwaSAb9/uzw3wVp7vqYb X-Received: by 2002:a05:6a20:748b:b0:327:ac07:4546 with SMTP id adf61e73a8af0-32da8462f89mr16279979637.31.1760108162683; Fri, 10 Oct 2025 07:56:02 -0700 (PDT) Received: from postal.iol.unh.edu (postal.iol.unh.edu. [132.177.123.84]) by smtp-relay.gmail.com with ESMTPS id d2e1a72fcca58-79933310e6csm256296b3a.9.2025.10.10.07.56.02 (version=TLS1_2 cipher=ECDHE-ECDSA-AES128-GCM-SHA256 bits=128/128); Fri, 10 Oct 2025 07:56:02 -0700 (PDT) X-Relaying-Domain: iol.unh.edu Date: Fri, 10 Oct 2025 07:56:02 -0700 (PDT) Message-ID: <68e91e82.050a0220.3ced5c.dd30SMTPIN_ADDED_MISSING@mx.google.com> Received: from [172.21.0.2] (unknown [172.18.0.240]) by postal.iol.unh.edu (Postfix) with ESMTP id E8E316050A61; Fri, 10 Oct 2025 10:56:01 -0400 (EDT) Subject: |SUCCESS| pw157452-157453 [PATCH] [v3,2/2] net/ice: fix memory leak From: dpdklab@iol.unh.edu To: Test Report Cc: dpdk-test-reports@iol.unh.edu, Bruce Richardson In-Reply-To: <90b43cc3ea3d614c7a8812e1a5ecb0d5fff3615e.1760101992.git.anatoly.burakov@intel.com> References: <90b43cc3ea3d614c7a8812e1a5ecb0d5fff3615e.1760101992.git.anatoly.burakov@intel.com> Content-Type: text/plain X-BeenThere: test-report@dpdk.org X-Mailman-Version: 2.1.29 Precedence: list List-Id: automatic DPDK test reports List-Unsubscribe: , List-Archive: List-Post: List-Help: List-Subscribe: , Errors-To: test-report-bounces@dpdk.org Test-Label: iol-compile-amd64-testing Test-Status: SUCCESS http://dpdk.org/patch/157453 _Testing PASS_ Submitter: Anatoly Burakov Date: Friday, October 10 2025 13:13:20 DPDK git baseline: Repo:dpdk-next-net-intel Branch: master CommitID:d0eb31b594b42fb1dd4e8f2afad3e2a5f1846c1a 157452-157453 --> testing pass Upstream job id: Windows-Compile-DPDK-Native#31544 Test environment and result as below: +-------------------------------+--------------------+-------------------+------------------+-------------------+-------------------------+----------------------+ | Environment | dpdk_meson_compile | dpdk_compile_spdk | dpdk_compile_ovs | dpdk_msvc_compile | dpdk_llvm_clang_compile | dpdk_mingw64_compile | +===============================+====================+===================+==================+===================+=========================+======================+ | CentOS Stream 9 | PASS | PASS | SKIPPED | SKIPPED | SKIPPED | SKIPPED | +-------------------------------+--------------------+-------------------+------------------+-------------------+-------------------------+----------------------+ | CentOS Stream 10 | PASS | SKIPPED | SKIPPED | SKIPPED | SKIPPED | SKIPPED | +-------------------------------+--------------------+-------------------+------------------+-------------------+-------------------------+----------------------+ | Debian GNU/Linux 12 | PASS | PASS | SKIPPED | SKIPPED | SKIPPED | SKIPPED | +-------------------------------+--------------------+-------------------+------------------+-------------------+-------------------------+----------------------+ | Fedora Linux 42 | PASS | PASS | PASS | SKIPPED | SKIPPED | SKIPPED | +-------------------------------+--------------------+-------------------+------------------+-------------------+-------------------------+----------------------+ | Ubuntu 20.04 | PASS | SKIPPED | SKIPPED | SKIPPED | SKIPPED | SKIPPED | +-------------------------------+--------------------+-------------------+------------------+-------------------+-------------------------+----------------------+ | FreeBSD 14.2 | PASS | SKIPPED | SKIPPED | SKIPPED | SKIPPED | SKIPPED | +-------------------------------+--------------------+-------------------+------------------+-------------------+-------------------------+----------------------+ | Red Hat Enterprise Linux 8.10 | PASS | SKIPPED | SKIPPED | SKIPPED | SKIPPED | SKIPPED | +-------------------------------+--------------------+-------------------+------------------+-------------------+-------------------------+----------------------+ | openSUSE Leap 15.6 | PASS | SKIPPED | SKIPPED | SKIPPED | SKIPPED | SKIPPED | +-------------------------------+--------------------+-------------------+------------------+-------------------+-------------------------+----------------------+ | Red Hat Enterprise Linux 9.5 | PASS | SKIPPED | SKIPPED | SKIPPED | SKIPPED | SKIPPED | +-------------------------------+--------------------+-------------------+------------------+-------------------+-------------------------+----------------------+ | Ubuntu 24.04 | PASS | PASS | PASS | SKIPPED | SKIPPED | SKIPPED | +-------------------------------+--------------------+-------------------+------------------+-------------------+-------------------------+----------------------+ | Ubuntu 22.04 | PASS | PASS | SKIPPED | SKIPPED | SKIPPED | SKIPPED | +-------------------------------+--------------------+-------------------+------------------+-------------------+-------------------------+----------------------+ | Alpine Linux 3.22.0 | PASS | SKIPPED | SKIPPED | SKIPPED | SKIPPED | SKIPPED | +-------------------------------+--------------------+-------------------+------------------+-------------------+-------------------------+----------------------+ | Windows Server 2022 | SKIPPED | SKIPPED | SKIPPED | PASS | PASS | PASS | +-------------------------------+--------------------+-------------------+------------------+-------------------+-------------------------+----------------------+ CentOS Stream 9 Kernel: 5.15 Compiler: gcc gcc (GCC) 11.5.0 20240719 (Red Hat 11.5.0-11) CentOS Stream 10 Kernel: 5.15 Compiler: gcc gcc (GCC) 14.2.1 20250110 (Red Hat 14.2.1-8) Debian GNU/Linux 12 Kernel: 5.15 Compiler: gcc gcc (Debian 12.2.0-14+deb12u1) 12.2.0 Fedora Linux 42 Kernel: 5.15 Compiler: clang gcc (GCC) 15.2.1 20250808 (Red Hat 15.2.1-1) Ubuntu 20.04 Kernel: 4.19 Compiler: gcc gcc (Ubuntu 9.4.0-1ubuntu1~20.04.2) 9.4.0 FreeBSD 14.2 Kernel: 14.2-RELEASE Compiler: clang 18.1.6 Red Hat Enterprise Linux 8.10 Kernel: 5.15 Compiler: gcc gcc (GCC) 8.5.0 20210514 (Red Hat 8.5.0-22) openSUSE Leap 15.6 Kernel: 5.15 Compiler: gcc gcc (SUSE Linux) 7.5.0 Red Hat Enterprise Linux 9.5 Kernel: 5.15 Compiler: gcc gcc (GCC) 11.5.0 20240719 (Red Hat 11.5.0-2) Ubuntu 24.04 Kernel: 5.15 Compiler: gcc gcc (Ubuntu 13.3.0-6ubuntu2~24.04) 13.3.0 Ubuntu 22.04 Kernel: 5.15 Compiler: gcc gcc (Ubuntu 11.4.0-1ubuntu1~22.04) 11.4.0 Alpine Linux 3.22.0 Kernel: 5.15 Compiler: gcc gcc (Alpine 14.2.0) 14.2.0 Windows Server 2022 Kernel: 10.0.20348.2031 Compiler: clang 15.0.7, gcc 14.1.0 (MinGW), and MSVC VS 19.39.33521 To view detailed results, visit: https://lab.dpdk.org/results/dashboard/patchsets/34252/ UNH-IOL DPDK Community Lab To manage your email subscriptions, visit: https://lab.dpdk.org/results/dashboard/preferences/subscriptions/