From mboxrd@z Thu Jan 1 00:00:00 1970 Return-Path: Received: from mails.dpdk.org (mails.dpdk.org [217.70.189.124]) by inbox.dpdk.org (Postfix) with ESMTP id 3600148900 for ; Fri, 10 Oct 2025 17:11:35 +0200 (CEST) Received: from mails.dpdk.org (localhost [127.0.0.1]) by mails.dpdk.org (Postfix) with ESMTP id 0B6E84003C; Fri, 10 Oct 2025 17:11:35 +0200 (CEST) Received: from mail-oa1-f100.google.com (mail-oa1-f100.google.com [209.85.160.100]) by mails.dpdk.org (Postfix) with ESMTP id C3B584003C for ; Fri, 10 Oct 2025 17:11:33 +0200 (CEST) Received: by mail-oa1-f100.google.com with SMTP id 586e51a60fabf-30cce872d9cso1434994fac.1 for ; Fri, 10 Oct 2025 08:11:33 -0700 (PDT) DKIM-Signature: v=1; a=rsa-sha256; c=relaxed/relaxed; d=iol.unh.edu; s=unh-iol; t=1760109093; x=1760713893; darn=dpdk.org; h=references:in-reply-to:cc:to:from:subject:message-id:date:from:to :cc:subject:date:message-id:reply-to; bh=ja1SXP74ncGJz5ieF/000tyges2QFYk9LirmPpXfkfY=; b=dX0mZm8y8ycosok9JEJtlw+IYwdPJGyR07Hp7lANDvBYT0OWPEjju6/h4yIIKz/ij0 KRf0SSzwiEXbNmx/HPSNYuHF7ovE9I3CEfJIrxCZpLq907ktkAorn9U/aNWftK8qdPGm JWnrdleBv5r/InRlnICN39Kx7Qh9YInXgX6Q0= X-Google-DKIM-Signature: v=1; a=rsa-sha256; c=relaxed/relaxed; d=1e100.net; s=20230601; t=1760109093; x=1760713893; h=references:in-reply-to:cc:to:from:subject:message-id:date :x-gm-message-state:from:to:cc:subject:date:message-id:reply-to; bh=ja1SXP74ncGJz5ieF/000tyges2QFYk9LirmPpXfkfY=; b=iaBdCJLWzDKC44EVZwJH8VSgTtF31tjcIGrM9qDRqp4fcCkZCr+/RiHA4S1su9hX8L AaGUTbnLyengpB1gLVv19dY3eM4YLGjr7bcJzLfKhXqWYxiyQ7v0lgTNV5shZiQb363k 9njPmZ9EGf4Jwc6pHxcBvYzWDJ1O+S1i7erxA5KpnCFvuAyn/rkmy3ozRqQJIOI8NTQi vYI/Vah00/cRPcaA9qPWR2vFVado/ao7ekI9I75nJKjy9wZp8sE/E8Mv//OYeZizjxBS kN2rDWhj+CdJMk3Vxo9zHoXT3R3LQ5Ny+QmRIJ57VxiFHY04s4q2D/goXHW5ej5qi5Qv Nh7A== X-Gm-Message-State: AOJu0YwB11rEbK9ERfZJhc33E1FqyDp8YvaNjAAixnzKPT9irtxntWNF HxwL7QT0iAqTJAOM4EgJTpgF7VrJ1H/qyQc4dcgqj3ztTKj2ih5Yym7kY3VeOMRSM2cHroYz+qR DDt4R5djQffhdErvFEpqoPf5kpfcuCBVPRBN1 X-Gm-Gg: ASbGncsrkK6nr8a1xh96C3VCDjeTDoQg26FN/SOSymcfDecSqtKP+gAo7LEP87JQrX8 IIO1cYFXmWaTAqd3RyZ6k5g13Bg6456Khy3oAQtum52NtkvlSVw/Y9MQOrPizL4RLTtad4gT9ab CPcAzjOaVwJEKUuEHvxjL9IJruXR9ejYDW5o3xKYK0Scgw9hl77e1+subi8tWky5X1pbCoeyc5H 15CJfi+r+9yy5J6rc/iVKuDZCzwZ7KaxCtoCnl4/XLUwS5CzGsOAtUFC6uOYJfR2XCdfI4qle/K KgGlhscHhCfpJ/yntAaazkAEg2VZJnVDv9rHiBsJ X-Google-Smtp-Source: AGHT+IHxOAm5a2+IsZn/Z1uEtsOevIOrxLgs5zY6B9Nvw3ML+4cZr2RlePAqWTuPJCcQf02RncDCA96gQim0 X-Received: by 2002:a05:6871:5809:b0:3af:8c3:8323 with SMTP id 586e51a60fabf-3c0f6af5c3dmr5199449fac.14.1760109093052; Fri, 10 Oct 2025 08:11:33 -0700 (PDT) Received: from postal.iol.unh.edu (postal.iol.unh.edu. [132.177.123.84]) by smtp-relay.gmail.com with ESMTPS id 586e51a60fabf-3c8c8e8a01csm238237fac.15.2025.10.10.08.11.32 (version=TLS1_2 cipher=ECDHE-ECDSA-AES128-GCM-SHA256 bits=128/128); Fri, 10 Oct 2025 08:11:33 -0700 (PDT) X-Relaying-Domain: iol.unh.edu Date: Fri, 10 Oct 2025 08:11:33 -0700 (PDT) Message-ID: <68e92225.050a0220.233bdf.cc4aSMTPIN_ADDED_MISSING@mx.google.com> Received: from [172.21.0.2] (unknown [172.18.0.240]) by postal.iol.unh.edu (Postfix) with ESMTP id 8299B6051830; Fri, 10 Oct 2025 11:11:32 -0400 (EDT) Subject: |SUCCESS| pw157452-157453 [PATCH] [v3,2/2] net/ice: fix memory leak From: dpdklab@iol.unh.edu To: Test Report Cc: dpdk-test-reports@iol.unh.edu, Bruce Richardson In-Reply-To: <90b43cc3ea3d614c7a8812e1a5ecb0d5fff3615e.1760101992.git.anatoly.burakov@intel.com> References: <90b43cc3ea3d614c7a8812e1a5ecb0d5fff3615e.1760101992.git.anatoly.burakov@intel.com> Content-Type: text/plain X-BeenThere: test-report@dpdk.org X-Mailman-Version: 2.1.29 Precedence: list List-Id: automatic DPDK test reports List-Unsubscribe: , List-Archive: List-Post: List-Help: List-Subscribe: , Errors-To: test-report-bounces@dpdk.org Test-Label: iol-unit-amd64-testing Test-Status: SUCCESS http://dpdk.org/patch/157453 _Testing PASS_ Submitter: Anatoly Burakov Date: Friday, October 10 2025 13:13:20 DPDK git baseline: Repo:dpdk-next-net-intel Branch: master CommitID:d0eb31b594b42fb1dd4e8f2afad3e2a5f1846c1a 157452-157453 --> testing pass Upstream job id: Generic-VM-Unit-Test-DPDK#31715 Test environment and result as below: +-------------------------------+----------------+ | Environment | dpdk_unit_test | +===============================+================+ | CentOS Stream 9 | PASS | +-------------------------------+----------------+ | Debian GNU/Linux 12 | PASS | +-------------------------------+----------------+ | CentOS Stream 10 | PASS | +-------------------------------+----------------+ | Fedora Linux 40 | PASS | +-------------------------------+----------------+ | Fedora Linux 41 | PASS | +-------------------------------+----------------+ | Fedora Linux 42 | PASS | +-------------------------------+----------------+ | Red Hat Enterprise Linux 8.10 | PASS | +-------------------------------+----------------+ | Ubuntu 20.04 | PASS | +-------------------------------+----------------+ | Ubuntu 24.04 | PASS | +-------------------------------+----------------+ | Red Hat Enterprise Linux 9.5 | PASS | +-------------------------------+----------------+ | Ubuntu 22.04 | PASS | +-------------------------------+----------------+ | Windows Server 2022 | PASS | +-------------------------------+----------------+ CentOS Stream 9 Kernel: 5.15 Compiler: gcc gcc (GCC) 11.5.0 20240719 (Red Hat 11.5.0-11) Debian GNU/Linux 12 Kernel: 5.15 Compiler: gcc gcc (Debian 12.2.0-14+deb12u1) 12.2.0 CentOS Stream 10 Kernel: 5.15 Compiler: gcc gcc (GCC) 14.2.1 20250110 (Red Hat 14.2.1-8) Fedora Linux 40 Kernel: 5.15 Compiler: gcc gcc (GCC) 14.2.1 20240912 (Red Hat 14.2.1-3) Fedora Linux 41 Kernel: 5.15 Compiler: gcc gcc (GCC) 14.3.1 20250523 (Red Hat 14.3.1-1) Fedora Linux 42 Kernel: 5.15 Compiler: clang gcc (GCC) 15.2.1 20250808 (Red Hat 15.2.1-1) Red Hat Enterprise Linux 8.10 Kernel: 5.15 Compiler: gcc gcc (GCC) 8.5.0 20210514 (Red Hat 8.5.0-22) Ubuntu 20.04 Kernel: 5.15 Compiler: gcc gcc (Ubuntu 9.4.0-1ubuntu1~20.04.2) 9.4.0 Ubuntu 24.04 Kernel: 5.15 Compiler: gcc gcc (Ubuntu 13.3.0-6ubuntu2~24.04) 13.3.0 Red Hat Enterprise Linux 9.5 Kernel: 5.15 Compiler: gcc gcc (GCC) 11.5.0 20240719 (Red Hat 11.5.0-2) Ubuntu 22.04 Kernel: 5.15 Compiler: gcc gcc (Ubuntu 11.4.0-1ubuntu1~22.04) 11.4.0 Windows Server 2022 Kernel: 10.0.20348.2031 Compiler: clang 15.0.7, gcc 14.1.0 (MinGW), and MSVC VS 19.39.33521 To view detailed results, visit: https://lab.dpdk.org/results/dashboard/patchsets/34252/ UNH-IOL DPDK Community Lab To manage your email subscriptions, visit: https://lab.dpdk.org/results/dashboard/preferences/subscriptions/