From mboxrd@z Thu Jan 1 00:00:00 1970 Return-Path: Received: from mails.dpdk.org (mails.dpdk.org [217.70.189.124]) by inbox.dpdk.org (Postfix) with ESMTP id 9582F48900 for ; Fri, 10 Oct 2025 17:56:46 +0200 (CEST) Received: from mails.dpdk.org (localhost [127.0.0.1]) by mails.dpdk.org (Postfix) with ESMTP id 8A3234003C; Fri, 10 Oct 2025 17:56:46 +0200 (CEST) Received: from mail-oa1-f99.google.com (mail-oa1-f99.google.com [209.85.160.99]) by mails.dpdk.org (Postfix) with ESMTP id 893A04003C for ; Fri, 10 Oct 2025 17:56:45 +0200 (CEST) Received: by mail-oa1-f99.google.com with SMTP id 586e51a60fabf-3af5fccaef2so1250595fac.1 for ; Fri, 10 Oct 2025 08:56:45 -0700 (PDT) DKIM-Signature: v=1; a=rsa-sha256; c=relaxed/relaxed; d=iol.unh.edu; s=unh-iol; t=1760111805; x=1760716605; darn=dpdk.org; h=references:in-reply-to:cc:to:from:subject:message-id:date:from:to :cc:subject:date:message-id:reply-to; bh=8Y/ROxdNHkfZ9VXQf8BJqFHcczhvRIAdnKnp6rmbGAU=; b=g4rq1EF7pxF+CitKOiNQQqVr8p72TwiM024v+m8OHngcXV4O8o8bOk96df+sV8v9Nq TyTX2iUu3JNMijWRo64dLbb8Qit3jp2kiEAnqRfBZcJfzALyO68Dc9YkGuO2yNfrVNDV i4vaEApWEABypa3Try/sZEaKFvfzohWF5wmwQ= X-Google-DKIM-Signature: v=1; a=rsa-sha256; c=relaxed/relaxed; d=1e100.net; s=20230601; t=1760111805; x=1760716605; h=references:in-reply-to:cc:to:from:subject:message-id:date :x-gm-message-state:from:to:cc:subject:date:message-id:reply-to; bh=8Y/ROxdNHkfZ9VXQf8BJqFHcczhvRIAdnKnp6rmbGAU=; b=hywdg76M630FSmbbxZoMx8NIkmUGJwsh+dZauP5gsSBGegjm2HD1SP2d7c+rHQFlPr PMo2PghuKy7veBdYjwyzXXxXCaAYTtajc1H+0eY59i10+RkWFivAw5wJ34v/Rc/nPlL9 SAt8AP8te2bMSLdTMh+ViM+DLaGfCgCc114iMUaXJwqt1y01qu6L/G0OcorKSh9cq4wz xkkWZY0zWh/9qzQuMHE9ne/POH6XgdrJQYOUfO5WF3YqKRq5ch6lcs9YpGlkmBB0wKEh b9gVMijSuH/QlnB77usUkdVQHfbvJhSLTwYePDezjyJYLkGIpqFNPJhrhF78GjiUH8p0 L91Q== X-Gm-Message-State: AOJu0YwCPmQ7XR6NWIDpOxBMkdbnMyyS88mSoV63rNzM4PIfQGRNYH/8 Up/NxxZVT+WFcdT/ex130YOqOEV3x9b3c1gDwHzkW9fsWg6Dx4RuSY9qSQCeZcZxYTW5y84TToF HdmnbcButxOuVwQ+Noc3hYnWyp46+lRh6w5ugsanpBV54qFk74prBkHPCoUKP X-Gm-Gg: ASbGnctK1yLlPa8WIdAS8P8Bfr6bKrfuzzj6PO+LtSNHNZLWBAo9TVyvUAv6/lOBhYR W2tDaiJiMt0Va7jLdhhqRe7WZJPGKAj2dBXBgzX0kxdsgGHViB1FYD2+hEXCNXA4fuP1QfNyjJI baEpKZMBAOYoT7O4Kxwtza52C4bjA0K2A28Xn7DDFUhsevuiuowe0uVzRXK7WysfXHYoRozNsp4 fA1uSkRzrqW9/EvZ4MtY+ly1kw6i7DlQ1NqYllNdvWnhRyqMxl+elbVrCCDto1Ao6Dsxg4OgVg/ 8N8Yj8upKIHQIsNPYvCF6npB8T/StSEvYt3GgVkoIK0RSIM83A== X-Google-Smtp-Source: AGHT+IE87mqcz9knjgEhEeAOc5Ulmzvgxf/dMKp5enugMyHrRMOlkTc3XfNsqTkf//4NST7+tOFeyrypLp3C X-Received: by 2002:a05:6870:d312:b0:315:60a6:c27b with SMTP id 586e51a60fabf-3c115c148fbmr5405033fac.10.1760111804585; Fri, 10 Oct 2025 08:56:44 -0700 (PDT) Received: from postal.iol.unh.edu (postal.iol.unh.edu. [2606:4100:3880:1234::84]) by smtp-relay.gmail.com with ESMTPS id 586e51a60fabf-3c8c8f0a77esm252947fac.20.2025.10.10.08.56.44 (version=TLS1_2 cipher=ECDHE-ECDSA-AES128-GCM-SHA256 bits=128/128); Fri, 10 Oct 2025 08:56:44 -0700 (PDT) X-Relaying-Domain: iol.unh.edu Date: Fri, 10 Oct 2025 08:56:44 -0700 (PDT) Message-ID: <68e92cbc.050a0220.d0859.d6ceSMTPIN_ADDED_MISSING@mx.google.com> Received: from [172.21.0.2] (unknown [172.18.0.240]) by postal.iol.unh.edu (Postfix) with ESMTP id 1D1FF604D420; Fri, 10 Oct 2025 11:56:44 -0400 (EDT) Subject: |SUCCESS| pw157454 [PATCH] [v2,1/1] lib/dma: introduce inter-process From: dpdklab@iol.unh.edu To: Test Report Cc: dpdk-test-reports@iol.unh.edu In-Reply-To: <20251010144631.713063-1-vattunuru@marvell.com> References: <20251010144631.713063-1-vattunuru@marvell.com> Content-Type: text/plain X-BeenThere: test-report@dpdk.org X-Mailman-Version: 2.1.29 Precedence: list List-Id: automatic DPDK test reports List-Unsubscribe: , List-Archive: List-Post: List-Help: List-Subscribe: , Errors-To: test-report-bounces@dpdk.org Test-Label: iol-unit-amd64-testing Test-Status: SUCCESS http://dpdk.org/patch/157454 _Testing PASS_ Submitter: Vamsi Krishna Date: Friday, October 10 2025 14:46:31 DPDK git baseline: Repo:dpdk Branch: master CommitID:2b403dd8fb37d0ba13723e44ffc7ee2c2795f838 157454 --> testing pass Upstream job id: Generic-VM-Unit-Test-DPDK#31716 Test environment and result as below: +-------------------------------+----------------+ | Environment | dpdk_unit_test | +===============================+================+ | CentOS Stream 9 | PASS | +-------------------------------+----------------+ | Debian GNU/Linux 12 | PASS | +-------------------------------+----------------+ | CentOS Stream 10 | PASS | +-------------------------------+----------------+ | Fedora Linux 40 | PASS | +-------------------------------+----------------+ | Fedora Linux 41 | PASS | +-------------------------------+----------------+ | Fedora Linux 42 | PASS | +-------------------------------+----------------+ | Red Hat Enterprise Linux 9.5 | PASS | +-------------------------------+----------------+ | Ubuntu 22.04 | PASS | +-------------------------------+----------------+ | Ubuntu 20.04 | PASS | +-------------------------------+----------------+ | Ubuntu 24.04 | PASS | +-------------------------------+----------------+ | Red Hat Enterprise Linux 8.10 | PASS | +-------------------------------+----------------+ | Windows Server 2022 | PASS | +-------------------------------+----------------+ CentOS Stream 9 Kernel: 5.15 Compiler: gcc gcc (GCC) 11.5.0 20240719 (Red Hat 11.5.0-11) Debian GNU/Linux 12 Kernel: 5.15 Compiler: gcc gcc (Debian 12.2.0-14+deb12u1) 12.2.0 CentOS Stream 10 Kernel: 5.15 Compiler: gcc gcc (GCC) 14.2.1 20250110 (Red Hat 14.2.1-8) Fedora Linux 40 Kernel: 5.15 Compiler: gcc gcc (GCC) 14.2.1 20240912 (Red Hat 14.2.1-3) Fedora Linux 41 Kernel: 5.15 Compiler: gcc gcc (GCC) 14.3.1 20250523 (Red Hat 14.3.1-1) Fedora Linux 42 Kernel: 5.15 Compiler: gcc gcc (GCC) 15.2.1 20250808 (Red Hat 15.2.1-1) Red Hat Enterprise Linux 9.5 Kernel: 5.15 Compiler: gcc gcc (GCC) 11.5.0 20240719 (Red Hat 11.5.0-2) Ubuntu 22.04 Kernel: 5.15 Compiler: gcc gcc (Ubuntu 11.4.0-1ubuntu1~22.04) 11.4.0 Ubuntu 20.04 Kernel: 5.15 Compiler: gcc gcc (Ubuntu 9.4.0-1ubuntu1~20.04.2) 9.4.0 Ubuntu 24.04 Kernel: 5.15 Compiler: gcc gcc (Ubuntu 13.3.0-6ubuntu2~24.04) 13.3.0 Red Hat Enterprise Linux 8.10 Kernel: 5.15 Compiler: gcc gcc (GCC) 8.5.0 20210514 (Red Hat 8.5.0-22) Windows Server 2022 Kernel: 10.0.20348.2031 Compiler: clang 15.0.7, gcc 14.1.0 (MinGW), and MSVC VS 19.39.33521 To view detailed results, visit: https://lab.dpdk.org/results/dashboard/patchsets/34253/ UNH-IOL DPDK Community Lab To manage your email subscriptions, visit: https://lab.dpdk.org/results/dashboard/preferences/subscriptions/