From mboxrd@z Thu Jan 1 00:00:00 1970 Return-Path: Received: from mails.dpdk.org (mails.dpdk.org [217.70.189.124]) by inbox.dpdk.org (Postfix) with ESMTP id B3FF848901 for ; Fri, 10 Oct 2025 18:08:19 +0200 (CEST) Received: from mails.dpdk.org (localhost [127.0.0.1]) by mails.dpdk.org (Postfix) with ESMTP id 91AA54003C; Fri, 10 Oct 2025 18:08:19 +0200 (CEST) Received: from mail-pl1-f225.google.com (mail-pl1-f225.google.com [209.85.214.225]) by mails.dpdk.org (Postfix) with ESMTP id 4B2524003C for ; Fri, 10 Oct 2025 18:08:18 +0200 (CEST) Received: by mail-pl1-f225.google.com with SMTP id d9443c01a7336-2698e4795ebso22263585ad.0 for ; Fri, 10 Oct 2025 09:08:18 -0700 (PDT) DKIM-Signature: v=1; a=rsa-sha256; c=relaxed/relaxed; d=iol.unh.edu; s=unh-iol; t=1760112497; x=1760717297; darn=dpdk.org; h=references:in-reply-to:cc:to:from:subject:message-id:date:from:to :cc:subject:date:message-id:reply-to; bh=YDG6qe9u5BMF/XdM7AyUs/yn3WbFnfnVsJs0h27mOwg=; b=avqu2k+ZCHDLbQcpgN5ECsq8UkF2HbmO8FRg7OLioOI/AfqKeH4w8tp7FMb2OucoQY Ecv2z+7Tpm/ff4ytPBWXdwxqRMyEKt0wI0utMOF1Pn5O3Lfn+6vKlZLrjRbqg4DVsjXS pL/zg+8ASDAmocg8euc8cDA5GayfoXW7z+cRU= X-Google-DKIM-Signature: v=1; a=rsa-sha256; c=relaxed/relaxed; d=1e100.net; s=20230601; t=1760112497; x=1760717297; h=references:in-reply-to:cc:to:from:subject:message-id:date :x-gm-message-state:from:to:cc:subject:date:message-id:reply-to; bh=YDG6qe9u5BMF/XdM7AyUs/yn3WbFnfnVsJs0h27mOwg=; b=h8oZ8lTq8yPY7QTU1BUor+TGANTTbfx7yCDCjLH5XZ6GHYkmYCImt6jLvkJvkUB2Mi UqrUbw7R2JzVgznjjmEE8ayr7b18LBX5595jxR9XGdPlIfJzI/As+wkm05z7FAPmjXuF z1KRuxH+RR6h5dLRYMwQ5gTXvnepIgfrKl6277mxRZWKqJeqUs5ZGOrSBqs/HneF8Ke2 hWtAeCKgjEDhSXJKzinsxKwJn1zRtY2hOrBWZ7nlX3I5QGCGonuvrxfLjzJLHpO1FUhF KVTu1GEr3LRywb0QmYAbZwLJ5MQy3YlHyTgC+c9WHPHuwNcx/SS/5v494QxhIFNVMiTc TxtA== X-Gm-Message-State: AOJu0YyXp0xJ3wpIPjspjayYP4ITlAmNl9c7Dc7xXntMVV6fQhnM8d5D HoDwxft3yH8xV4XP0iuZ2knRMo8HDDpxUucnVBpp9z970i4ISgUqgDGeBc6J1iB0gTVbdvoxzLw XTPRYxW2yIQaW6H/YK7SdF4zvzYkKjTPW+OHZr2LgAyNo X-Gm-Gg: ASbGncuZmPZq3XrG4HVpMF1i3SQzSrGBNKzjIRwNBcP5PbODuP8PLjKs3KqRIZNnyJC re5P/Q7SNghTYuyzXXCSWJxX+FLYI/lqZpo4RCVdSLhhD2ZkhI8+kj7iSyLxARZmt/0vpFAQ/JX uIXv3N4p++hlFCN9n92d0hw0Y9EGkR1FD3AO1EYv0b7AFFL5zk3hQYWpZSFBqcyXHPp4n0KThuJ cN1WaX8fVGj57POONuvB3kvYOYXCmPZKFP/cuSATEyTsXH7y/JL0GbhkIbncKYq/nzaTA7EunNA dCfX8y73hn5PSoZYh55Idm5OgbTuPgkMgHbswexksbDTrsvFImJ8sRZHHWwuMLR0yB2/P7EM X-Google-Smtp-Source: AGHT+IGs3ixzl3Y6nsNTbuHD9DrlIaiKsU7X+P6YZsyypTf7+ASY+a2g9jNJrve47NT5Q2Czk4uaL5W77ydu X-Received: by 2002:a17:903:fa7:b0:25c:d4b6:f119 with SMTP id d9443c01a7336-29027356361mr154919245ad.12.1760112497334; Fri, 10 Oct 2025 09:08:17 -0700 (PDT) Received: from postal.iol.unh.edu (postal.iol.unh.edu. [132.177.123.84]) by smtp-relay.gmail.com with ESMTPS id d9443c01a7336-29034f2ca52sm5005565ad.51.2025.10.10.09.08.17 (version=TLS1_2 cipher=ECDHE-ECDSA-AES128-GCM-SHA256 bits=128/128); Fri, 10 Oct 2025 09:08:17 -0700 (PDT) X-Relaying-Domain: iol.unh.edu Date: Fri, 10 Oct 2025 09:08:17 -0700 (PDT) Message-ID: <68e92f71.170a0220.3a30ef.ab74SMTPIN_ADDED_MISSING@mx.google.com> Received: from [172.21.0.3] (unknown [172.18.0.240]) by postal.iol.unh.edu (Postfix) with ESMTP id 80FA460003F7; Fri, 10 Oct 2025 12:08:16 -0400 (EDT) Subject: |SUCCESS| pw157454 [PATCH] [v2,1/1] lib/dma: introduce inter-process From: dpdklab@iol.unh.edu To: Test Report Cc: dpdk-test-reports@iol.unh.edu In-Reply-To: <20251010144631.713063-1-vattunuru@marvell.com> References: <20251010144631.713063-1-vattunuru@marvell.com> Content-Type: text/plain X-BeenThere: test-report@dpdk.org X-Mailman-Version: 2.1.29 Precedence: list List-Id: automatic DPDK test reports List-Unsubscribe: , List-Archive: List-Post: List-Help: List-Subscribe: , Errors-To: test-report-bounces@dpdk.org Test-Label: iol-unit-amd64-testing Test-Status: SUCCESS http://dpdk.org/patch/157454 _Testing PASS_ Submitter: Vamsi Krishna Date: Friday, October 10 2025 14:46:31 DPDK git baseline: Repo:dpdk Branch: master CommitID:2b403dd8fb37d0ba13723e44ffc7ee2c2795f838 157454 --> testing pass Upstream job id: Generic-VM-Unit-Test-DPDK#31717 Test environment and result as below: +-------------------------------+----------------+ | Environment | dpdk_unit_test | +===============================+================+ | CentOS Stream 9 | PASS | +-------------------------------+----------------+ | Debian GNU/Linux 12 | PASS | +-------------------------------+----------------+ | CentOS Stream 10 | PASS | +-------------------------------+----------------+ | Fedora Linux 40 | PASS | +-------------------------------+----------------+ | Fedora Linux 41 | PASS | +-------------------------------+----------------+ | Fedora Linux 42 | PASS | +-------------------------------+----------------+ | Red Hat Enterprise Linux 9.5 | PASS | +-------------------------------+----------------+ | Ubuntu 22.04 | PASS | +-------------------------------+----------------+ | Ubuntu 20.04 | PASS | +-------------------------------+----------------+ | Ubuntu 24.04 | PASS | +-------------------------------+----------------+ | Red Hat Enterprise Linux 8.10 | PASS | +-------------------------------+----------------+ | Windows Server 2022 | PASS | +-------------------------------+----------------+ CentOS Stream 9 Kernel: 5.15 Compiler: gcc gcc (GCC) 11.5.0 20240719 (Red Hat 11.5.0-11) Debian GNU/Linux 12 Kernel: 5.15 Compiler: gcc gcc (Debian 12.2.0-14+deb12u1) 12.2.0 CentOS Stream 10 Kernel: 5.15 Compiler: gcc gcc (GCC) 14.2.1 20250110 (Red Hat 14.2.1-8) Fedora Linux 40 Kernel: 5.15 Compiler: gcc gcc (GCC) 14.2.1 20240912 (Red Hat 14.2.1-3) Fedora Linux 41 Kernel: 5.15 Compiler: gcc gcc (GCC) 14.3.1 20250523 (Red Hat 14.3.1-1) Fedora Linux 42 Kernel: 5.15 Compiler: gcc gcc (GCC) 15.2.1 20250808 (Red Hat 15.2.1-1) Red Hat Enterprise Linux 9.5 Kernel: 5.15 Compiler: gcc gcc (GCC) 11.5.0 20240719 (Red Hat 11.5.0-2) Ubuntu 22.04 Kernel: 5.15 Compiler: gcc gcc (Ubuntu 11.4.0-1ubuntu1~22.04) 11.4.0 Ubuntu 20.04 Kernel: 5.15 Compiler: gcc gcc (Ubuntu 9.4.0-1ubuntu1~20.04.2) 9.4.0 Ubuntu 24.04 Kernel: 5.15 Compiler: gcc gcc (Ubuntu 13.3.0-6ubuntu2~24.04) 13.3.0 Red Hat Enterprise Linux 8.10 Kernel: 5.15 Compiler: gcc gcc (GCC) 8.5.0 20210514 (Red Hat 8.5.0-22) Windows Server 2022 Kernel: 10.0.20348.2031 Compiler: clang 15.0.7, gcc 14.1.0 (MinGW), and MSVC VS 19.39.33521 To view detailed results, visit: https://lab.dpdk.org/results/dashboard/patchsets/34253/ UNH-IOL DPDK Community Lab To manage your email subscriptions, visit: https://lab.dpdk.org/results/dashboard/preferences/subscriptions/