From mboxrd@z Thu Jan 1 00:00:00 1970 Return-Path: Received: from mails.dpdk.org (mails.dpdk.org [217.70.189.124]) by inbox.dpdk.org (Postfix) with ESMTP id 1F95B48901 for ; Fri, 10 Oct 2025 18:44:37 +0200 (CEST) Received: from mails.dpdk.org (localhost [127.0.0.1]) by mails.dpdk.org (Postfix) with ESMTP id F148C4003C; Fri, 10 Oct 2025 18:44:36 +0200 (CEST) Received: from mail-yx1-f100.google.com (mail-yx1-f100.google.com [74.125.224.100]) by mails.dpdk.org (Postfix) with ESMTP id 690854003C for ; Fri, 10 Oct 2025 18:44:36 +0200 (CEST) Received: by mail-yx1-f100.google.com with SMTP id 956f58d0204a3-63b710f276fso2373818d50.1 for ; Fri, 10 Oct 2025 09:44:36 -0700 (PDT) DKIM-Signature: v=1; a=rsa-sha256; c=relaxed/relaxed; d=iol.unh.edu; s=unh-iol; t=1760114675; x=1760719475; darn=dpdk.org; h=references:in-reply-to:cc:to:from:subject:message-id:date:from:to :cc:subject:date:message-id:reply-to; bh=eQY8aMVeV84mGbBjBjMxIngW6cbJ61k4Fb4huGiatSM=; b=AnyPrj6tHGz4bZlikZ+x7N5cwG+tTcSTXuV++o2YyU/OESajsHoIVGucoKCYMM/cUu pvivOV6ScYjrA1oPCiJ7biAV/mZSzvm8YPE3+mTLqcreGTtqrGszsWuYHFMgCdPGTRvy YVmrRdfk5C2jrrlOgLYBwPt2zqJPmxaDlBXu0= X-Google-DKIM-Signature: v=1; a=rsa-sha256; c=relaxed/relaxed; d=1e100.net; s=20230601; t=1760114675; x=1760719475; h=references:in-reply-to:cc:to:from:subject:message-id:date :x-gm-message-state:from:to:cc:subject:date:message-id:reply-to; bh=eQY8aMVeV84mGbBjBjMxIngW6cbJ61k4Fb4huGiatSM=; b=g+GbJSZxXEiYgU6/qNinKIYBUlfb+sY2WZJDWz1AldXFH8bK7/4Fd4XU2sISFBvVi1 ui9G7NJU36YXxzFYiQmapf5QXwJrgq8QrtRCVY74N1cI3VrFNBlXaNxI3cRT1Ahn9O/V oK2k157jW/m53wUGp67a8f81F7giIa+7LOVQvYVlbJoITm0Ion87MF2W/jlVcO2I+xn7 T6t+h8E1U2by0YIjd9VisWph2KRThZZ0oFATw+c61qa6LaQvwXCVHSl3h9nFH1A16Q8C b4zEdHJfKKdHw7PARr36B5DtRIitRozcvjZR7H42XcpbifjYcTE0L4ilJ4qZP1yDZUoH zarw== X-Gm-Message-State: AOJu0YyWPeYXkrcRD5IpeD41QFcTYdMibFNf/R85yY5Vzp/ZWkJ4AQlW uPWTFo4aTET2WRktobK3V2oVHF2gJTn8L/vJlnr4vn3DWYnFa+Y8hp9WIcsrm4UQcLOoy19I4j4 XSJiKv+LnLontQ6mVITr96nv7RNbyUL1jL/ghH6M+oq5fS0WvQe/yND0GY6k9 X-Gm-Gg: ASbGncs7es+KDQMjDM5a0eeBu5Ipt0CXHgGLyLTDVFdIHd+USlLLKvxmO6fFFXLv1Hk NdMJZBRw9bBsEmQg+4Caq+5lLoQOF39PuZ8AvXaieiv5Bu3/l4Minnc+Y7X+lT6xsDJpUybdiu5 V5yawtUmtPxZ8BS+bZNfV6y/qAB/aCqQ97t/D5J1SWiiwDBTEiC+dtTgz4uZNpG0fXkIpsMXwhy 8N+uGqT2ZKrLOoCDGg56KDll37heuRaWC02MABMYnvxWNUsF75CG2u+YjKRGzgmDH/RYR9plAIb VioXFlOENyv1ihnfv1BgPKm8dFLJ77AlTCU+tuOkRNKBLCsiJw== X-Google-Smtp-Source: AGHT+IH2av8WaLu3beKpOjKoQis8rBChQxttdSkQpxnlpmPlJNyuWUE87dBumDQhpn3MGBYjZUi+BvWM0D70 X-Received: by 2002:a53:cf0e:0:b0:63c:dc3b:44d5 with SMTP id 956f58d0204a3-63cdc3b47a3mr5317614d50.33.1760114675521; Fri, 10 Oct 2025 09:44:35 -0700 (PDT) Received: from postal.iol.unh.edu (postal.iol.unh.edu. [2606:4100:3880:1234::84]) by smtp-relay.gmail.com with ESMTPS id 00721157ae682-78106d47517sm1637077b3.9.2025.10.10.09.44.35 (version=TLS1_2 cipher=ECDHE-ECDSA-AES128-GCM-SHA256 bits=128/128); Fri, 10 Oct 2025 09:44:35 -0700 (PDT) X-Relaying-Domain: iol.unh.edu Date: Fri, 10 Oct 2025 09:44:35 -0700 (PDT) Message-ID: <68e937f3.050a0220.1cac60.8989SMTPIN_ADDED_MISSING@mx.google.com> Received: from [172.21.0.2] (unknown [172.18.0.240]) by postal.iol.unh.edu (Postfix) with ESMTP id 28BD36051830; Fri, 10 Oct 2025 12:44:35 -0400 (EDT) Subject: |SUCCESS| pw157451 [PATCH] net/e1000: fix crash when built with GCC From: dpdklab@iol.unh.edu To: Test Report Cc: dpdk-test-reports@iol.unh.edu, Bruce Richardson In-Reply-To: <20251010125848.965340-1-ciara.loftus@intel.com> References: <20251010125848.965340-1-ciara.loftus@intel.com> Content-Type: text/plain X-BeenThere: test-report@dpdk.org X-Mailman-Version: 2.1.29 Precedence: list List-Id: automatic DPDK test reports List-Unsubscribe: , List-Archive: List-Post: List-Help: List-Subscribe: , Errors-To: test-report-bounces@dpdk.org Test-Label: iol-compile-arm64-testing Test-Status: SUCCESS http://dpdk.org/patch/157451 _Testing PASS_ Submitter: Loftus, Ciara Date: Friday, October 10 2025 12:58:48 DPDK git baseline: Repo:dpdk-next-net-intel Branch: master CommitID:d0eb31b594b42fb1dd4e8f2afad3e2a5f1846c1a 157451 --> testing pass Upstream job id: Generic-DPDK-Compile-Meson#433214 Test environment and result as below: +------------------------------+--------------------+ | Environment | dpdk_meson_compile | +==============================+====================+ | Red Hat Enterprise Linux 9.5 | PASS | +------------------------------+--------------------+ | Ubuntu 20.04 | PASS | +------------------------------+--------------------+ | Debian GNU/Linux 12 | PASS | +------------------------------+--------------------+ | Fedora Linux 42 | PASS | +------------------------------+--------------------+ | Ubuntu 22.04 | PASS | +------------------------------+--------------------+ | Ubuntu 24.04 | PASS | +------------------------------+--------------------+ | CentOS Stream 9 | PASS | +------------------------------+--------------------+ | CentOS Stream 10 | PASS | +------------------------------+--------------------+ Red Hat Enterprise Linux 9.5 Kernel: 5.4 Compiler: gcc gcc (GCC) 11.5.0 20240719 (Red Hat 11.5.0-2) Ubuntu 20.04 Kernel: 5.15 Compiler: aarch64-linux-gnu-gcc gcc (Ubuntu 9.4.0-1ubuntu1~20.04.2) 9.4.0 Debian GNU/Linux 12 Kernel: 5.4 Compiler: gcc gcc (Debian 12.2.0-14+deb12u1) 12.2.0 Fedora Linux 42 Kernel: 5.4 Compiler: gcc gcc (GCC) 15.2.1 20250808 (Red Hat 15.2.1-1) Ubuntu 22.04 Kernel: 5.4 Compiler: gcc gcc (Ubuntu 11.4.0-1ubuntu1~22.04) 11.4.0 Ubuntu 24.04 Kernel: 5.4 Compiler: gcc gcc (Ubuntu 13.3.0-6ubuntu2~24.04) 13.3.0 CentOS Stream 9 Kernel: 5.4 Compiler: gcc gcc (GCC) 11.5.0 20240719 (Red Hat 11.5.0-11) CentOS Stream 10 Kernel: 5.4 Compiler: gcc gcc (GCC) 14.2.1 20250110 (Red Hat 14.2.1-8) To view detailed results, visit: https://lab.dpdk.org/results/dashboard/patchsets/34251/ UNH-IOL DPDK Community Lab To manage your email subscriptions, visit: https://lab.dpdk.org/results/dashboard/preferences/subscriptions/