From mboxrd@z Thu Jan 1 00:00:00 1970 Return-Path: Received: from mails.dpdk.org (mails.dpdk.org [217.70.189.124]) by inbox.dpdk.org (Postfix) with ESMTP id 9498B48901 for ; Fri, 10 Oct 2025 19:28:25 +0200 (CEST) Received: from mails.dpdk.org (localhost [127.0.0.1]) by mails.dpdk.org (Postfix) with ESMTP id 6D1CB4003C; Fri, 10 Oct 2025 19:28:25 +0200 (CEST) Received: from mail-ot1-f97.google.com (mail-ot1-f97.google.com [209.85.210.97]) by mails.dpdk.org (Postfix) with ESMTP id DB88B4003C for ; Fri, 10 Oct 2025 19:28:23 +0200 (CEST) Received: by mail-ot1-f97.google.com with SMTP id 46e09a7af769-7ab0012e05aso1625408a34.1 for ; Fri, 10 Oct 2025 10:28:23 -0700 (PDT) DKIM-Signature: v=1; a=rsa-sha256; c=relaxed/relaxed; d=iol.unh.edu; s=unh-iol; t=1760117303; x=1760722103; darn=dpdk.org; h=cc:to:from:subject:message-id:date:from:to:cc:subject:date :message-id:reply-to; bh=AtHmDSFGV+t7wjBN7bK4j3OjWibinykxGyIgZsOeK5g=; b=NOtl/3gZPjE83MAULJnw3gAmE8lxbTslV/CaGvMwR7NjJ4OHTFpFvik06iQbAegkt+ M8lyli5CaqFm/tsBsMqRwvR6sUpAMX4BrzFz7XBBmmDxx9Iiu6zesnkfkTWEVW58+/sA yHRy191t6bdK+vNNrAk1l5Jo3XkNg1IjJxgeg= X-Google-DKIM-Signature: v=1; a=rsa-sha256; c=relaxed/relaxed; d=1e100.net; s=20230601; t=1760117303; x=1760722103; h=cc:to:from:subject:message-id:date:x-gm-message-state:from:to:cc :subject:date:message-id:reply-to; bh=AtHmDSFGV+t7wjBN7bK4j3OjWibinykxGyIgZsOeK5g=; b=hKDXsjrrOSi9zFO3xFqPxxfw5RoL7lh3MOCx6QB3W3HGBU8agJZ/AawqmRdxQM39Zd xN8NTzbTE1awgGCsZKB2w5fSMn3IozVwdtCaQLKCUhDNMyCZ2me29mZp2lsmKJEPOprK cfl7R8RzvxjXb8XOfwE1fNIWSGe8QP4lEDROGYVaBwntqnr2j9UPSriQs2zLf7tdce6P rFUrfYjlXlu5Z2AdidfBpLT+81AaM83DQ29rdDuFx8NTQAwSURireJ0RzIG6uQ9D1AK6 QLW0Xe0ZXVqIix3Xl1nVuE4ZvhTYRg93DoQzZf1ig3YXwCKw6jtIWNipq8ZdwtZ5Ol8V CEOQ== X-Gm-Message-State: AOJu0Yy55TGEyj+PCGQs27f6fyZz1T+b/XzhORNnILQ9OeKnzIbZYEV0 VQfyozHfu8kTdhMudn+1h5UpFx1mphZvz+s9Rfc2awXHdrCnz6HSUVeJgDEInGDnKbbmdPh/upm Pb7FxueJtZl/03Kiz3VCNwrglaMX5fOmvaJQO X-Gm-Gg: ASbGncti6gKrx04lzGSMyClkpIdKlNx7bP643+MBu0OD9yAs53ozCiQ7IXLBxlfXbxN uYCldryBItR6no71rshUhxd6N2qB70ScCp+ZzLKuiGu4xLSQcR+BkWGzVwlyZlZ3yGYxs6SkyBh rnETf56CwsuhUbQDNvMKWxA5hdcRiHYeLkls2MrJC2w6o4+iOoWaCWu8CgWOi/w4Km7OWD9KBhn sSzL/c6HGgj/DHrjyigNuY6nytQZZppXmFiyy64Zdg58fJX9em3MlpV5zCy/rNldnTyyFUniR4x ScoPDGmq1PgU4YtQ4HM5vQjEY6/vxnqHKs1H/MUApN9q3a47MLct37V8yjf9V5ud+R6gxT23 X-Google-Smtp-Source: AGHT+IF1GE+bHZVQ2VGPuHnYxemKm2Cfeoqt+1Z4lUZCT9ub7FcgTOWXR3gYYVcxKH4cYtdhQhWdWO5/XdTZ X-Received: by 2002:a05:6830:7186:b0:7bf:6c53:b558 with SMTP id 46e09a7af769-7c0df69f103mr7270412a34.5.1760117302986; Fri, 10 Oct 2025 10:28:22 -0700 (PDT) Received: from postal.iol.unh.edu (postal.iol.unh.edu. [132.177.123.84]) by smtp-relay.gmail.com with ESMTPS id 46e09a7af769-7c0f901e34asm250144a34.2.2025.10.10.10.28.22 (version=TLS1_2 cipher=ECDHE-ECDSA-AES128-GCM-SHA256 bits=128/128); Fri, 10 Oct 2025 10:28:22 -0700 (PDT) X-Relaying-Domain: iol.unh.edu Date: Fri, 10 Oct 2025 10:28:22 -0700 (PDT) Message-ID: <68e94236.050a0220.18b04a.d49cSMTPIN_ADDED_MISSING@mx.google.com> Received: from [172.21.0.2] (unknown [172.18.0.240]) by postal.iol.unh.edu (Postfix) with ESMTP id 6841D604D420; Fri, 10 Oct 2025 13:28:22 -0400 (EDT) Subject: |SUCCESS| [GIT MASTER] b287e404643aeab5bb5db084c142789df187844e From: dpdklab@iol.unh.edu To: Test Report Cc: dpdk-test-reports@iol.unh.edu, Xueming Li , Christian Ehrhardt , Kevin Traynor , Luca Boccassi Content-Type: text/plain X-BeenThere: test-report@dpdk.org X-Mailman-Version: 2.1.29 Precedence: list List-Id: automatic DPDK test reports List-Unsubscribe: , List-Archive: List-Post: List-Help: List-Subscribe: , Errors-To: test-report-bounces@dpdk.org _Testing PASS_ Branch: tags/v24.11 b287e404643aeab5bb5db084c142789df187844e --> testing pass Upstream job id: Generic-Unit-Test-DPDK#380095 Test environment and result as below: +------------------------------+----------------+------------------------------+---------------------------+--------------+ | Environment | dpdk_unit_test | cryptodev_sw_snow3g_autotest | cryptodev_sw_zuc_autotest | lpm_autotest | +==============================+================+==============================+===========================+==============+ | CentOS Stream 9 | PASS | SKIPPED | SKIPPED | SKIPPED | +------------------------------+----------------+------------------------------+---------------------------+--------------+ | CentOS Stream 10 | PASS | SKIPPED | SKIPPED | SKIPPED | +------------------------------+----------------+------------------------------+---------------------------+--------------+ | Debian GNU/Linux 12 | PASS | SKIPPED | SKIPPED | SKIPPED | +------------------------------+----------------+------------------------------+---------------------------+--------------+ | Fedora Linux 40 | PASS | SKIPPED | SKIPPED | SKIPPED | +------------------------------+----------------+------------------------------+---------------------------+--------------+ | Fedora Linux 41 | PASS | SKIPPED | SKIPPED | SKIPPED | +------------------------------+----------------+------------------------------+---------------------------+--------------+ | Fedora Linux 42 | PASS | SKIPPED | SKIPPED | SKIPPED | +------------------------------+----------------+------------------------------+---------------------------+--------------+ | Ubuntu 22.04 | PASS | SKIPPED | SKIPPED | SKIPPED | +------------------------------+----------------+------------------------------+---------------------------+--------------+ | Ubuntu 24.04 | PASS | SKIPPED | SKIPPED | SKIPPED | +------------------------------+----------------+------------------------------+---------------------------+--------------+ | Ubuntu 20.04 | PASS | SKIPPED | SKIPPED | PASS | +------------------------------+----------------+------------------------------+---------------------------+--------------+ | Red Hat Enterprise Linux 9.5 | PASS | SKIPPED | SKIPPED | SKIPPED | +------------------------------+----------------+------------------------------+---------------------------+--------------+ | Debian 12 (arm) | SKIPPED | PASS | PASS | SKIPPED | +------------------------------+----------------+------------------------------+---------------------------+--------------+ CentOS Stream 9 Kernel: 5.4 Compiler: gcc gcc (GCC) 11.5.0 20240719 (Red Hat 11.5.0-11) CentOS Stream 10 Kernel: 5.4 Compiler: gcc gcc (GCC) 14.2.1 20250110 (Red Hat 14.2.1-8) Debian GNU/Linux 12 Kernel: 5.4 Compiler: gcc gcc (Debian 12.2.0-14+deb12u1) 12.2.0 Fedora Linux 40 Kernel: 5.4 Compiler: gcc gcc (GCC) 14.2.1 20240912 (Red Hat 14.2.1-3) Fedora Linux 41 Kernel: 5.4 Compiler: gcc gcc (GCC) 14.3.1 20250523 (Red Hat 14.3.1-1) Fedora Linux 42 Kernel: 5.4 Compiler: gcc gcc (GCC) 15.2.1 20250808 (Red Hat 15.2.1-1) Ubuntu 22.04 Kernel: 5.4 Compiler: gcc gcc (Ubuntu 11.4.0-1ubuntu1~22.04) 11.4.0 Ubuntu 24.04 Kernel: 5.4 Compiler: gcc gcc (Ubuntu 13.3.0-6ubuntu2~24.04) 13.3.0 Ubuntu 20.04 Kernel: 5.4 Compiler: gcc gcc (Ubuntu 9.4.0-1ubuntu1~20.04.2) 9.4.0 Red Hat Enterprise Linux 9.5 Kernel: 5.4 Compiler: gcc gcc (GCC) 11.5.0 20240719 (Red Hat 11.5.0-2) Debian 12 (arm) Kernel: Depends on container host Compiler: gcc (Debian 12.2.0-14) 12.2.0 To view detailed results, visit: https://lab.dpdk.org/results/dashboard/tarballs/35162/ UNH-IOL DPDK Community Lab To manage your email subscriptions, visit: https://lab.dpdk.org/results/dashboard/preferences/subscriptions/