From mboxrd@z Thu Jan 1 00:00:00 1970 Return-Path: Received: from mails.dpdk.org (mails.dpdk.org [217.70.189.124]) by inbox.dpdk.org (Postfix) with ESMTP id ACCF148901 for ; Fri, 10 Oct 2025 19:29:25 +0200 (CEST) Received: from mails.dpdk.org (localhost [127.0.0.1]) by mails.dpdk.org (Postfix) with ESMTP id A70804003C; Fri, 10 Oct 2025 19:29:25 +0200 (CEST) Received: from mail-io1-f97.google.com (mail-io1-f97.google.com [209.85.166.97]) by mails.dpdk.org (Postfix) with ESMTP id 86B1E4003C for ; Fri, 10 Oct 2025 19:29:24 +0200 (CEST) Received: by mail-io1-f97.google.com with SMTP id ca18e2360f4ac-93e2d42d9b4so17960539f.2 for ; Fri, 10 Oct 2025 10:29:24 -0700 (PDT) DKIM-Signature: v=1; a=rsa-sha256; c=relaxed/relaxed; d=iol.unh.edu; s=unh-iol; t=1760117364; x=1760722164; darn=dpdk.org; h=references:in-reply-to:cc:to:from:subject:message-id:date:from:to :cc:subject:date:message-id:reply-to; bh=AOfay6pN9Vw0B0/hDwPMQGlRbyknOPB2Gee/sqfoo8k=; b=gooeKtc1Rk51qz1RQchZ73VVS2siBH7981q9JgRZthYYFx4WXhJlBbcgz/ZlCCGKAA vxj4claKU4oL4+53ShpHWmkkSE0wImj/abJDYfr5to41YHkb0B7Bqsajvh7eFcrCN2vR jYRIH7gKg2IFkwncDKK18w98wTMjfMnZ6aAsc= X-Google-DKIM-Signature: v=1; a=rsa-sha256; c=relaxed/relaxed; d=1e100.net; s=20230601; t=1760117364; x=1760722164; h=references:in-reply-to:cc:to:from:subject:message-id:date :x-gm-message-state:from:to:cc:subject:date:message-id:reply-to; bh=AOfay6pN9Vw0B0/hDwPMQGlRbyknOPB2Gee/sqfoo8k=; b=XNP6oRcKzreOvbPaqcB9rXfd4EHNpW914Ue+EltGL7UqSpSLN3C/8PLkp/ZocypNhY L+L2E6aSPz8mFc9Gn6ZZMK9S1bChCLovYsR/WaoJEqt7VsUamTYGxRQMV+3TsY7cVCQI zDKJrmK+g3iwL94i/v+btQUxQKrTdJoFCgnHbhAOePOrIONFzUg9dwtIz239JWMeKvwp kkoYJDSiUqGeGqb3uDQfNE9lW6hFEZRCqKZwr4vKx85uy0zs0DjyI18UDYGfmevwlUQt AblJc49pIzuAQYpILMotYCb9UVPCvvlaGAKlYG//zQWm5LEUxZkIzIVFmpPTMYNFS0K9 2W5A== X-Gm-Message-State: AOJu0YwJBlaTkZqQY/pn4ePQJ4vYEOZssyy+TbfvlDR5+uqZ9Cutu+jZ cXZ1atGaRaBBPoMau1RJKRXpI7XUcCqbsvdJYW3LYVj9++CyJFKagaqCcNjicLBY5EEe5/wduge gplQDlTASOiCUouj5JaFvw9u7/lYtIrLPqBgGeIBO8g8bns1k6bGVHf7x2OCd X-Gm-Gg: ASbGncvnWxyyIOIiv9hvnRP06jKqWrk2wgdLPuFZTE5zPp7pS+kIqvUUKHIAwR40+3W G47AKSt1ClTTieok57vf/Ztkk9Ro1sfx6sY4W14Ry/aBTV17k4VbKoxxR3PbRbdv7AFk1QQqUCs r9y40hOLLY5ht+lQjp1+Casgy0XxrPqbZURhTYdvT5FoYc0zwDHU7re6Fb+3eHgaaUby948bLDB Dc0QtcR1sfGyziLi3lgtN1HMoXtxR2wcde5ly6Pabtl66rYNlD68fMznS6s6sbL/R2quXb0N7aw LUTfLUxIxgT8FqomjL1So61WAsANBinPBYyTfL4bBu4kTn3EVA== X-Google-Smtp-Source: AGHT+IHxCCC5w7f940GmZJK0/e2AdbVJO2g79UQJq6v9B+ZMzo+hegrgTvYG7uSA7V1G/UaaBm4WHZ/Wh58n X-Received: by 2002:a05:6602:b91:b0:93b:c3cf:9873 with SMTP id ca18e2360f4ac-93bd17ec199mr1489857139f.8.1760117363700; Fri, 10 Oct 2025 10:29:23 -0700 (PDT) Received: from postal.iol.unh.edu (postal.iol.unh.edu. [2606:4100:3880:1234::84]) by smtp-relay.gmail.com with ESMTPS id 8926c6da1cb9f-58f67cfba32sm248481173.0.2025.10.10.10.29.23 (version=TLS1_2 cipher=ECDHE-ECDSA-AES128-GCM-SHA256 bits=128/128); Fri, 10 Oct 2025 10:29:23 -0700 (PDT) X-Relaying-Domain: iol.unh.edu Date: Fri, 10 Oct 2025 10:29:23 -0700 (PDT) Message-ID: <68e94273.050a0220.1222c8.d136SMTPIN_ADDED_MISSING@mx.google.com> Received: from [172.21.0.2] (unknown [172.18.0.240]) by postal.iol.unh.edu (Postfix) with ESMTP id 5BB54604D420; Fri, 10 Oct 2025 13:29:23 -0400 (EDT) Subject: |SUCCESS| pw157452-157453 [PATCH] [v3,2/2] net/ice: fix memory leak From: dpdklab@iol.unh.edu To: Test Report Cc: dpdk-test-reports@iol.unh.edu, Bruce Richardson In-Reply-To: <90b43cc3ea3d614c7a8812e1a5ecb0d5fff3615e.1760101992.git.anatoly.burakov@intel.com> References: <90b43cc3ea3d614c7a8812e1a5ecb0d5fff3615e.1760101992.git.anatoly.burakov@intel.com> Content-Type: text/plain X-BeenThere: test-report@dpdk.org X-Mailman-Version: 2.1.29 Precedence: list List-Id: automatic DPDK test reports List-Unsubscribe: , List-Archive: List-Post: List-Help: List-Subscribe: , Errors-To: test-report-bounces@dpdk.org Test-Label: iol-compile-arm64-testing Test-Status: SUCCESS http://dpdk.org/patch/157453 _Testing PASS_ Submitter: Anatoly Burakov Date: Friday, October 10 2025 13:13:20 DPDK git baseline: Repo:dpdk-next-net-intel Branch: master CommitID:d0eb31b594b42fb1dd4e8f2afad3e2a5f1846c1a 157452-157453 --> testing pass Upstream job id: Generic-DPDK-Compile-Meson#433242 Test environment and result as below: +------------------------------+--------------------+ | Environment | dpdk_meson_compile | +==============================+====================+ | Red Hat Enterprise Linux 9.5 | PASS | +------------------------------+--------------------+ | Ubuntu 20.04 | PASS | +------------------------------+--------------------+ | Debian GNU/Linux 12 | PASS | +------------------------------+--------------------+ | Fedora Linux 42 | PASS | +------------------------------+--------------------+ | Ubuntu 22.04 | PASS | +------------------------------+--------------------+ | CentOS Stream 9 | PASS | +------------------------------+--------------------+ | CentOS Stream 10 | PASS | +------------------------------+--------------------+ | Ubuntu 24.04 | PASS | +------------------------------+--------------------+ Red Hat Enterprise Linux 9.5 Kernel: 5.4 Compiler: gcc gcc (GCC) 11.5.0 20240719 (Red Hat 11.5.0-2) Ubuntu 20.04 Kernel: 5.15 Compiler: aarch64-linux-gnu-gcc gcc (Ubuntu 9.4.0-1ubuntu1~20.04.2) 9.4.0 Debian GNU/Linux 12 Kernel: 5.4 Compiler: gcc gcc (Debian 12.2.0-14+deb12u1) 12.2.0 Fedora Linux 42 Kernel: 5.4 Compiler: gcc gcc (GCC) 15.2.1 20250808 (Red Hat 15.2.1-1) Ubuntu 22.04 Kernel: 5.4 Compiler: gcc gcc (Ubuntu 11.4.0-1ubuntu1~22.04) 11.4.0 CentOS Stream 9 Kernel: 5.4 Compiler: gcc gcc (GCC) 11.5.0 20240719 (Red Hat 11.5.0-11) CentOS Stream 10 Kernel: 5.4 Compiler: gcc gcc (GCC) 14.2.1 20250110 (Red Hat 14.2.1-8) Ubuntu 24.04 Kernel: 5.4 Compiler: gcc gcc (Ubuntu 13.3.0-6ubuntu2~24.04) 13.3.0 To view detailed results, visit: https://lab.dpdk.org/results/dashboard/patchsets/34252/ UNH-IOL DPDK Community Lab To manage your email subscriptions, visit: https://lab.dpdk.org/results/dashboard/preferences/subscriptions/