From mboxrd@z Thu Jan 1 00:00:00 1970 Return-Path: Received: from mails.dpdk.org (mails.dpdk.org [217.70.189.124]) by inbox.dpdk.org (Postfix) with ESMTP id 65DA048902 for ; Fri, 10 Oct 2025 20:25:50 +0200 (CEST) Received: from mails.dpdk.org (localhost [127.0.0.1]) by mails.dpdk.org (Postfix) with ESMTP id 4654A4003C; Fri, 10 Oct 2025 20:25:50 +0200 (CEST) Received: from mail-pf1-f228.google.com (mail-pf1-f228.google.com [209.85.210.228]) by mails.dpdk.org (Postfix) with ESMTP id 3FB504003C for ; Fri, 10 Oct 2025 20:25:49 +0200 (CEST) Received: by mail-pf1-f228.google.com with SMTP id d2e1a72fcca58-789fb76b466so2255296b3a.0 for ; Fri, 10 Oct 2025 11:25:49 -0700 (PDT) DKIM-Signature: v=1; a=rsa-sha256; c=relaxed/relaxed; d=iol.unh.edu; s=unh-iol; t=1760120748; x=1760725548; darn=dpdk.org; h=references:in-reply-to:cc:to:from:subject:message-id:date:from:to :cc:subject:date:message-id:reply-to; bh=KxuWL0/SNRipDj43PQ2aYgQZHON/Z9VgY6DXLP3BzZo=; b=WFpUwv9ebWhWJoa4ksxOY2cqdtGvYpeHy3Vr88Uz+Ky2T+A0L6Y2G18qxHX7fJSW9W COdV9hclXhPALbn5B9iRAtSNoSqRtbcI5UWLEs7Uy+j+bSvguDMS09L5IEa8qce5RuJO uCsyCp8XcQtg4FquvPkZLpq/2QojqzI799AyU= X-Google-DKIM-Signature: v=1; a=rsa-sha256; c=relaxed/relaxed; d=1e100.net; s=20230601; t=1760120748; x=1760725548; h=references:in-reply-to:cc:to:from:subject:message-id:date :x-gm-message-state:from:to:cc:subject:date:message-id:reply-to; bh=KxuWL0/SNRipDj43PQ2aYgQZHON/Z9VgY6DXLP3BzZo=; b=hNO58BvZrHIAQTVAWWOjN4bByS7IQksd79WzDJKHlBnkWfEwmEKaqtG+If6alJeJ8F 6Y9RRWYxB64nZuDU7AMpz1eDYQo1r8hY4ffXUaYbpvsQLV+tzHqCE1RDKh7XP3AL2xIP jOces342lAI4mVW54LhEiyrfp7RgGaAjR72EC+1Yb/tD/k8cz1HESq56EnBut2/bkZt5 CnKEMLZd7eRZSlTbLDVSMam1IYyM18OLRo0Nul8DEBp/CQPDKXN4DaxNECVxELejQlku PXs4oHJEjACcWglvC1h8YqDLBnuGCv90qwsNaY6nTKxvhEQHl3YVPnJ/tVKPH+Ki8UlG JJ5A== X-Gm-Message-State: AOJu0YxgBmg0nRq5IJtbWFJf0ZaccYRgtziTGz+2tT1H5xo667+7Pxby 4R9RbvTUpzig98htAmzlvSYrT8nHGbo3sxtotDEpH32UNf02klt805tlk6+nAXVM/KmObdsGRdJ yRQgs+5nSdjui7n77mLfixgmS595wsEE148JcJGEz3jZKzQDbOMvclGDUV6Kh X-Gm-Gg: ASbGncvzwYGDYV3Fw+Vrbad7FxWaUvM9vKhptbnwKKKlLbxygqQy3xHmWBocBznuxRh aqjjRZTqnT9cnaD9iVN9doiUBUDfhHVl0n4fyoccK7pE3kheDc5VMgdNrPF3+mg8CeePoyLyJn1 ARpfLY1FPSJWflYHELx/kNJXst15lGxQ/DQUuY1Dl2aB/pOWHYGPd2ZaRXSTc2rzMlNQrSDuM3w lA5dK6vgzFsA5YbH/9XTbdWrnF6LyXOkH4bgHzLQyDkOFjAOMUEWziBGvyUehjOGp7vgzgSFW3k HQRqF3xnr0liloRSl48ZdyVxMCrfTcnhsxIS8bvXq3kdNNRmKw== X-Google-Smtp-Source: AGHT+IGyAP4yaYxmqtgJOqDsNFUT0g+Rw4SJ3+B55F5VkpRhkLNiK/lK2KwEZIIeDVlWUbvCmYYJbtHNE72t X-Received: by 2002:a05:6a00:17a7:b0:781:8832:9159 with SMTP id d2e1a72fcca58-79385709429mr13690248b3a.4.1760120748165; Fri, 10 Oct 2025 11:25:48 -0700 (PDT) Received: from postal.iol.unh.edu (postal.iol.unh.edu. [2606:4100:3880:1234::84]) by smtp-relay.gmail.com with ESMTPS id d2e1a72fcca58-7992d0ccea0sm265089b3a.0.2025.10.10.11.25.48 (version=TLS1_2 cipher=ECDHE-ECDSA-AES128-GCM-SHA256 bits=128/128); Fri, 10 Oct 2025 11:25:48 -0700 (PDT) X-Relaying-Domain: iol.unh.edu Date: Fri, 10 Oct 2025 11:25:48 -0700 (PDT) Message-ID: <68e94fac.050a0220.710b0.e48cSMTPIN_ADDED_MISSING@mx.google.com> Received: from [172.21.0.2] (unknown [172.18.0.240]) by postal.iol.unh.edu (Postfix) with ESMTP id E90876050A61; Fri, 10 Oct 2025 14:25:46 -0400 (EDT) Subject: |SUCCESS| pw157454 [PATCH] [v2,1/1] lib/dma: introduce inter-process From: dpdklab@iol.unh.edu To: Test Report Cc: dpdk-test-reports@iol.unh.edu In-Reply-To: <20251010144631.713063-1-vattunuru@marvell.com> References: <20251010144631.713063-1-vattunuru@marvell.com> Content-Type: text/plain X-BeenThere: test-report@dpdk.org X-Mailman-Version: 2.1.29 Precedence: list List-Id: automatic DPDK test reports List-Unsubscribe: , List-Archive: List-Post: List-Help: List-Subscribe: , Errors-To: test-report-bounces@dpdk.org Test-Label: iol-compile-arm64-testing Test-Status: SUCCESS http://dpdk.org/patch/157454 _Testing PASS_ Submitter: Vamsi Krishna Date: Friday, October 10 2025 14:46:31 DPDK git baseline: Repo:dpdk Branch: master CommitID:2b403dd8fb37d0ba13723e44ffc7ee2c2795f838 157454 --> testing pass Upstream job id: Generic-DPDK-Compile-Meson#433274 Test environment and result as below: +------------------------------+--------------------+ | Environment | dpdk_meson_compile | +==============================+====================+ | Red Hat Enterprise Linux 9.5 | PASS | +------------------------------+--------------------+ | Ubuntu 20.04 | PASS | +------------------------------+--------------------+ | Debian GNU/Linux 12 | PASS | +------------------------------+--------------------+ | Fedora Linux 42 | PASS | +------------------------------+--------------------+ | Ubuntu 22.04 | PASS | +------------------------------+--------------------+ | CentOS Stream 9 | PASS | +------------------------------+--------------------+ | Ubuntu 24.04 | PASS | +------------------------------+--------------------+ | CentOS Stream 10 | PASS | +------------------------------+--------------------+ Red Hat Enterprise Linux 9.5 Kernel: 5.4 Compiler: gcc gcc (GCC) 11.5.0 20240719 (Red Hat 11.5.0-2) Ubuntu 20.04 Kernel: 5.15 Compiler: aarch64-linux-gnu-gcc gcc (Ubuntu 9.4.0-1ubuntu1~20.04.2) 9.4.0 Debian GNU/Linux 12 Kernel: 5.4 Compiler: gcc gcc (Debian 12.2.0-14+deb12u1) 12.2.0 Fedora Linux 42 Kernel: 5.4 Compiler: gcc gcc (GCC) 15.2.1 20250808 (Red Hat 15.2.1-1) Ubuntu 22.04 Kernel: 5.4 Compiler: gcc gcc (Ubuntu 11.4.0-1ubuntu1~22.04) 11.4.0 CentOS Stream 9 Kernel: 5.4 Compiler: gcc gcc (GCC) 11.5.0 20240719 (Red Hat 11.5.0-11) Ubuntu 24.04 Kernel: 5.4 Compiler: gcc gcc (Ubuntu 13.3.0-6ubuntu2~24.04) 13.3.0 CentOS Stream 10 Kernel: 5.4 Compiler: gcc gcc (GCC) 14.2.1 20250110 (Red Hat 14.2.1-8) To view detailed results, visit: https://lab.dpdk.org/results/dashboard/patchsets/34253/ UNH-IOL DPDK Community Lab To manage your email subscriptions, visit: https://lab.dpdk.org/results/dashboard/preferences/subscriptions/