From mboxrd@z Thu Jan 1 00:00:00 1970 Return-Path: Received: from mails.dpdk.org (mails.dpdk.org [217.70.189.124]) by inbox.dpdk.org (Postfix) with ESMTP id 0D19048902 for ; Fri, 10 Oct 2025 21:21:07 +0200 (CEST) Received: from mails.dpdk.org (localhost [127.0.0.1]) by mails.dpdk.org (Postfix) with ESMTP id E0C6E4003C; Fri, 10 Oct 2025 21:21:06 +0200 (CEST) Received: from mail-yw1-f227.google.com (mail-yw1-f227.google.com [209.85.128.227]) by mails.dpdk.org (Postfix) with ESMTP id 4EF314003C for ; Fri, 10 Oct 2025 21:21:05 +0200 (CEST) Received: by mail-yw1-f227.google.com with SMTP id 00721157ae682-72ce9790acdso23969877b3.0 for ; Fri, 10 Oct 2025 12:21:05 -0700 (PDT) DKIM-Signature: v=1; a=rsa-sha256; c=relaxed/relaxed; d=iol.unh.edu; s=unh-iol; t=1760124064; x=1760728864; darn=dpdk.org; h=references:in-reply-to:cc:to:from:subject:message-id:date:from:to :cc:subject:date:message-id:reply-to; bh=5mIUJhlR6N6ma4Ff+bYrhDdvqwb1DAHyNyYuK8b7WHM=; b=LmLxvviFnc2A2jynqJ9eW6ZW+gXiMmlFFNCJhszspe1G0X3L3+7DxD3z1AfCZhNwSy LznAIpy3u+4TUBgYJ/yRMRIkbDaQLuqR5h90AOjXwYVqB6vLnPqhQIAjYsfCLcPSZegm AykmTO0kLCydAg0t6aibmo2zygwuN1JGbfaPc= X-Google-DKIM-Signature: v=1; a=rsa-sha256; c=relaxed/relaxed; d=1e100.net; s=20230601; t=1760124064; x=1760728864; h=references:in-reply-to:cc:to:from:subject:message-id:date :x-gm-message-state:from:to:cc:subject:date:message-id:reply-to; bh=5mIUJhlR6N6ma4Ff+bYrhDdvqwb1DAHyNyYuK8b7WHM=; b=pPugNDcsLEG1Zi5ZbsvEMSrj4pygy6rOnY3GUSzbRVSdXyv5wDQqANa+QMVsF6yd3F qUwKHhKKRWWun5bhGg/8szWPC+vRRHnejlMyZwE86gIXFp2XgmVgtwmZ4Ut4xqZEACL9 ObFs/i+esbP/huODKmQWJ+EU/koCFHsrrY9fAosm2RpVQrXs9gM7dZ12cEepzvNDUwQN 0GEWderZciR6IHHBs/ogK/mrhc94YPutjZcHdtV+dnezk+8lAMFsDqxNhpYKshi0yHBf FAYpYz+u4bKJEPFo5STJ1XvIQyfvfyypUaCBLk3xwSMbrXKUpCZLpsQ1ozTBCN3riZks /P1g== X-Gm-Message-State: AOJu0YwyLc4Tx+2/sszSJ1IxFXZAKL/d3tjpe9r72CMbE8LjkbtBmfS8 KDxUtwEsM4MQVsqbgfqSAV0RNH+zZCpVLj+2reySYQJPOIICRbX6+/ZYpqAOn4phhS8+sCfbWzK 3k+Gwp9XNkl1z0m5PtQBD+XxLQUNVpIJfvy0NZ65Y1TK8Zm4ubtso X-Gm-Gg: ASbGncsSCBuc6HtIAlZFGg2WMHSgU5ljdVVndCnRMD1M7eMuBOwFqkwbRIyA7CirwBy v14ld0R/EybJqCnAgckuyZQHnYfV+PTse6dP79+P3VInE1ft7uZHfAyqNAT4tp/vI+CSm/ZBdc1 pOcrV/65RhBlEUEXTKPcSRV0JcnSxw+1Apsu1kyhbZtzN5E9IXSQhLcqF0XZ74MYgQBzphs6NPU CJlSaagUlOPCShzY3E4gFBMFVbP95yirTM5EqKGxAAQVVMCp6Rg6Yt44ngohwezqsjYDtUwrkVa hgdRuHuQiWTCgSmXNA== X-Google-Smtp-Source: AGHT+IGW9sUJ8i5v82O03cJudmtjayPNArj2ndvxm7OO4XVU+v1vtI9V3VN9uzlzU4/fcFA9uT8nmdT9YeUA X-Received: by 2002:a05:690c:4a08:b0:77f:b23e:64ae with SMTP id 00721157ae682-780e158f6f7mr151838727b3.17.1760124064386; Fri, 10 Oct 2025 12:21:04 -0700 (PDT) Received: from postal.iol.unh.edu (postal.iol.unh.edu. [2606:4100:3880:1234::84]) by smtp-relay.gmail.com with ESMTPS id 00721157ae682-78106d01091sm1692077b3.1.2025.10.10.12.21.04 (version=TLS1_2 cipher=ECDHE-ECDSA-AES128-GCM-SHA256 bits=128/128); Fri, 10 Oct 2025 12:21:04 -0700 (PDT) X-Relaying-Domain: iol.unh.edu Date: Fri, 10 Oct 2025 12:21:04 -0700 (PDT) Message-ID: <68e95ca0.050a0220.30539e.8d81SMTPIN_ADDED_MISSING@mx.google.com> Received: from [172.21.0.2] (unknown [172.18.0.240]) by postal.iol.unh.edu (Postfix) with ESMTP id 0360E6051830; Fri, 10 Oct 2025 15:21:04 -0400 (EDT) Subject: |SUCCESS| pw157444-157447 [PATCH] [v3,4/4] net/rnp: resolve coredump From: dpdklab@iol.unh.edu To: Test Report Cc: dpdk-test-reports@iol.unh.edu, Stephen Hemminger In-Reply-To: <20251010070122.161401-5-caowenbo@mucse.com> References: <20251010070122.161401-5-caowenbo@mucse.com> Content-Type: text/plain X-BeenThere: test-report@dpdk.org X-Mailman-Version: 2.1.29 Precedence: list List-Id: automatic DPDK test reports List-Unsubscribe: , List-Archive: List-Post: List-Help: List-Subscribe: , Errors-To: test-report-bounces@dpdk.org Test-Label: iol-unit-arm64-testing Test-Status: SUCCESS http://dpdk.org/patch/157447 _Testing PASS_ Submitter: Wenbo Cao Date: Friday, October 10 2025 07:01:22 DPDK git baseline: Repo:dpdk-next-net Branch: master CommitID:c04bbd131b2c14b3049bf86d3ef367b34e6fdf1e 157444-157447 --> testing pass Upstream job id: Generic-Unit-Test-DPDK#380110 Test environment and result as below: +------------------------------+----------------+------------------------------+--------------+---------------------------+ | Environment | dpdk_unit_test | cryptodev_sw_snow3g_autotest | lpm_autotest | cryptodev_sw_zuc_autotest | +==============================+================+==============================+==============+===========================+ | CentOS Stream 9 | PASS | SKIPPED | SKIPPED | SKIPPED | +------------------------------+----------------+------------------------------+--------------+---------------------------+ | Fedora Linux 41 | PASS | SKIPPED | SKIPPED | SKIPPED | +------------------------------+----------------+------------------------------+--------------+---------------------------+ | Fedora Linux 42 | PASS | SKIPPED | SKIPPED | SKIPPED | +------------------------------+----------------+------------------------------+--------------+---------------------------+ | Ubuntu 22.04 | PASS | SKIPPED | SKIPPED | SKIPPED | +------------------------------+----------------+------------------------------+--------------+---------------------------+ | Fedora Linux 40 | PASS | SKIPPED | SKIPPED | SKIPPED | +------------------------------+----------------+------------------------------+--------------+---------------------------+ | Debian GNU/Linux 12 | PASS | SKIPPED | SKIPPED | SKIPPED | +------------------------------+----------------+------------------------------+--------------+---------------------------+ | CentOS Stream 10 | PASS | SKIPPED | SKIPPED | SKIPPED | +------------------------------+----------------+------------------------------+--------------+---------------------------+ | Red Hat Enterprise Linux 9.5 | PASS | SKIPPED | SKIPPED | SKIPPED | +------------------------------+----------------+------------------------------+--------------+---------------------------+ | Ubuntu 24.04 | PASS | SKIPPED | SKIPPED | SKIPPED | +------------------------------+----------------+------------------------------+--------------+---------------------------+ | Ubuntu 20.04 | PASS | SKIPPED | PASS | SKIPPED | +------------------------------+----------------+------------------------------+--------------+---------------------------+ | Debian 12 (arm) | SKIPPED | PASS | SKIPPED | PASS | +------------------------------+----------------+------------------------------+--------------+---------------------------+ CentOS Stream 9 Kernel: 5.4 Compiler: gcc gcc (GCC) 11.5.0 20240719 (Red Hat 11.5.0-11) Fedora Linux 41 Kernel: 5.4 Compiler: clang gcc (GCC) 14.3.1 20250523 (Red Hat 14.3.1-1) Fedora Linux 42 Kernel: 5.4 Compiler: gcc gcc (GCC) 15.2.1 20250808 (Red Hat 15.2.1-1) Ubuntu 22.04 Kernel: 5.15 Compiler: gcc gcc (Ubuntu 11.4.0-1ubuntu1~22.04.2) 11.4.0 Fedora Linux 40 Kernel: 5.4 Compiler: clang gcc (GCC) 14.2.1 20240912 (Red Hat 14.2.1-3) Debian GNU/Linux 12 Kernel: 5.4 Compiler: gcc gcc (Debian 12.2.0-14+deb12u1) 12.2.0 CentOS Stream 10 Kernel: 5.4 Compiler: gcc gcc (GCC) 14.2.1 20250110 (Red Hat 14.2.1-8) Red Hat Enterprise Linux 9.5 Kernel: 5.4 Compiler: gcc gcc (GCC) 11.5.0 20240719 (Red Hat 11.5.0-2) Ubuntu 24.04 Kernel: 5.4 Compiler: gcc gcc (Ubuntu 13.3.0-6ubuntu2~24.04) 13.3.0 Ubuntu 20.04 Kernel: 5.4 Compiler: gcc gcc (Ubuntu 9.4.0-1ubuntu1~20.04.2) 9.4.0 Debian 12 (arm) Kernel: Depends on container host Compiler: gcc (Debian 12.2.0-14) 12.2.0 To view detailed results, visit: https://lab.dpdk.org/results/dashboard/patchsets/34249/ UNH-IOL DPDK Community Lab To manage your email subscriptions, visit: https://lab.dpdk.org/results/dashboard/preferences/subscriptions/