From mboxrd@z Thu Jan 1 00:00:00 1970 Return-Path: Received: from mails.dpdk.org (mails.dpdk.org [217.70.189.124]) by inbox.dpdk.org (Postfix) with ESMTP id EA6A848903 for ; Fri, 10 Oct 2025 22:11:24 +0200 (CEST) Received: from mails.dpdk.org (localhost [127.0.0.1]) by mails.dpdk.org (Postfix) with ESMTP id B257D4003C; Fri, 10 Oct 2025 22:11:24 +0200 (CEST) Received: from mail-yx1-f99.google.com (mail-yx1-f99.google.com [74.125.224.99]) by mails.dpdk.org (Postfix) with ESMTP id ABBF74003C for ; Fri, 10 Oct 2025 22:11:22 +0200 (CEST) Received: by mail-yx1-f99.google.com with SMTP id 956f58d0204a3-635380a4a67so3108972d50.0 for ; Fri, 10 Oct 2025 13:11:22 -0700 (PDT) DKIM-Signature: v=1; a=rsa-sha256; c=relaxed/relaxed; d=iol.unh.edu; s=unh-iol; t=1760127082; x=1760731882; darn=dpdk.org; h=references:in-reply-to:cc:to:from:subject:message-id:date:from:to :cc:subject:date:message-id:reply-to; bh=K5QNOFx7TAHZe7kOLilI2/M6k4YA7Dg8vxQq2W9Med0=; b=I2J1cDR7fbjn7bCfgS3VD0uJ2hpE/sJfIiAPQT12h/tytzSlrvY/O+UH2egoo/67QR QY/pgP6RqCrzlNrrzdH9j1oFzJMfSFeOHMbVZ4xHuV4EP/+PBuGsGD9LdleiSAUgEyef zjMIWf0DBZsLIBih0jWGFWZk0muOrsZeHCdKA= X-Google-DKIM-Signature: v=1; a=rsa-sha256; c=relaxed/relaxed; d=1e100.net; s=20230601; t=1760127082; x=1760731882; h=references:in-reply-to:cc:to:from:subject:message-id:date :x-gm-message-state:from:to:cc:subject:date:message-id:reply-to; bh=K5QNOFx7TAHZe7kOLilI2/M6k4YA7Dg8vxQq2W9Med0=; b=fdvpuRSw7Cwi8W+h5+55er9HOID0tgxRA+/LVT6fjPPo2w8WH8ZLqM062kGACGKSW3 dTYmlFiNPC1uGM8eIOFB61Lr8v5knC49L72YSSIMONs6kACHmh7RjTgNNj8IeAbNLRTL OT1uaUKqmRvXDnKW0zYjKXyzR39+/k8ug7DcLBstaa3uwlT/5A2TjEEgVI8LpCqDzEkx XTycUdld3c9xyxurz7Vqf7wI688qjhh/ExhcwaqlDq0gDpyhKPbuHOyuXrH/ZeKtppIf Y/cfRbuWONJ9VYzGiufMolVKu/+QfNIYvGQl5WbUeDQ2ZlR1wja93aKsvTkJXis7RkUy 23Yg== X-Gm-Message-State: AOJu0YzbAyDOsvtsaM6A+/a3eWalYvHFouekKX9WuTX+hk8r7YVMnWaT q/4p4Kq5nFXu8wF1FohqbiO0Y1S1fqaIJQpxg5orq0qhGU7KIz9YIdjX7xmB1Cf58Velw0oGM0F 7dUU8a+b3COmc/C8A36XxYwRPNu7JYZ7UW3vSzwfbRw5w X-Gm-Gg: ASbGnctRRwkjL2rQErNsp8vSEUXM9xqqBEZIAT1wpK+ab92ETaWLiQN6K9RNO3eoDuH 6C9hNBIQ9syo7BQ5OLx/aDDy3k8kUivzl53Vb9ZXyNV6yFtZkKGHzUSIzL/Zw9XUkGAz/dzgkII UaBew27vfwvCLB1Ul4VZusRewmMlAIb54KuC5R7MD2+0f7JAbjaoqIvzj1+DJiubtlH9MBskY59 yLPRqAGLyKlpJQuGNbmkYoN9eV6kXqflv9gH6bMmfq11MvQwRaZHJb5KN2O+5SneVP39+4Wcp25 59SZ0f8kSNp0VBalBl7P1KakoFxK0tc4RpWxGoLxTmyuYY5Te5EJiFibbFt1jSvDDJ7rFXPb X-Google-Smtp-Source: AGHT+IF9tGLz7NXo6ArlvlyPJ4wt3HGS6LKDffief5PA3budgoNnFtcw1LFuQ4d/gdfr3kM1Lz3acTzZXrnj X-Received: by 2002:a05:690e:c4a:b0:63c:f5a7:3e3 with SMTP id 956f58d0204a3-63cf5a70b57mr422528d50.63.1760127081856; Fri, 10 Oct 2025 13:11:21 -0700 (PDT) Received: from postal.iol.unh.edu (postal.iol.unh.edu. [132.177.123.84]) by smtp-relay.gmail.com with ESMTPS id 00721157ae682-78118a768c3sm23047b3.12.2025.10.10.13.11.21 (version=TLS1_2 cipher=ECDHE-ECDSA-AES128-GCM-SHA256 bits=128/128); Fri, 10 Oct 2025 13:11:21 -0700 (PDT) X-Relaying-Domain: iol.unh.edu Date: Fri, 10 Oct 2025 13:11:21 -0700 (PDT) Message-ID: <68e96869.050a0220.7b624.019eSMTPIN_ADDED_MISSING@mx.google.com> Received: from [172.21.0.2] (unknown [172.18.0.240]) by postal.iol.unh.edu (Postfix) with ESMTP id 82CC86051830; Fri, 10 Oct 2025 16:11:21 -0400 (EDT) Subject: |SUCCESS| pw157449-157443 [PATCH] [v2,54/54] net/bnxt/tf_ulp: remove From: dpdklab@iol.unh.edu To: Test Report Cc: dpdk-test-reports@iol.unh.edu In-Reply-To: <20251009221129.28256-55-manish.kurup@broadcom.com> References: <20251009221129.28256-55-manish.kurup@broadcom.com> Content-Type: text/plain X-BeenThere: test-report@dpdk.org X-Mailman-Version: 2.1.29 Precedence: list List-Id: automatic DPDK test reports List-Unsubscribe: , List-Archive: List-Post: List-Help: List-Subscribe: , Errors-To: test-report-bounces@dpdk.org Test-Label: iol-unit-arm64-testing Test-Status: SUCCESS http://dpdk.org/patch/157443 _Testing PASS_ Submitter: Manish Kurup Date: Thursday, October 09 2025 22:11:29 DPDK git baseline: Repo:dpdk-next-net-brcm Branch: master CommitID:1d627ea13aeec2bcccf27246e6be2508370d171e 157449-157443 --> testing pass Upstream job id: Generic-Unit-Test-DPDK#380150 Test environment and result as below: +------------------------------+--------------+------------------------------+---------------------------+----------------+ | Environment | lpm_autotest | cryptodev_sw_snow3g_autotest | cryptodev_sw_zuc_autotest | dpdk_unit_test | +==============================+==============+==============================+===========================+================+ | Ubuntu 20.04 | PASS | SKIPPED | SKIPPED | PASS | +------------------------------+--------------+------------------------------+---------------------------+----------------+ | Debian 12 (arm) | SKIPPED | PASS | PASS | SKIPPED | +------------------------------+--------------+------------------------------+---------------------------+----------------+ | Fedora Linux 40 | SKIPPED | SKIPPED | SKIPPED | PASS | +------------------------------+--------------+------------------------------+---------------------------+----------------+ | Fedora Linux 41 | SKIPPED | SKIPPED | SKIPPED | PASS | +------------------------------+--------------+------------------------------+---------------------------+----------------+ | CentOS Stream 9 | SKIPPED | SKIPPED | SKIPPED | PASS | +------------------------------+--------------+------------------------------+---------------------------+----------------+ | CentOS Stream 10 | SKIPPED | SKIPPED | SKIPPED | PASS | +------------------------------+--------------+------------------------------+---------------------------+----------------+ | Fedora Linux 42 | SKIPPED | SKIPPED | SKIPPED | PASS | +------------------------------+--------------+------------------------------+---------------------------+----------------+ | Debian GNU/Linux 12 | SKIPPED | SKIPPED | SKIPPED | PASS | +------------------------------+--------------+------------------------------+---------------------------+----------------+ | Red Hat Enterprise Linux 9.5 | SKIPPED | SKIPPED | SKIPPED | PASS | +------------------------------+--------------+------------------------------+---------------------------+----------------+ | Ubuntu 24.04 | SKIPPED | SKIPPED | SKIPPED | PASS | +------------------------------+--------------+------------------------------+---------------------------+----------------+ | Ubuntu 22.04 | SKIPPED | SKIPPED | SKIPPED | PASS | +------------------------------+--------------+------------------------------+---------------------------+----------------+ Ubuntu 20.04 Kernel: 5.4 Compiler: gcc gcc (Ubuntu 9.4.0-1ubuntu1~20.04.2) 9.4.0 Debian 12 (arm) Kernel: Depends on container host Compiler: gcc (Debian 12.2.0-14) 12.2.0 Fedora Linux 40 Kernel: 5.4 Compiler: gcc gcc (GCC) 14.2.1 20240912 (Red Hat 14.2.1-3) Fedora Linux 41 Kernel: 5.4 Compiler: gcc gcc (GCC) 14.3.1 20250523 (Red Hat 14.3.1-1) CentOS Stream 9 Kernel: 5.4 Compiler: gcc gcc (GCC) 11.5.0 20240719 (Red Hat 11.5.0-11) CentOS Stream 10 Kernel: 5.4 Compiler: gcc gcc (GCC) 14.2.1 20250110 (Red Hat 14.2.1-8) Fedora Linux 42 Kernel: 5.4 Compiler: gcc gcc (GCC) 15.2.1 20250808 (Red Hat 15.2.1-1) Debian GNU/Linux 12 Kernel: 5.4 Compiler: gcc gcc (Debian 12.2.0-14+deb12u1) 12.2.0 Red Hat Enterprise Linux 9.5 Kernel: 5.4 Compiler: gcc gcc (GCC) 11.5.0 20240719 (Red Hat 11.5.0-2) Ubuntu 24.04 Kernel: 5.4 Compiler: gcc gcc (Ubuntu 13.3.0-6ubuntu2~24.04) 13.3.0 Ubuntu 22.04 Kernel: 5.4 Compiler: gcc gcc (Ubuntu 11.4.0-1ubuntu1~22.04) 11.4.0 To view detailed results, visit: https://lab.dpdk.org/results/dashboard/patchsets/34247/ UNH-IOL DPDK Community Lab To manage your email subscriptions, visit: https://lab.dpdk.org/results/dashboard/preferences/subscriptions/