From mboxrd@z Thu Jan 1 00:00:00 1970 Return-Path: Received: from mails.dpdk.org (mails.dpdk.org [217.70.189.124]) by inbox.dpdk.org (Postfix) with ESMTP id 3E75248903 for ; Fri, 10 Oct 2025 23:25:55 +0200 (CEST) Received: from mails.dpdk.org (localhost [127.0.0.1]) by mails.dpdk.org (Postfix) with ESMTP id 23EBB4003C; Fri, 10 Oct 2025 23:25:55 +0200 (CEST) Received: from mail-pl1-f225.google.com (mail-pl1-f225.google.com [209.85.214.225]) by mails.dpdk.org (Postfix) with ESMTP id 6D6E54003C for ; Fri, 10 Oct 2025 23:25:53 +0200 (CEST) Received: by mail-pl1-f225.google.com with SMTP id d9443c01a7336-26c209802c0so24939735ad.0 for ; Fri, 10 Oct 2025 14:25:53 -0700 (PDT) DKIM-Signature: v=1; a=rsa-sha256; c=relaxed/relaxed; d=iol.unh.edu; s=unh-iol; t=1760131552; x=1760736352; darn=dpdk.org; h=references:in-reply-to:cc:to:from:subject:message-id:date:from:to :cc:subject:date:message-id:reply-to; bh=0+nDL+cZLe17VN3uFLkQYjbIuSaD8gJzgTUvqs+crlw=; b=c6vCE1pTRfaIt8upxKHSY0dQ1G8sodI0exLsShjRjP16NwWTfFLdK90wmDOjis+odV 394t1felFWihqYF48AOjclrM7pPpqmXHyz9uRb+Py5HdgQP4weUuPIrESrdOyMZ4czTn OAOv7C7fHkSwGsqxUF73+Jl1AGp6Nb2Nt546k= X-Google-DKIM-Signature: v=1; a=rsa-sha256; c=relaxed/relaxed; d=1e100.net; s=20230601; t=1760131552; x=1760736352; h=references:in-reply-to:cc:to:from:subject:message-id:date :x-gm-message-state:from:to:cc:subject:date:message-id:reply-to; bh=0+nDL+cZLe17VN3uFLkQYjbIuSaD8gJzgTUvqs+crlw=; b=oaEjmVIjL1n/i9mVClERVOxxfBs+6usTXY7sDctvnPFeIr8nE9s1O2FLyLOQiLQn5Z IxOZIG++xTod9ufRGjTt4Lh6RPeIwAcYjP6B60Je1TnZEVUuCEWuAbsE+J9/p0TbmmSm vDyEx5a8jUA0wGYhIqjzo3of3WXMSKnUtoyKtnCNrMIEPeVobA7SoILN5PaT9ubFIHKO oXPXWXpJrA79w5bMXCUnsYjO+mTgArm2YrDVfzr6C/Un3POCyE4xgU1JGfyi4LHoMVGg BrSEO/foZk/NjldyDETEAsJhVmCvuFXsm3VdnPIHTOuVoc/Zklx9S24njOU48H+1YfAM U8Rg== X-Gm-Message-State: AOJu0Yym7UA2QCsVUl1WDUGCTLcRig2UzKNBU5k129YQh5goehDiC4pK Q5wR25bOe2nfCn1g3GLEgJyO2PFPqNrNVYEtuw7CuNDiJo44/yjD/9CulJlrxuPleb/Z5Q8+TW2 /fWr14/qqw5YBwndxzhOWb/bnnF3l73tEKgI+APTWyKEr X-Gm-Gg: ASbGncu/1EnWr5ZaNsiTl7nRZb74/kn9p7W2USvB6ykBKl+JKkCYIku0p4bnWh4YlJC jVPwPg5RAHBcJurBbKfqTzAlWdrfPEquD7nx4Pno6ne+1gk5q5WGvn+j4eLx3tPUpZAAzzio5K2 jvHKKRdmED7tI4DizS2roYCMU/vl20E6FZbcuzr8beLmiqenFqJVU9eisZSSro8Tbmz3KKqoJgx Ww4WHrhex11EczmNefMEPMFnlN+xh8LnK7LYuQkzGnB0uI9b40L40Gbf+UlDhE2IFvrNCfJ/bVV ew7kDnQbAwJtPU8TPhSX82r7TzF9SRdiqv1UX5YBoVqkBwyIwlht2y83P8Ihnjbm2+SFkjj/ X-Google-Smtp-Source: AGHT+IFcsXE6ph/fO0BjY+4IeLa/0Nsd1ZH7NKDUQk+vMyjtbcyWwwp+59SQ75UVn5hKOjlr5tkLMSGURcMq X-Received: by 2002:a17:902:e54a:b0:269:8f0c:4d86 with SMTP id d9443c01a7336-2902741e857mr180075535ad.53.1760131552313; Fri, 10 Oct 2025 14:25:52 -0700 (PDT) Received: from postal.iol.unh.edu (postal.iol.unh.edu. [132.177.123.84]) by smtp-relay.gmail.com with ESMTPS id 41be03b00d2f7-b678dcbe656sm211757a12.2.2025.10.10.14.25.52 (version=TLS1_2 cipher=ECDHE-ECDSA-AES128-GCM-SHA256 bits=128/128); Fri, 10 Oct 2025 14:25:52 -0700 (PDT) X-Relaying-Domain: iol.unh.edu Date: Fri, 10 Oct 2025 14:25:52 -0700 (PDT) Message-ID: <68e979e0.630a0220.88ebf.b388SMTPIN_ADDED_MISSING@mx.google.com> Received: from [172.21.0.2] (unknown [172.18.0.240]) by postal.iol.unh.edu (Postfix) with ESMTP id 83BD36051830; Fri, 10 Oct 2025 17:25:51 -0400 (EDT) Subject: |SUCCESS| pw157448 [PATCH] lib/net: Add ICMP support to rte_net_get_ From: dpdklab@iol.unh.edu To: Test Report Cc: dpdk-test-reports@iol.unh.edu In-Reply-To: <20251009152740.10437-1-eimear.morrissey@huawei.com> References: <20251009152740.10437-1-eimear.morrissey@huawei.com> Content-Type: text/plain X-BeenThere: test-report@dpdk.org X-Mailman-Version: 2.1.29 Precedence: list List-Id: automatic DPDK test reports List-Unsubscribe: , List-Archive: List-Post: List-Help: List-Subscribe: , Errors-To: test-report-bounces@dpdk.org Test-Label: iol-unit-arm64-testing Test-Status: SUCCESS http://dpdk.org/patch/157448 _Testing PASS_ Submitter: Eimear Morrissey Date: Thursday, October 09 2025 15:27:40 DPDK git baseline: Repo:dpdk Branch: master CommitID:2b403dd8fb37d0ba13723e44ffc7ee2c2795f838 157448 --> testing pass Upstream job id: Generic-Unit-Test-DPDK#380180 Test environment and result as below: +------------------------------+---------------------------+------------------------------+--------------+----------------+ | Environment | cryptodev_sw_zuc_autotest | cryptodev_sw_snow3g_autotest | lpm_autotest | dpdk_unit_test | +==============================+===========================+==============================+==============+================+ | Debian 12 (arm) | PASS | PASS | SKIPPED | SKIPPED | +------------------------------+---------------------------+------------------------------+--------------+----------------+ | Ubuntu 20.04 | SKIPPED | SKIPPED | PASS | PASS | +------------------------------+---------------------------+------------------------------+--------------+----------------+ | CentOS Stream 9 | SKIPPED | SKIPPED | SKIPPED | PASS | +------------------------------+---------------------------+------------------------------+--------------+----------------+ | CentOS Stream 10 | SKIPPED | SKIPPED | SKIPPED | PASS | +------------------------------+---------------------------+------------------------------+--------------+----------------+ | Ubuntu 22.04 | SKIPPED | SKIPPED | SKIPPED | PASS | +------------------------------+---------------------------+------------------------------+--------------+----------------+ | Fedora Linux 40 | SKIPPED | SKIPPED | SKIPPED | PASS | +------------------------------+---------------------------+------------------------------+--------------+----------------+ | Debian GNU/Linux 12 | SKIPPED | SKIPPED | SKIPPED | PASS | +------------------------------+---------------------------+------------------------------+--------------+----------------+ | Fedora Linux 41 | SKIPPED | SKIPPED | SKIPPED | PASS | +------------------------------+---------------------------+------------------------------+--------------+----------------+ | Fedora Linux 42 | SKIPPED | SKIPPED | SKIPPED | PASS | +------------------------------+---------------------------+------------------------------+--------------+----------------+ | Ubuntu 24.04 | SKIPPED | SKIPPED | SKIPPED | PASS | +------------------------------+---------------------------+------------------------------+--------------+----------------+ | Red Hat Enterprise Linux 9.5 | SKIPPED | SKIPPED | SKIPPED | PASS | +------------------------------+---------------------------+------------------------------+--------------+----------------+ Debian 12 (arm) Kernel: Depends on container host Compiler: gcc (Debian 12.2.0-14) 12.2.0 Ubuntu 20.04 Kernel: 5.4 Compiler: gcc gcc (Ubuntu 9.4.0-1ubuntu1~20.04.2) 9.4.0 CentOS Stream 9 Kernel: 5.4 Compiler: gcc gcc (GCC) 11.5.0 20240719 (Red Hat 11.5.0-11) CentOS Stream 10 Kernel: 5.4 Compiler: gcc gcc (GCC) 14.2.1 20250110 (Red Hat 14.2.1-8) Ubuntu 22.04 Kernel: 5.15 Compiler: gcc gcc (Ubuntu 11.4.0-1ubuntu1~22.04.2) 11.4.0 Fedora Linux 40 Kernel: 5.4 Compiler: gcc gcc (GCC) 14.2.1 20240912 (Red Hat 14.2.1-3) Debian GNU/Linux 12 Kernel: 5.4 Compiler: gcc gcc (Debian 12.2.0-14+deb12u1) 12.2.0 Fedora Linux 41 Kernel: 5.4 Compiler: gcc gcc (GCC) 14.3.1 20250523 (Red Hat 14.3.1-1) Fedora Linux 42 Kernel: 5.4 Compiler: gcc gcc (GCC) 15.2.1 20250808 (Red Hat 15.2.1-1) Ubuntu 24.04 Kernel: 5.4 Compiler: gcc gcc (Ubuntu 13.3.0-6ubuntu2~24.04) 13.3.0 Red Hat Enterprise Linux 9.5 Kernel: 5.4 Compiler: gcc gcc (GCC) 11.5.0 20240719 (Red Hat 11.5.0-2) To view detailed results, visit: https://lab.dpdk.org/results/dashboard/patchsets/34248/ UNH-IOL DPDK Community Lab To manage your email subscriptions, visit: https://lab.dpdk.org/results/dashboard/preferences/subscriptions/