From mboxrd@z Thu Jan 1 00:00:00 1970 Return-Path: Received: from mails.dpdk.org (mails.dpdk.org [217.70.189.124]) by inbox.dpdk.org (Postfix) with ESMTP id 9EDB748904 for ; Sat, 11 Oct 2025 02:09:19 +0200 (CEST) Received: from mails.dpdk.org (localhost [127.0.0.1]) by mails.dpdk.org (Postfix) with ESMTP id 7DB114003C; Sat, 11 Oct 2025 02:09:19 +0200 (CEST) Received: from mail-pj1-f97.google.com (mail-pj1-f97.google.com [209.85.216.97]) by mails.dpdk.org (Postfix) with ESMTP id 6E0064003C for ; Sat, 11 Oct 2025 02:09:18 +0200 (CEST) Received: by mail-pj1-f97.google.com with SMTP id 98e67ed59e1d1-3324523dfb2so2551205a91.0 for ; Fri, 10 Oct 2025 17:09:18 -0700 (PDT) DKIM-Signature: v=1; a=rsa-sha256; c=relaxed/relaxed; d=iol.unh.edu; s=unh-iol; t=1760141357; x=1760746157; darn=dpdk.org; h=references:in-reply-to:cc:to:from:subject:message-id:date:from:to :cc:subject:date:message-id:reply-to; bh=Mo025ItkMi9fEnAsWbxlx9dXAfZQQtXhqNIhVLe2HHM=; b=L1lMZ6Qhfw+yW13CsvP2hzj782vCM/DWcEHfTLw43AiWDlQAC3kqvuM7bqSJvPsmjd piSawdY+0juc7zBUGO0YhbOjzHeH96+Pit9VXNlbL4syrMxT2/ZpQAUwezctxRGT233U fFdUeFex9uynvx6D5mUtErTjaHXNRWb1kQd00= X-Google-DKIM-Signature: v=1; a=rsa-sha256; c=relaxed/relaxed; d=1e100.net; s=20230601; t=1760141357; x=1760746157; h=references:in-reply-to:cc:to:from:subject:message-id:date :x-gm-message-state:from:to:cc:subject:date:message-id:reply-to; bh=Mo025ItkMi9fEnAsWbxlx9dXAfZQQtXhqNIhVLe2HHM=; b=dn4nB4m9EVtXhI+gxyEmEagbTTDg4w9GPUaBpRrFtV8Hrht6Rde/vzCbnfQcP37pDq LSUNR3JGMBCgUhOKzMvIiJU/hiWw2LS7yC8t2BZV4ckyCYzRf0LCmUtMRP9coNrD8iVu 6BqyOQeAtWdGJyDD2lsMQPYc2tWDxYaUBL58Sjt1sXnvwR1Ze6qYXpR95+Ge6qKK6sLF XpBNSej415FHVxgeYr4wDb4JSGhkEH0eK0XmM5Ipu+9S3ZKkapBKYQFdvF3JrXfAf93C lg6xbh7SPtq9ygQIC0bYtnhB0K+PLDm2PWLgrNqzB+ux1avyOPbnQX67jCKHGwkbz1w+ HQwA== X-Gm-Message-State: AOJu0YxZ27NLBTmlHO13vI+6iDXUxCkPl0FqIVfSDeRWCr+DpB8HqtKG aZdRtCNRi4LLB+ozHfFpALj8J8bzL3b9Xa1+V2EVS/EzEGlUF38UM6quyYzkOJ7uszRHhGO1GOl Nf04d2JyHk2C3DdxtJDqn6il7Ro47V5/qcpt6kQYej+UD X-Gm-Gg: ASbGncuS42GbHVOcp2/ioKfqnTjVtQV9gVL0Sax95lmaLoOwCX+epBXDcuDvLMqa2jI t1cT05pDloXNjR9+N4R3qOWGm643ixFhzLxJbhATvdUYyihmt38sh1pqmF2qDkTN6Fea+YrUa9r P8XegKjcSswOWkiOyqaxQvxygcaNgcJVZsehPWrGACT6UyGGxzC/96zEWQYYWy2YJGOQ88j+PHx Z/xJQr5ekO2F86jgFQjI+goORxvjyvlULrg8ON/7t2jK90ADeiBaC+R/+DamRDamYmpEhj5F3aJ giS2iuFytvPVdOQEPkFehd55OlSQpu9fzF9DKjneZuCHn7mJlWOrs2KAZhcjrqq2DNhfoz3L X-Google-Smtp-Source: AGHT+IEYBmLy8tGnbNWI5W//hkQ55gLtsrYJuHGOISRoiyNQt/kx6kB5A6t+Udrv4ZA/VyhwwLkNZ/5cW7Yl X-Received: by 2002:a17:90b:3b90:b0:32e:3830:65e1 with SMTP id 98e67ed59e1d1-33b513be284mr19639354a91.33.1760141357317; Fri, 10 Oct 2025 17:09:17 -0700 (PDT) Received: from postal.iol.unh.edu (postal.iol.unh.edu. [132.177.123.84]) by smtp-relay.gmail.com with ESMTPS id 98e67ed59e1d1-33b62645055sm357508a91.1.2025.10.10.17.09.17 (version=TLS1_2 cipher=ECDHE-ECDSA-AES128-GCM-SHA256 bits=128/128); Fri, 10 Oct 2025 17:09:17 -0700 (PDT) X-Relaying-Domain: iol.unh.edu Date: Fri, 10 Oct 2025 17:09:17 -0700 (PDT) Message-ID: <68e9a02d.170a0220.f35b2.35c9SMTPIN_ADDED_MISSING@mx.google.com> Received: from [172.21.0.2] (unknown [172.18.0.240]) by postal.iol.unh.edu (Postfix) with ESMTP id 9FEB760003F7; Fri, 10 Oct 2025 20:09:15 -0400 (EDT) Subject: |SUCCESS| pw157450 [PATCH] [v3] vhost: fix a double fetch when deque From: dpdklab@iol.unh.edu To: Test Report Cc: dpdk-test-reports@iol.unh.edu, Chenbo Xia , Maxime Coquelin In-Reply-To: <1760085696-35028-1-git-send-email-wangyunjian@huawei.com> References: <1760085696-35028-1-git-send-email-wangyunjian@huawei.com> Content-Type: text/plain X-BeenThere: test-report@dpdk.org X-Mailman-Version: 2.1.29 Precedence: list List-Id: automatic DPDK test reports List-Unsubscribe: , List-Archive: List-Post: List-Help: List-Subscribe: , Errors-To: test-report-bounces@dpdk.org Test-Label: iol-unit-arm64-testing Test-Status: SUCCESS http://dpdk.org/patch/157450 _Testing PASS_ Submitter: Yunjian Wang Date: Friday, October 10 2025 08:41:36 DPDK git baseline: Repo:dpdk-next-virtio Branch: master CommitID:4159ea62922ce41566c7bab44655ad78bee85458 157450 --> testing pass Upstream job id: Generic-Unit-Test-DPDK#380214 Test environment and result as below: +------------------------------+----------------+--------------+---------------------------+------------------------------+ | Environment | dpdk_unit_test | lpm_autotest | cryptodev_sw_zuc_autotest | cryptodev_sw_snow3g_autotest | +==============================+================+==============+===========================+==============================+ | CentOS Stream 10 | PASS | SKIPPED | SKIPPED | SKIPPED | +------------------------------+----------------+--------------+---------------------------+------------------------------+ | CentOS Stream 9 | PASS | SKIPPED | SKIPPED | SKIPPED | +------------------------------+----------------+--------------+---------------------------+------------------------------+ | Debian GNU/Linux 12 | PASS | SKIPPED | SKIPPED | SKIPPED | +------------------------------+----------------+--------------+---------------------------+------------------------------+ | Fedora Linux 40 | PASS | SKIPPED | SKIPPED | SKIPPED | +------------------------------+----------------+--------------+---------------------------+------------------------------+ | Fedora Linux 42 | PASS | SKIPPED | SKIPPED | SKIPPED | +------------------------------+----------------+--------------+---------------------------+------------------------------+ | Ubuntu 22.04 | PASS | SKIPPED | SKIPPED | SKIPPED | +------------------------------+----------------+--------------+---------------------------+------------------------------+ | Fedora Linux 41 | PASS | SKIPPED | SKIPPED | SKIPPED | +------------------------------+----------------+--------------+---------------------------+------------------------------+ | Ubuntu 24.04 | PASS | SKIPPED | SKIPPED | SKIPPED | +------------------------------+----------------+--------------+---------------------------+------------------------------+ | Red Hat Enterprise Linux 9.5 | PASS | SKIPPED | SKIPPED | SKIPPED | +------------------------------+----------------+--------------+---------------------------+------------------------------+ | Ubuntu 20.04 | PASS | PASS | SKIPPED | SKIPPED | +------------------------------+----------------+--------------+---------------------------+------------------------------+ | Debian 12 (arm) | SKIPPED | SKIPPED | PASS | PASS | +------------------------------+----------------+--------------+---------------------------+------------------------------+ CentOS Stream 10 Kernel: 5.4 Compiler: gcc gcc (GCC) 14.2.1 20250110 (Red Hat 14.2.1-8) CentOS Stream 9 Kernel: 5.4 Compiler: gcc gcc (GCC) 11.5.0 20240719 (Red Hat 11.5.0-11) Debian GNU/Linux 12 Kernel: 5.4 Compiler: gcc gcc (Debian 12.2.0-14+deb12u1) 12.2.0 Fedora Linux 40 Kernel: 5.4 Compiler: gcc gcc (GCC) 14.2.1 20240912 (Red Hat 14.2.1-3) Fedora Linux 42 Kernel: 5.4 Compiler: clang gcc (GCC) 15.2.1 20250808 (Red Hat 15.2.1-1) Ubuntu 22.04 Kernel: 5.4 Compiler: gcc gcc (Ubuntu 11.4.0-1ubuntu1~22.04) 11.4.0 Fedora Linux 41 Kernel: 5.4 Compiler: gcc gcc (GCC) 14.3.1 20250523 (Red Hat 14.3.1-1) Ubuntu 24.04 Kernel: 5.4 Compiler: gcc gcc (Ubuntu 13.3.0-6ubuntu2~24.04) 13.3.0 Red Hat Enterprise Linux 9.5 Kernel: 5.4 Compiler: gcc gcc (GCC) 11.5.0 20240719 (Red Hat 11.5.0-2) Ubuntu 20.04 Kernel: 5.4 Compiler: gcc gcc (Ubuntu 9.4.0-1ubuntu1~20.04.2) 9.4.0 Debian 12 (arm) Kernel: Depends on container host Compiler: gcc (Debian 12.2.0-14) 12.2.0 To view detailed results, visit: https://lab.dpdk.org/results/dashboard/patchsets/34250/ UNH-IOL DPDK Community Lab To manage your email subscriptions, visit: https://lab.dpdk.org/results/dashboard/preferences/subscriptions/