From mboxrd@z Thu Jan 1 00:00:00 1970 Return-Path: Received: from mails.dpdk.org (mails.dpdk.org [217.70.189.124]) by inbox.dpdk.org (Postfix) with ESMTP id DDFED48904 for ; Sat, 11 Oct 2025 03:03:42 +0200 (CEST) Received: from mails.dpdk.org (localhost [127.0.0.1]) by mails.dpdk.org (Postfix) with ESMTP id A84324003C; Sat, 11 Oct 2025 03:03:42 +0200 (CEST) Received: from mail-oa1-f100.google.com (mail-oa1-f100.google.com [209.85.160.100]) by mails.dpdk.org (Postfix) with ESMTP id 957DE4003C for ; Sat, 11 Oct 2025 03:03:41 +0200 (CEST) Received: by mail-oa1-f100.google.com with SMTP id 586e51a60fabf-35ba7c71bfdso1367341fac.3 for ; Fri, 10 Oct 2025 18:03:41 -0700 (PDT) DKIM-Signature: v=1; a=rsa-sha256; c=relaxed/relaxed; d=iol.unh.edu; s=unh-iol; t=1760144620; x=1760749420; darn=dpdk.org; h=cc:to:from:subject:message-id:date:from:to:cc:subject:date :message-id:reply-to; bh=S/MYQmFVvHeZuBmHHBr9nMcJoldfUfZFqjVj3ItJ87Y=; b=JDnIuP2nQdBJuhnCwKWFCjygcbh7K3Zn7yQGi6uOSRKIAE19fYJBxBMlB5G1OM+WBh IHM5r32R6lArGJsZw+jKVOWt5+YuxeW6KsninmhkVzsv/BtSYpoIOeYVRGe7yYCVQ6Zb dZ34Rfn9upZyTcYl6NlY2qPdnPM+yA62CiPvY= X-Google-DKIM-Signature: v=1; a=rsa-sha256; c=relaxed/relaxed; d=1e100.net; s=20230601; t=1760144620; x=1760749420; h=cc:to:from:subject:message-id:date:x-gm-message-state:from:to:cc :subject:date:message-id:reply-to; bh=S/MYQmFVvHeZuBmHHBr9nMcJoldfUfZFqjVj3ItJ87Y=; b=uyAt0WdrHb4aOnsMe5oK9QFrop92DneUnHMY8gsmlqqJmmxRkaps3BAA7ekNEiwqsf kYsaECD0wgtRc2tLburCXbx0+74JsA7O381bijeyEdK7ssCXoUQKcGV5pfaXJi8VXXKM 4R8+jkYC3GELnA25Pd74OW0VwPRnI4n8Xte2nSi5cgTw3uMAuSKmCPxlP/Bavmarwrk1 zrBr7zus2gFskxnIzWmxMej0wlHvR75N9EDWm+4hw7k6DHMrYzxCtHsxV+ZX4CXuNQdH bXO9ETnte4WT9aOIvoe0yr6pb9O0xavwvnfp7QcpDZ0xPi8xz5EQJKf+Fn2nU0nG+HPV cpfA== X-Gm-Message-State: AOJu0Yyeyox/EdyuykIBxCrUAqfYPTDCCHIODbAX1KkSnWp8vOWUHgZJ bNoYywiAoSqbpxQRZQ1+gtc8u7/RJYNLv0mRHvhfPg/gatFTPhnHX5IyaDsQhoFc7LbJggg42sV yzNoThZFydLU5BVueMTcdRXPOPQHr4jsEJTRf X-Gm-Gg: ASbGnctq9I/lZqJDetRx5YC19e+FRCW0lik0HhBTfudY34rQ/FKGjudj+exEMEJyIid flK6Gn3yImiIXzZYJXhtb6fqn4/WffsrUg7VPnzppITcJXFqTmwceOmFdxiCpSxY3pY/1vagT4v qJfRmXS+tGyUCbWnI6kAxC592lDP/ipJCzN9WTAvwKtEpmy77HbEAQGUcI09jpOAB6GTDx1qnjW niDaxacC0Mpse7R3KRwSLcYg4yah2fv993bzUp4uzYIXV3HPtYqKoa1pcn8oN7wkoa0XelSjgox P06IFQZbzFUGKdZMoxmxkka6GWeDdwz+3VVhigGF X-Google-Smtp-Source: AGHT+IFmdAM7OcsJx+iAKOPRA9F3mqAYdHmVIJx28wqF0u7ndZml+nh6vupGJS22giCXLXNE9oe2e+OON88+ X-Received: by 2002:a05:6870:c1c2:b0:315:bac0:c47f with SMTP id 586e51a60fabf-3c0f91a53c1mr6286960fac.29.1760144620732; Fri, 10 Oct 2025 18:03:40 -0700 (PDT) Received: from postal.iol.unh.edu (postal.iol.unh.edu. [132.177.123.84]) by smtp-relay.gmail.com with ESMTPS id 586e51a60fabf-3c8c8b7eda7sm354595fac.7.2025.10.10.18.03.40 (version=TLS1_2 cipher=ECDHE-ECDSA-AES128-GCM-SHA256 bits=128/128); Fri, 10 Oct 2025 18:03:40 -0700 (PDT) X-Relaying-Domain: iol.unh.edu Date: Fri, 10 Oct 2025 18:03:40 -0700 (PDT) Message-ID: <68e9acec.050a0220.ef650.2426SMTPIN_ADDED_MISSING@mx.google.com> Received: from [172.21.0.3] (unknown [172.18.0.240]) by postal.iol.unh.edu (Postfix) with ESMTP id 3C8066051830; Fri, 10 Oct 2025 21:03:40 -0400 (EDT) Subject: |SUCCESS| [GIT MASTER] d0eb31b594b42fb1dd4e8f2afad3e2a5f1846c1a From: dpdklab@iol.unh.edu To: Test Report Cc: dpdk-test-reports@iol.unh.edu, Bruce Richardson Content-Type: text/plain X-BeenThere: test-report@dpdk.org X-Mailman-Version: 2.1.29 Precedence: list List-Id: automatic DPDK test reports List-Unsubscribe: , List-Archive: List-Post: List-Help: List-Subscribe: , Errors-To: test-report-bounces@dpdk.org _Testing PASS_ Branch: dpdk-next-net-intel d0eb31b594b42fb1dd4e8f2afad3e2a5f1846c1a --> testing pass Upstream job id: Generic-Unit-Test-DPDK#380233 Test environment and result as below: +------------------------------+----------------+------------------------------+--------------+---------------------------+ | Environment | dpdk_unit_test | cryptodev_sw_snow3g_autotest | lpm_autotest | cryptodev_sw_zuc_autotest | +==============================+================+==============================+==============+===========================+ | Ubuntu 22.04 | PASS | SKIPPED | SKIPPED | SKIPPED | +------------------------------+----------------+------------------------------+--------------+---------------------------+ | Fedora Linux 40 | PASS | SKIPPED | SKIPPED | SKIPPED | +------------------------------+----------------+------------------------------+--------------+---------------------------+ | CentOS Stream 9 | PASS | SKIPPED | SKIPPED | SKIPPED | +------------------------------+----------------+------------------------------+--------------+---------------------------+ | Ubuntu 24.04 | PASS | SKIPPED | SKIPPED | SKIPPED | +------------------------------+----------------+------------------------------+--------------+---------------------------+ | Fedora Linux 42 | PASS | SKIPPED | SKIPPED | SKIPPED | +------------------------------+----------------+------------------------------+--------------+---------------------------+ | Ubuntu 20.04 | PASS | SKIPPED | PASS | SKIPPED | +------------------------------+----------------+------------------------------+--------------+---------------------------+ | Red Hat Enterprise Linux 9.5 | PASS | SKIPPED | SKIPPED | SKIPPED | +------------------------------+----------------+------------------------------+--------------+---------------------------+ | CentOS Stream 10 | PASS | SKIPPED | SKIPPED | SKIPPED | +------------------------------+----------------+------------------------------+--------------+---------------------------+ | Debian GNU/Linux 12 | PASS | SKIPPED | SKIPPED | SKIPPED | +------------------------------+----------------+------------------------------+--------------+---------------------------+ | Fedora Linux 41 | PASS | SKIPPED | SKIPPED | SKIPPED | +------------------------------+----------------+------------------------------+--------------+---------------------------+ | Debian 12 (arm) | SKIPPED | PASS | SKIPPED | PASS | +------------------------------+----------------+------------------------------+--------------+---------------------------+ Ubuntu 22.04 Kernel: 5.4 Compiler: gcc gcc (Ubuntu 11.4.0-1ubuntu1~22.04) 11.4.0 Fedora Linux 40 Kernel: 5.4 Compiler: gcc gcc (GCC) 14.2.1 20240912 (Red Hat 14.2.1-3) CentOS Stream 9 Kernel: 5.4 Compiler: gcc gcc (GCC) 11.5.0 20240719 (Red Hat 11.5.0-11) Ubuntu 24.04 Kernel: 5.4 Compiler: gcc gcc (Ubuntu 13.3.0-6ubuntu2~24.04) 13.3.0 Fedora Linux 42 Kernel: 5.4 Compiler: gcc gcc (GCC) 15.2.1 20250808 (Red Hat 15.2.1-1) Ubuntu 20.04 Kernel: 5.4 Compiler: gcc gcc (Ubuntu 9.4.0-1ubuntu1~20.04.2) 9.4.0 Red Hat Enterprise Linux 9.5 Kernel: 5.4 Compiler: gcc gcc (GCC) 11.5.0 20240719 (Red Hat 11.5.0-2) CentOS Stream 10 Kernel: 5.4 Compiler: gcc gcc (GCC) 14.2.1 20250110 (Red Hat 14.2.1-8) Debian GNU/Linux 12 Kernel: 5.4 Compiler: gcc gcc (Debian 12.2.0-14+deb12u1) 12.2.0 Fedora Linux 41 Kernel: 5.4 Compiler: clang gcc (GCC) 14.3.1 20250523 (Red Hat 14.3.1-1) Debian 12 (arm) Kernel: Depends on container host Compiler: gcc (Debian 12.2.0-14) 12.2.0 To view detailed results, visit: https://lab.dpdk.org/results/dashboard/tarballs/35167/ UNH-IOL DPDK Community Lab To manage your email subscriptions, visit: https://lab.dpdk.org/results/dashboard/preferences/subscriptions/