From mboxrd@z Thu Jan 1 00:00:00 1970 Return-Path: Received: from mails.dpdk.org (mails.dpdk.org [217.70.189.124]) by inbox.dpdk.org (Postfix) with ESMTP id 02A9B48905 for ; Sat, 11 Oct 2025 04:05:56 +0200 (CEST) Received: from mails.dpdk.org (localhost [127.0.0.1]) by mails.dpdk.org (Postfix) with ESMTP id D39444003C; Sat, 11 Oct 2025 04:05:56 +0200 (CEST) Received: from mail-pj1-f100.google.com (mail-pj1-f100.google.com [209.85.216.100]) by mails.dpdk.org (Postfix) with ESMTP id 51C364003C for ; Sat, 11 Oct 2025 04:05:55 +0200 (CEST) Received: by mail-pj1-f100.google.com with SMTP id 98e67ed59e1d1-339c9bf3492so3359721a91.2 for ; Fri, 10 Oct 2025 19:05:55 -0700 (PDT) DKIM-Signature: v=1; a=rsa-sha256; c=relaxed/relaxed; d=iol.unh.edu; s=unh-iol; t=1760148354; x=1760753154; darn=dpdk.org; h=references:in-reply-to:cc:to:from:subject:message-id:date:from:to :cc:subject:date:message-id:reply-to; bh=FmWdX9/fh2Zy6DxOlLD+H1ol3AqM6YuR8hex9UUvOoA=; b=ajXF4JwVbStP7TKplkleuu4D32YKaN1PV3Mu6JNYTT6PUU+KsaaKcfpcxrhtWNsI+K 5aNiwuHoVs0Y0L+mLauU2UKS+lbmEdGabjE8CMBwR7i6THRhP7BU6c+AD+bvHyAcqwzC 3epBTGS+70VOWKd5v1c5Ik3VwPE50JdiKooes= X-Google-DKIM-Signature: v=1; a=rsa-sha256; c=relaxed/relaxed; d=1e100.net; s=20230601; t=1760148354; x=1760753154; h=references:in-reply-to:cc:to:from:subject:message-id:date :x-gm-message-state:from:to:cc:subject:date:message-id:reply-to; bh=FmWdX9/fh2Zy6DxOlLD+H1ol3AqM6YuR8hex9UUvOoA=; b=uXT8Rpf8qOSsEBWQ96gKe1stk3m/3V0/K5m3DLeMAreRrbLTsAgY2yylyJRURZRohR WyX+WV3nbc83FVxcQ0vT1/DdOVzB0WV1hy1xSkDVWPOvXTIR+wgRil/8Z4U3MstulqHb jf+VUVZ14jhx4SoW9vN1RTeS9Uheb1DdGKkmKs1MY5/MXOADj5WV0OxdBlfspr6+ppzJ zkMNLJbgVUa+oVm1E68eL68xkk2eXWHajANxi5W5lMgnviltgkvseBjnC/33UpnqBSJ7 LdxUPEe6bAe68KHHX4wytpLGUWcbcqjt3nZZqQJdIlVKVu0nofV11kI2r6jfgS3KdXKr j50g== X-Gm-Message-State: AOJu0YzFR+jCWpTzJ9CWCC42ZScbJMzIeCYZc67H59kzLOFDC0a4dvtG WvBTyz2/LJBzGoGkDCfGtzCzh/EMgBX8349C/0usxvz63vY6Om72KX5Bd8dKTepfrUGRYSWAQd3 q8y11M6WxDJviObm7Pt/zXpFIoj5yYxmC+1uJjq1KqHF/pARV7WPu2hCRrh4P X-Gm-Gg: ASbGncseTLCM1e1Kwpfk31m8EXnnKK9OhZGV7zdWZ2NgWrvQonMKIHhLJNSmX6pa1kF dgwpnFs8KbBQafk+uI6AMqvVOBRPdtp2eBMD+5gLJLx5DH+Hv8+tsFG56vtYv9HRJTFOQndkQ7g s0CjXrzJxLYmM/fJyuzYxzKFAA4HtNqmEGINbNx4LFw+kkEifXscE0TG1UfyZ+43OpY061xKs6y L2br0qc1eVvcjD09pcXAMysa1owZYBJbSlgspkF/UuCieuByXDNvsD/BrVGPahJ1eNLBY+gQjJR /iYF/YzPSDcpl4pUXHqAjbUev+IC2MoyIhJTxkEKQAu1E8ypNw== X-Google-Smtp-Source: AGHT+IFEHU0jOTyxOauj3xqP3KKlh6yDFF1/TVpEqiNSSUnareVhhETg9AYiivNBjSneFj2r0qEamvgqRvDR X-Received: by 2002:a17:903:285:b0:267:d0fa:5f75 with SMTP id d9443c01a7336-29027356237mr165706065ad.1.1760148354370; Fri, 10 Oct 2025 19:05:54 -0700 (PDT) Received: from postal.iol.unh.edu (postal.iol.unh.edu. [2606:4100:3880:1234::84]) by smtp-relay.gmail.com with ESMTPS id d9443c01a7336-29034f81c9csm5689945ad.66.2025.10.10.19.05.54 (version=TLS1_2 cipher=ECDHE-ECDSA-AES128-GCM-SHA256 bits=128/128); Fri, 10 Oct 2025 19:05:54 -0700 (PDT) X-Relaying-Domain: iol.unh.edu Date: Fri, 10 Oct 2025 19:05:54 -0700 (PDT) Message-ID: <68e9bb82.170a0220.25b6ba.d824SMTPIN_ADDED_MISSING@mx.google.com> Received: from [172.21.0.2] (unknown [172.18.0.240]) by postal.iol.unh.edu (Postfix) with ESMTP id E2B2C60003F7; Fri, 10 Oct 2025 22:05:52 -0400 (EDT) Subject: |SUCCESS| pw157451 [PATCH] net/e1000: fix crash when built with GCC From: dpdklab@iol.unh.edu To: Test Report Cc: dpdk-test-reports@iol.unh.edu, Bruce Richardson In-Reply-To: <20251010125848.965340-1-ciara.loftus@intel.com> References: <20251010125848.965340-1-ciara.loftus@intel.com> Content-Type: text/plain X-BeenThere: test-report@dpdk.org X-Mailman-Version: 2.1.29 Precedence: list List-Id: automatic DPDK test reports List-Unsubscribe: , List-Archive: List-Post: List-Help: List-Subscribe: , Errors-To: test-report-bounces@dpdk.org Test-Label: iol-unit-arm64-testing Test-Status: SUCCESS http://dpdk.org/patch/157451 _Testing PASS_ Submitter: Loftus, Ciara Date: Friday, October 10 2025 12:58:48 DPDK git baseline: Repo:dpdk-next-net-intel Branch: master CommitID:d0eb31b594b42fb1dd4e8f2afad3e2a5f1846c1a 157451 --> testing pass Upstream job id: Generic-Unit-Test-DPDK#380259 Test environment and result as below: +------------------------------+----------------+--------------+---------------------------+------------------------------+ | Environment | dpdk_unit_test | lpm_autotest | cryptodev_sw_zuc_autotest | cryptodev_sw_snow3g_autotest | +==============================+================+==============+===========================+==============================+ | Debian GNU/Linux 12 | PASS | SKIPPED | SKIPPED | SKIPPED | +------------------------------+----------------+--------------+---------------------------+------------------------------+ | CentOS Stream 9 | PASS | SKIPPED | SKIPPED | SKIPPED | +------------------------------+----------------+--------------+---------------------------+------------------------------+ | CentOS Stream 10 | PASS | SKIPPED | SKIPPED | SKIPPED | +------------------------------+----------------+--------------+---------------------------+------------------------------+ | Fedora Linux 41 | PASS | SKIPPED | SKIPPED | SKIPPED | +------------------------------+----------------+--------------+---------------------------+------------------------------+ | Fedora Linux 40 | PASS | SKIPPED | SKIPPED | SKIPPED | +------------------------------+----------------+--------------+---------------------------+------------------------------+ | Fedora Linux 42 | PASS | SKIPPED | SKIPPED | SKIPPED | +------------------------------+----------------+--------------+---------------------------+------------------------------+ | Ubuntu 24.04 | PASS | SKIPPED | SKIPPED | SKIPPED | +------------------------------+----------------+--------------+---------------------------+------------------------------+ | Red Hat Enterprise Linux 9.5 | PASS | SKIPPED | SKIPPED | SKIPPED | +------------------------------+----------------+--------------+---------------------------+------------------------------+ | Ubuntu 22.04 | PASS | SKIPPED | SKIPPED | SKIPPED | +------------------------------+----------------+--------------+---------------------------+------------------------------+ | Ubuntu 20.04 | PASS | PASS | SKIPPED | SKIPPED | +------------------------------+----------------+--------------+---------------------------+------------------------------+ | Debian 12 (arm) | SKIPPED | SKIPPED | PASS | PASS | +------------------------------+----------------+--------------+---------------------------+------------------------------+ Debian GNU/Linux 12 Kernel: 5.4 Compiler: gcc gcc (Debian 12.2.0-14+deb12u1) 12.2.0 CentOS Stream 9 Kernel: 5.4 Compiler: gcc gcc (GCC) 11.5.0 20240719 (Red Hat 11.5.0-11) CentOS Stream 10 Kernel: 5.4 Compiler: gcc gcc (GCC) 14.2.1 20250110 (Red Hat 14.2.1-8) Fedora Linux 41 Kernel: 5.4 Compiler: clang gcc (GCC) 14.3.1 20250523 (Red Hat 14.3.1-1) Fedora Linux 40 Kernel: 5.4 Compiler: gcc gcc (GCC) 14.2.1 20240912 (Red Hat 14.2.1-3) Fedora Linux 42 Kernel: 5.4 Compiler: clang gcc (GCC) 15.2.1 20250808 (Red Hat 15.2.1-1) Ubuntu 24.04 Kernel: 5.4 Compiler: gcc gcc (Ubuntu 13.3.0-6ubuntu2~24.04) 13.3.0 Red Hat Enterprise Linux 9.5 Kernel: 5.4 Compiler: gcc gcc (GCC) 11.5.0 20240719 (Red Hat 11.5.0-2) Ubuntu 22.04 Kernel: 5.4 Compiler: gcc gcc (Ubuntu 11.4.0-1ubuntu1~22.04) 11.4.0 Ubuntu 20.04 Kernel: 5.4 Compiler: gcc gcc (Ubuntu 9.4.0-1ubuntu1~20.04.2) 9.4.0 Debian 12 (arm) Kernel: Depends on container host Compiler: gcc (Debian 12.2.0-14) 12.2.0 To view detailed results, visit: https://lab.dpdk.org/results/dashboard/patchsets/34251/ UNH-IOL DPDK Community Lab To manage your email subscriptions, visit: https://lab.dpdk.org/results/dashboard/preferences/subscriptions/