From mboxrd@z Thu Jan 1 00:00:00 1970 Return-Path: Received: from mails.dpdk.org (mails.dpdk.org [217.70.189.124]) by inbox.dpdk.org (Postfix) with ESMTP id 0A53348905 for ; Sat, 11 Oct 2025 05:10:16 +0200 (CEST) Received: from mails.dpdk.org (localhost [127.0.0.1]) by mails.dpdk.org (Postfix) with ESMTP id CE4D54003C; Sat, 11 Oct 2025 05:10:15 +0200 (CEST) Received: from mail-io1-f97.google.com (mail-io1-f97.google.com [209.85.166.97]) by mails.dpdk.org (Postfix) with ESMTP id 56C0D4003C for ; Sat, 11 Oct 2025 05:10:14 +0200 (CEST) Received: by mail-io1-f97.google.com with SMTP id ca18e2360f4ac-917be46c59bso278456939f.1 for ; Fri, 10 Oct 2025 20:10:14 -0700 (PDT) DKIM-Signature: v=1; a=rsa-sha256; c=relaxed/relaxed; d=iol.unh.edu; s=unh-iol; t=1760152213; x=1760757013; darn=dpdk.org; h=references:in-reply-to:cc:to:from:subject:message-id:date:from:to :cc:subject:date:message-id:reply-to; bh=qYypoK7hEGCj010JvNV/RfW3MAWzIzDezisS5HaB+yc=; b=AXkD68qDYO+tvLcVBeABzVFn2iouZQOTIGzspiPAO5bxfaH/2NHWqi3XCTUjJoFiK6 PLqlSJ+cmDXBx2ZSvYRsWJXQUPjL8NN8NvgzbcNcpTINBeXPYuQc3v+nLFFQCxgp563z 6SryS7GD7RCnOOx1AOdcXwVibxL2xt9YnwDd4= X-Google-DKIM-Signature: v=1; a=rsa-sha256; c=relaxed/relaxed; d=1e100.net; s=20230601; t=1760152213; x=1760757013; h=references:in-reply-to:cc:to:from:subject:message-id:date :x-gm-message-state:from:to:cc:subject:date:message-id:reply-to; bh=qYypoK7hEGCj010JvNV/RfW3MAWzIzDezisS5HaB+yc=; b=GZbM5HpA9Ad3YLJRp6dCgofZX8UkWmRxcLXYz+ypTjaw9SBPuWyGUAa5z7GlhIFNpu pVprtUDbvMDN3xGbN+PBTIdqdTZTVTB5tIwLjy3rlc46ucX4jp36CSNf5fCi7JFjzdT8 6aF78EAUtYzlIqwUwH9py4uA3E+xWO9hX9hoBWKk4CcePtW1bVYT4cLch+yLPMkh4cvn +PoiL7rqCLsNBgurSUPuKWYaGD3Gnzlqcyu34Eu3a9Q/F4u6I7ckqrrUbmn5nBu9726W veeX9MIShMnGMprVyreGkavz9lou8M+nsbN+qD163vImvql52sf29+zYULw7a1QDGlBU FfPA== X-Gm-Message-State: AOJu0YyFRcS0lIcLCkZh3df5QZxozGxLsN0oymwFSOV5y6X5NZhOlt6H mRnyta1AyGVqCm8Xk9rUCW0DpM/e8P9nOLwbO6MUo0ARjJ3cYWO+3GrFy35SOAYbD/evKaO5ftc 7iJZLy8WoQAyPJTEJrdNjt3xEJS9WV98MsC34k3/kLcoNc7Tz1tNlLCnCYyt2 X-Gm-Gg: ASbGncuvO2ms/cJqHa29+uLV5t6NYBzMyT+t5V6AHaK95CfQMY6sBsM3U4+gsMb7pv0 o/sau9qGZrFvDVIcfOCrkmeJaKe2+WcAo4SeE/T9yhoW+Yh0/v75lDqtzO03I2+W27pHOzwciej 66ZldHAH5mCdblVRRL0umDHgxA2YJQwEpYNfXUYe6ppwqVgIYdoAi59/psQgD1Y9IEwCIoNnI6y oUCehVcEqmteDtHI7IVC8iaWzH7o8TaVzKkKtAunrAwZm7SCg7/ZP3yg6oMLSoPQTYNcylxsHye fgNC9umfTZfo+u9cl+xjBeMhVL/20tNWD6sXHlauwjPgZpABQg== X-Google-Smtp-Source: AGHT+IEfuNJH4E+xajhUf8EtFizYE+OHejY8sCDeaG0mzt67ptxwSOB2oTB8bYKk2WawHheBwPVkk22pj2Uf X-Received: by 2002:a05:6e02:12ee:b0:42f:9dd5:3ebb with SMTP id e9e14a558f8ab-42f9dd540c5mr61931445ab.24.1760152213281; Fri, 10 Oct 2025 20:10:13 -0700 (PDT) Received: from postal.iol.unh.edu (postal.iol.unh.edu. [2606:4100:3880:1234::84]) by smtp-relay.gmail.com with ESMTPS id 8926c6da1cb9f-58f6daf4393sm316708173.17.2025.10.10.20.10.13 (version=TLS1_2 cipher=ECDHE-ECDSA-AES128-GCM-SHA256 bits=128/128); Fri, 10 Oct 2025 20:10:13 -0700 (PDT) X-Relaying-Domain: iol.unh.edu Date: Fri, 10 Oct 2025 20:10:13 -0700 (PDT) Message-ID: <68e9ca95.050a0220.1eb144.0a18SMTPIN_ADDED_MISSING@mx.google.com> Received: from [172.21.0.2] (unknown [172.18.0.240]) by postal.iol.unh.edu (Postfix) with ESMTP id C73C260003F7; Fri, 10 Oct 2025 23:10:12 -0400 (EDT) Subject: |SUCCESS| pw157452-157453 [PATCH] [v3,2/2] net/ice: fix memory leak From: dpdklab@iol.unh.edu To: Test Report Cc: dpdk-test-reports@iol.unh.edu, Bruce Richardson In-Reply-To: <90b43cc3ea3d614c7a8812e1a5ecb0d5fff3615e.1760101992.git.anatoly.burakov@intel.com> References: <90b43cc3ea3d614c7a8812e1a5ecb0d5fff3615e.1760101992.git.anatoly.burakov@intel.com> Content-Type: text/plain X-BeenThere: test-report@dpdk.org X-Mailman-Version: 2.1.29 Precedence: list List-Id: automatic DPDK test reports List-Unsubscribe: , List-Archive: List-Post: List-Help: List-Subscribe: , Errors-To: test-report-bounces@dpdk.org Test-Label: iol-unit-arm64-testing Test-Status: SUCCESS http://dpdk.org/patch/157453 _Testing PASS_ Submitter: Anatoly Burakov Date: Friday, October 10 2025 13:13:20 DPDK git baseline: Repo:dpdk-next-net-intel Branch: master CommitID:d0eb31b594b42fb1dd4e8f2afad3e2a5f1846c1a 157452-157453 --> testing pass Upstream job id: Generic-Unit-Test-DPDK#380300 Test environment and result as below: +------------------------------+--------------+---------------------------+----------------+------------------------------+ | Environment | lpm_autotest | cryptodev_sw_zuc_autotest | dpdk_unit_test | cryptodev_sw_snow3g_autotest | +==============================+==============+===========================+================+==============================+ | Ubuntu 20.04 | PASS | SKIPPED | PASS | SKIPPED | +------------------------------+--------------+---------------------------+----------------+------------------------------+ | Debian 12 (arm) | SKIPPED | PASS | SKIPPED | PASS | +------------------------------+--------------+---------------------------+----------------+------------------------------+ | CentOS Stream 9 | SKIPPED | SKIPPED | PASS | SKIPPED | +------------------------------+--------------+---------------------------+----------------+------------------------------+ | Debian GNU/Linux 12 | SKIPPED | SKIPPED | PASS | SKIPPED | +------------------------------+--------------+---------------------------+----------------+------------------------------+ | CentOS Stream 10 | SKIPPED | SKIPPED | PASS | SKIPPED | +------------------------------+--------------+---------------------------+----------------+------------------------------+ | Fedora Linux 40 | SKIPPED | SKIPPED | PASS | SKIPPED | +------------------------------+--------------+---------------------------+----------------+------------------------------+ | Fedora Linux 41 | SKIPPED | SKIPPED | PASS | SKIPPED | +------------------------------+--------------+---------------------------+----------------+------------------------------+ | Fedora Linux 42 | SKIPPED | SKIPPED | PASS | SKIPPED | +------------------------------+--------------+---------------------------+----------------+------------------------------+ | Red Hat Enterprise Linux 9.5 | SKIPPED | SKIPPED | PASS | SKIPPED | +------------------------------+--------------+---------------------------+----------------+------------------------------+ | Ubuntu 24.04 | SKIPPED | SKIPPED | PASS | SKIPPED | +------------------------------+--------------+---------------------------+----------------+------------------------------+ | Ubuntu 22.04 | SKIPPED | SKIPPED | PASS | SKIPPED | +------------------------------+--------------+---------------------------+----------------+------------------------------+ Ubuntu 20.04 Kernel: 5.4 Compiler: gcc gcc (Ubuntu 9.4.0-1ubuntu1~20.04.2) 9.4.0 Debian 12 (arm) Kernel: Depends on container host Compiler: gcc (Debian 12.2.0-14) 12.2.0 CentOS Stream 9 Kernel: 5.4 Compiler: gcc gcc (GCC) 11.5.0 20240719 (Red Hat 11.5.0-11) Debian GNU/Linux 12 Kernel: 5.4 Compiler: gcc gcc (Debian 12.2.0-14+deb12u1) 12.2.0 CentOS Stream 10 Kernel: 5.4 Compiler: gcc gcc (GCC) 14.2.1 20250110 (Red Hat 14.2.1-8) Fedora Linux 40 Kernel: 5.4 Compiler: gcc gcc (GCC) 14.2.1 20240912 (Red Hat 14.2.1-3) Fedora Linux 41 Kernel: 5.4 Compiler: gcc gcc (GCC) 14.3.1 20250523 (Red Hat 14.3.1-1) Fedora Linux 42 Kernel: 5.4 Compiler: gcc gcc (GCC) 15.2.1 20250808 (Red Hat 15.2.1-1) Red Hat Enterprise Linux 9.5 Kernel: 5.4 Compiler: gcc gcc (GCC) 11.5.0 20240719 (Red Hat 11.5.0-2) Ubuntu 24.04 Kernel: 5.4 Compiler: gcc gcc (Ubuntu 13.3.0-6ubuntu2~24.04) 13.3.0 Ubuntu 22.04 Kernel: 5.4 Compiler: gcc gcc (Ubuntu 11.4.0-1ubuntu1~22.04) 11.4.0 To view detailed results, visit: https://lab.dpdk.org/results/dashboard/patchsets/34252/ UNH-IOL DPDK Community Lab To manage your email subscriptions, visit: https://lab.dpdk.org/results/dashboard/preferences/subscriptions/