From mboxrd@z Thu Jan 1 00:00:00 1970 Return-Path: Received: from mails.dpdk.org (mails.dpdk.org [217.70.189.124]) by inbox.dpdk.org (Postfix) with ESMTP id 574C348906 for ; Sat, 11 Oct 2025 06:16:37 +0200 (CEST) Received: from mails.dpdk.org (localhost [127.0.0.1]) by mails.dpdk.org (Postfix) with ESMTP id 4E4D74003C; Sat, 11 Oct 2025 06:16:37 +0200 (CEST) Received: from mail-il1-f228.google.com (mail-il1-f228.google.com [209.85.166.228]) by mails.dpdk.org (Postfix) with ESMTP id BF0724003C for ; Sat, 11 Oct 2025 06:16:35 +0200 (CEST) Received: by mail-il1-f228.google.com with SMTP id e9e14a558f8ab-42f9ba7e70aso6342345ab.2 for ; Fri, 10 Oct 2025 21:16:35 -0700 (PDT) DKIM-Signature: v=1; a=rsa-sha256; c=relaxed/relaxed; d=iol.unh.edu; s=unh-iol; t=1760156195; x=1760760995; darn=dpdk.org; h=references:in-reply-to:cc:to:from:subject:message-id:date:from:to :cc:subject:date:message-id:reply-to; bh=/rfkRinrzC6l3dWlCo6TenNyYGcde+Tzb8VXf+w4kPY=; b=DvIej0O1KdJxurIrtkPqDKWv0kEhn3zCm1HiCajEAl0yWzxGcHUhyvOdRvJf2i2klE pN1rbMp5PgFr1CkdvWwz4CY8FtTvLISYzFVE9BYx5JZNC4JgHgJYXPkFyqK4IVBpA+s6 0clZUC6xRcT8AhVr1nQUYhC3GhPNQkTxTeNEA= X-Google-DKIM-Signature: v=1; a=rsa-sha256; c=relaxed/relaxed; d=1e100.net; s=20230601; t=1760156195; x=1760760995; h=references:in-reply-to:cc:to:from:subject:message-id:date :x-gm-message-state:from:to:cc:subject:date:message-id:reply-to; bh=/rfkRinrzC6l3dWlCo6TenNyYGcde+Tzb8VXf+w4kPY=; b=o86nCEVT9DQBm6YKPud/JyRsnJ18G/0N3SwVIJPjZeLU2OChTTY43uYyq4eGOBqooq C1jBgpiL9P44O1PNO737VuqJMxez/iQh28DhpCquG/7ehzgrMS6o7wTphV4F1gLUx50Y xP8/Ttor/M7sdhx+/V+uF05KY2xNf4PwfuyYFyH40khmJgR1y6Bi7DRTiGfDKl/vhoWY 0Ae5P+pb3t8lYhQu/UpgEM3GyW+NuBZ/LWLEY2zwzVeU+NzwSroXO+FLVv66jGSXevBm 75TjCD7iAhNJGIg/EuXh6lsVpBjQ1hjhJcJT4n9GlPQ7FM6S2yxAZIUWBTZIfCcDZIYq dHWQ== X-Gm-Message-State: AOJu0YwACtfRcBlxY5odaZh6GKOGx9MQ31vQfnFyGfCbf7L/DMEu3OAZ iGRPcQfVX0wnykg1oTcGnC0xWMPqa2Bjj9uD/lLhdMi6bKLCwURW5ykbHW9pYktJJ2UVx0Rtp38 XdSILozZ7lHVClM0Gna0sRJ8g+TudDjOmyA+Gmuhwpz9H X-Gm-Gg: ASbGncv++ytW0STN2SrHydpgu8vVhxkViFZyJGQM+wJSDD0j6usEbpwpCAl9t1l5bBo ookhVERsgRVQFWiFwxJ9oILfb/rTkJX7zYFBo/OwFO7J5ZbiHb81Z+UCnB0W8Eus0fb3nK6ziy4 dAa4DqnGoekgRh8TuEzvcPpVKVH/BHxvgUEickes8zfQcpJUFo6Ub4c4jEOjgickHnRZGmgfGG0 NcgHeYN6lHpCAto+cuoqgFoxc6aGl6BhTFSLLgUsraS6asWWnnNd7w0ZIK2pVgzvbgPS5qeMeoi nNIUiV0OUNDGdqKpZD6x30ugYeXvRy6Fq+zUQBGooRMsEFBMZZzUhkC4/aWfClglriFSqfh0 X-Google-Smtp-Source: AGHT+IEsOHJOUzeaDBm7QBXDpXAneT7/BzhBKwu7ZpYP6iyetMbe18OjDBIP+HNLBwQ03EY+NsumIgYQwh5x X-Received: by 2002:a05:6e02:144d:b0:42f:a535:4107 with SMTP id e9e14a558f8ab-42fa53543a3mr53963635ab.20.1760156195027; Fri, 10 Oct 2025 21:16:35 -0700 (PDT) Received: from postal.iol.unh.edu (postal.iol.unh.edu. [132.177.123.84]) by smtp-relay.gmail.com with ESMTPS id e9e14a558f8ab-42f9025f1afsm4287905ab.10.2025.10.10.21.16.34 (version=TLS1_2 cipher=ECDHE-ECDSA-AES128-GCM-SHA256 bits=128/128); Fri, 10 Oct 2025 21:16:35 -0700 (PDT) X-Relaying-Domain: iol.unh.edu Date: Fri, 10 Oct 2025 21:16:35 -0700 (PDT) Message-ID: <68e9da23.050a0220.3d1223.6472SMTPIN_ADDED_MISSING@mx.google.com> Received: from [172.21.0.2] (unknown [172.18.0.240]) by postal.iol.unh.edu (Postfix) with ESMTP id 966FE6051830; Sat, 11 Oct 2025 00:16:34 -0400 (EDT) Subject: |SUCCESS| pw157454 [PATCH] [v2,1/1] lib/dma: introduce inter-process From: dpdklab@iol.unh.edu To: Test Report Cc: dpdk-test-reports@iol.unh.edu In-Reply-To: <20251010144631.713063-1-vattunuru@marvell.com> References: <20251010144631.713063-1-vattunuru@marvell.com> Content-Type: text/plain X-BeenThere: test-report@dpdk.org X-Mailman-Version: 2.1.29 Precedence: list List-Id: automatic DPDK test reports List-Unsubscribe: , List-Archive: List-Post: List-Help: List-Subscribe: , Errors-To: test-report-bounces@dpdk.org Test-Label: iol-unit-arm64-testing Test-Status: SUCCESS http://dpdk.org/patch/157454 _Testing PASS_ Submitter: Vamsi Krishna Date: Friday, October 10 2025 14:46:31 DPDK git baseline: Repo:dpdk Branch: master CommitID:2b403dd8fb37d0ba13723e44ffc7ee2c2795f838 157454 --> testing pass Upstream job id: Generic-Unit-Test-DPDK#380333 Test environment and result as below: +------------------------------+----------------+------------------------------+---------------------------+--------------+ | Environment | dpdk_unit_test | cryptodev_sw_snow3g_autotest | cryptodev_sw_zuc_autotest | lpm_autotest | +==============================+================+==============================+===========================+==============+ | CentOS Stream 10 | PASS | SKIPPED | SKIPPED | SKIPPED | +------------------------------+----------------+------------------------------+---------------------------+--------------+ | CentOS Stream 9 | PASS | SKIPPED | SKIPPED | SKIPPED | +------------------------------+----------------+------------------------------+---------------------------+--------------+ | Debian GNU/Linux 12 | PASS | SKIPPED | SKIPPED | SKIPPED | +------------------------------+----------------+------------------------------+---------------------------+--------------+ | Ubuntu 22.04 | PASS | SKIPPED | SKIPPED | SKIPPED | +------------------------------+----------------+------------------------------+---------------------------+--------------+ | Fedora Linux 40 | PASS | SKIPPED | SKIPPED | SKIPPED | +------------------------------+----------------+------------------------------+---------------------------+--------------+ | Fedora Linux 41 | PASS | SKIPPED | SKIPPED | SKIPPED | +------------------------------+----------------+------------------------------+---------------------------+--------------+ | Fedora Linux 42 | PASS | SKIPPED | SKIPPED | SKIPPED | +------------------------------+----------------+------------------------------+---------------------------+--------------+ | Ubuntu 20.04 | PASS | SKIPPED | SKIPPED | PASS | +------------------------------+----------------+------------------------------+---------------------------+--------------+ | Ubuntu 24.04 | PASS | SKIPPED | SKIPPED | SKIPPED | +------------------------------+----------------+------------------------------+---------------------------+--------------+ | Red Hat Enterprise Linux 9.5 | PASS | SKIPPED | SKIPPED | SKIPPED | +------------------------------+----------------+------------------------------+---------------------------+--------------+ | Debian 12 (arm) | SKIPPED | PASS | PASS | SKIPPED | +------------------------------+----------------+------------------------------+---------------------------+--------------+ CentOS Stream 10 Kernel: 5.4 Compiler: gcc gcc (GCC) 14.2.1 20250110 (Red Hat 14.2.1-8) CentOS Stream 9 Kernel: 5.4 Compiler: gcc gcc (GCC) 11.5.0 20240719 (Red Hat 11.5.0-11) Debian GNU/Linux 12 Kernel: 5.4 Compiler: gcc gcc (Debian 12.2.0-14+deb12u1) 12.2.0 Ubuntu 22.04 Kernel: 5.15 Compiler: gcc gcc (Ubuntu 11.4.0-1ubuntu1~22.04.2) 11.4.0 Fedora Linux 40 Kernel: 5.4 Compiler: gcc gcc (GCC) 14.2.1 20240912 (Red Hat 14.2.1-3) Fedora Linux 41 Kernel: 5.4 Compiler: gcc gcc (GCC) 14.3.1 20250523 (Red Hat 14.3.1-1) Fedora Linux 42 Kernel: 5.4 Compiler: gcc gcc (GCC) 15.2.1 20250808 (Red Hat 15.2.1-1) Ubuntu 20.04 Kernel: 5.4 Compiler: gcc gcc (Ubuntu 9.4.0-1ubuntu1~20.04.2) 9.4.0 Ubuntu 24.04 Kernel: 5.4 Compiler: gcc gcc (Ubuntu 13.3.0-6ubuntu2~24.04) 13.3.0 Red Hat Enterprise Linux 9.5 Kernel: 5.4 Compiler: gcc gcc (GCC) 11.5.0 20240719 (Red Hat 11.5.0-2) Debian 12 (arm) Kernel: Depends on container host Compiler: gcc (Debian 12.2.0-14) 12.2.0 To view detailed results, visit: https://lab.dpdk.org/results/dashboard/patchsets/34253/ UNH-IOL DPDK Community Lab To manage your email subscriptions, visit: https://lab.dpdk.org/results/dashboard/preferences/subscriptions/