From mboxrd@z Thu Jan 1 00:00:00 1970 Return-Path: Received: from mails.dpdk.org (mails.dpdk.org [217.70.189.124]) by inbox.dpdk.org (Postfix) with ESMTP id 9C49E48909 for ; Sat, 11 Oct 2025 08:18:33 +0200 (CEST) Received: from mails.dpdk.org (localhost [127.0.0.1]) by mails.dpdk.org (Postfix) with ESMTP id 7203D402D4; Sat, 11 Oct 2025 08:18:33 +0200 (CEST) Received: from mail-pf1-f226.google.com (mail-pf1-f226.google.com [209.85.210.226]) by mails.dpdk.org (Postfix) with ESMTP id 83746402D4 for ; Sat, 11 Oct 2025 08:18:32 +0200 (CEST) Received: by mail-pf1-f226.google.com with SMTP id d2e1a72fcca58-76e2ea933b7so2652418b3a.1 for ; Fri, 10 Oct 2025 23:18:32 -0700 (PDT) DKIM-Signature: v=1; a=rsa-sha256; c=relaxed/relaxed; d=iol.unh.edu; s=unh-iol; t=1760163511; x=1760768311; darn=dpdk.org; h=cc:to:from:subject:message-id:date:from:to:cc:subject:date :message-id:reply-to; bh=KcguxrtYGC3sNsb+da6iFXFCwpUy7ixqT/WKkpH+rjI=; b=aKfJQP7xpXri5z/DVVKwnRG3sKMH1WabsDXT1NPL0VLMzqSrHUzluk3lLbsnlCz6BM 9iiPNhtnJS9acsCASwmFIg1JRGYu5qMjJGKqVG2uDHLQjTSjVp7LHHlJq+xm93HSbQ4R 0qooB8SFoPLbCHFG4TOM1IrArntkT7S9HzF/k= X-Google-DKIM-Signature: v=1; a=rsa-sha256; c=relaxed/relaxed; d=1e100.net; s=20230601; t=1760163511; x=1760768311; h=cc:to:from:subject:message-id:date:x-gm-message-state:from:to:cc :subject:date:message-id:reply-to; bh=KcguxrtYGC3sNsb+da6iFXFCwpUy7ixqT/WKkpH+rjI=; b=Lv1gIwykUhdEUZfjHTyiKl4LbjYjBsC+JQHHCO5n8zDmp5gKLNtxs2mMwL8uM44aiq RdZoW0Ykw9cm3pHJ6m5ilvvK16AQDQN8TH5bmyWKQJlz+wPXXZJ+Q7xFamCZqUTArctX OG2d0SUr91fJDb0wvtml4r5sC1MPtpSSJhj0o1/3W7Yf+s552gqaxzcU0wilpVKmxlEv zzWr/zqXbB76vmmby+PazOJPWkLbTXBO5iDxceBRJdb4g6mI7eFzLSMgReBwuBmpnFtE TmM3OHtfiw3ocIh1/W2JAq18iohGUw2ESgup09zhSgkB5a9o3wrMs0FFAOn6lnKQnGqe mQRg== X-Gm-Message-State: AOJu0Yzue3lSf7NBUqVvcXT5xOBf6CAMtMSAud8CoNbhnbfb83Gho8pq AJeYDy6p2co4IBUtpkDCs3D/wLGm4H1cPZAbIZNTAAMyXeRDO7LhmLBFluWrHvQvTpaSm4c33nk OYjCRrIQAy3H2vm8ej076xlaw9+TjNItmJypBO/RT4blKO1S7oSMZ X-Gm-Gg: ASbGncucBhfDmltDPTlVHyRQ/4z+KnA3JOQS4oHxR86z9zWLAMRHgfTiLVxU26Qw1iW 2l63Pa02FahIgREW6WjQ6ht0pBmlKto1D1Phd+QIziK/JZddIx1Crbj3PLLu2zSb2ejlUwFcIwR ZMtB0u6KxBCVVgGx/7AxZqvDCjSC+RsxogsPB8eC5B/RJ7qOEjGxX9ppVf3sAseAWfqgIWvIHM2 Et7ktPifoAfKqpp9UhwCUGqeWZwnOh9iyx1PicyE65eEEIOGU+tanp/9AFuTzgKdIP7rHvgsIYH BZdhSVw4S+gKX8h63aEthSsPkI3+KPKEBsXTGtm2Z5UJo63aZg== X-Google-Smtp-Source: AGHT+IGyHQdTzbcaVuX5+bD6jfeZro4SI4lvyaO8wYGcPlYFVQLPQVmXrrtEMVZ3y6pfe9lPgi0z9GExXbgd X-Received: by 2002:a05:6a00:1d08:b0:783:44b9:cbc9 with SMTP id d2e1a72fcca58-79231afd0fdmr22393976b3a.9.1760163511358; Fri, 10 Oct 2025 23:18:31 -0700 (PDT) Received: from postal.iol.unh.edu (postal.iol.unh.edu. [2606:4100:3880:1234::84]) by smtp-relay.gmail.com with ESMTPS id d2e1a72fcca58-79930567c37sm422118b3a.6.2025.10.10.23.18.31 (version=TLS1_2 cipher=ECDHE-ECDSA-AES128-GCM-SHA256 bits=128/128); Fri, 10 Oct 2025 23:18:31 -0700 (PDT) X-Relaying-Domain: iol.unh.edu Date: Fri, 10 Oct 2025 23:18:31 -0700 (PDT) Message-ID: <68e9f6b7.050a0220.1a8e80.58a5SMTPIN_ADDED_MISSING@mx.google.com> Received: from [172.21.0.6] (unknown [172.18.0.240]) by postal.iol.unh.edu (Postfix) with ESMTP id 4C10F6051830; Sat, 11 Oct 2025 02:18:30 -0400 (EDT) Subject: |SUCCESS| [GIT MASTER] 3b43ce3f4a54468e7ef65760c2fd7b4d6ee6d9fc From: dpdklab@iol.unh.edu To: Test Report Cc: dpdk-test-reports@iol.unh.edu, Xueming Li , Christian Ehrhardt , Kevin Traynor , Luca Boccassi Content-Type: text/plain X-BeenThere: test-report@dpdk.org X-Mailman-Version: 2.1.29 Precedence: list List-Id: automatic DPDK test reports List-Unsubscribe: , List-Archive: List-Post: List-Help: List-Subscribe: , Errors-To: test-report-bounces@dpdk.org _Testing PASS_ Branch: tags/v22.11 3b43ce3f4a54468e7ef65760c2fd7b4d6ee6d9fc --> testing pass Upstream job id: Generic-DPDK-Compile-Meson#433289 Test environment and result as below: +-------------------------------+--------------------+-------------------------+----------------------+ | Environment | dpdk_meson_compile | dpdk_llvm_clang_compile | dpdk_mingw64_compile | +===============================+====================+=========================+======================+ | FreeBSD 14.2 | PASS | SKIPPED | SKIPPED | +-------------------------------+--------------------+-------------------------+----------------------+ | Ubuntu 20.04 | PASS | SKIPPED | SKIPPED | +-------------------------------+--------------------+-------------------------+----------------------+ | Fedora Linux 42 | PASS | SKIPPED | SKIPPED | +-------------------------------+--------------------+-------------------------+----------------------+ | Red Hat Enterprise Linux 9.5 | PASS | SKIPPED | SKIPPED | +-------------------------------+--------------------+-------------------------+----------------------+ | CentOS Stream 9 | PASS | SKIPPED | SKIPPED | +-------------------------------+--------------------+-------------------------+----------------------+ | Debian GNU/Linux 12 | PASS | SKIPPED | SKIPPED | +-------------------------------+--------------------+-------------------------+----------------------+ | Ubuntu 24.04 | PASS | SKIPPED | SKIPPED | +-------------------------------+--------------------+-------------------------+----------------------+ | Ubuntu 22.04 | PASS | SKIPPED | SKIPPED | +-------------------------------+--------------------+-------------------------+----------------------+ | CentOS Stream 10 | PASS | SKIPPED | SKIPPED | +-------------------------------+--------------------+-------------------------+----------------------+ | Red Hat Enterprise Linux 8.10 | PASS | SKIPPED | SKIPPED | +-------------------------------+--------------------+-------------------------+----------------------+ | openSUSE Leap 15.6 | PASS | SKIPPED | SKIPPED | +-------------------------------+--------------------+-------------------------+----------------------+ | Windows Server 2022 | SKIPPED | PASS | PASS | +-------------------------------+--------------------+-------------------------+----------------------+ FreeBSD 14.2 Kernel: 14.2-RELEASE Compiler: clang 18.1.6 Ubuntu 20.04 Kernel: 4.19 Compiler: gcc gcc (Ubuntu 9.4.0-1ubuntu1~20.04.2) 9.4.0 Fedora Linux 42 Kernel: 5.15 Compiler: clang gcc (GCC) 15.2.1 20250808 (Red Hat 15.2.1-1) Red Hat Enterprise Linux 9.5 Kernel: 5.15 Compiler: gcc gcc (GCC) 11.5.0 20240719 (Red Hat 11.5.0-2) CentOS Stream 9 Kernel: 5.15 Compiler: gcc gcc (GCC) 11.5.0 20240719 (Red Hat 11.5.0-11) Debian GNU/Linux 12 Kernel: 5.15 Compiler: gcc gcc (Debian 12.2.0-14+deb12u1) 12.2.0 Ubuntu 24.04 Kernel: 5.15 Compiler: gcc gcc (Ubuntu 13.3.0-6ubuntu2~24.04) 13.3.0 Ubuntu 22.04 Kernel: 5.15 Compiler: gcc gcc (Ubuntu 11.4.0-1ubuntu1~22.04) 11.4.0 CentOS Stream 10 Kernel: 5.15 Compiler: gcc gcc (GCC) 14.2.1 20250110 (Red Hat 14.2.1-8) Red Hat Enterprise Linux 8.10 Kernel: 5.15 Compiler: gcc gcc (GCC) 8.5.0 20210514 (Red Hat 8.5.0-22) openSUSE Leap 15.6 Kernel: 5.15 Compiler: gcc gcc (SUSE Linux) 7.5.0 Windows Server 2022 Kernel: 10.0.20348.2031 Compiler: clang 15.0.7, gcc 14.1.0 (MinGW), and MSVC VS 19.39.33521 To view detailed results, visit: https://lab.dpdk.org/results/dashboard/tarballs/35171/ UNH-IOL DPDK Community Lab To manage your email subscriptions, visit: https://lab.dpdk.org/results/dashboard/preferences/subscriptions/