From mboxrd@z Thu Jan 1 00:00:00 1970 Return-Path: Received: from mails.dpdk.org (mails.dpdk.org [217.70.189.124]) by inbox.dpdk.org (Postfix) with ESMTP id 3C48A48909 for ; Sat, 11 Oct 2025 08:21:57 +0200 (CEST) Received: from mails.dpdk.org (localhost [127.0.0.1]) by mails.dpdk.org (Postfix) with ESMTP id 3696E402D4; Sat, 11 Oct 2025 08:21:57 +0200 (CEST) Received: from mail-pj1-f97.google.com (mail-pj1-f97.google.com [209.85.216.97]) by mails.dpdk.org (Postfix) with ESMTP id 22D48402D4 for ; Sat, 11 Oct 2025 08:21:56 +0200 (CEST) Received: by mail-pj1-f97.google.com with SMTP id 98e67ed59e1d1-32ee4817c43so2305195a91.0 for ; Fri, 10 Oct 2025 23:21:56 -0700 (PDT) DKIM-Signature: v=1; a=rsa-sha256; c=relaxed/relaxed; d=iol.unh.edu; s=unh-iol; t=1760163715; x=1760768515; darn=dpdk.org; h=cc:to:from:subject:message-id:date:from:to:cc:subject:date :message-id:reply-to; bh=BQ9KPJZ/WCT+CAwOQEpDqmNdYkN4MMQ9hSWXm+uq/Wg=; b=MOyMliHSQE0XPgTVKjU86Im/usw1yrBsCRH5yWY2Cny92UxWjU4mMRwjWPw9ZBzDO7 UlJlOEg4k6cWpx2bp113Kb+rZTyM9piLBPpPMOQLg27AOxqZyaHI6xRZ1Zk6HeTtJhVa ZfjXojO50yVivz3c5pinYq33pMf9oSOnjVLSI= X-Google-DKIM-Signature: v=1; a=rsa-sha256; c=relaxed/relaxed; d=1e100.net; s=20230601; t=1760163715; x=1760768515; h=cc:to:from:subject:message-id:date:x-gm-message-state:from:to:cc :subject:date:message-id:reply-to; bh=BQ9KPJZ/WCT+CAwOQEpDqmNdYkN4MMQ9hSWXm+uq/Wg=; b=GZTv2NlaEcmvpWcG6sYwLFuZkzWpctfZLg1lIkrn1VKJ6pR9Y2SVjcXfKh6vgAfZ1Z n6+vIH0uQhHye4+BuMnS8k0zb4XaEUGqCFijU1unl8E/hdoof5QsMOfTzRQ2/NMRiy+w IHS+Vz3Bbdk0Iw9131xhS8xV1+JHEpDgLkzP8MPaAu6248Tj66r1cBP76+Pg78uf7+yE ZcAiW5wj2rnYWaWtW2nEMxcsmq+SNFUmQZkfn0NMTgFYR59kR2JZ/pooFVdNGNAZnJJp 348czgYxCnfgWSpX6pWSAMBbZ7Dh8PlDgBPtci3v5bwRJA8Y34dDrOl6vGePFAcCgBhQ JHOw== X-Gm-Message-State: AOJu0Yzs9QaRBn5bw2XAqifEGP4XUqlWGbcba6gn4lZuXGYnsxjyKoOM uNvHx+zTEiH0cLBNR+ZTw2S8m3zSaK8v+bSGpx9v5J1vdPKmMu2c3zaqCTk/62+OsGNc0+Yhz6+ 3yuru8bQxy53KfrF4t58G5RJgxAL/L/WNIztgjG4AgSeINGtipd+Z X-Gm-Gg: ASbGncs4Vi/hSqJbBF2Pzjs1OJ6Ty9X4JSr/UnYYJn55oOqAXlzf/8wiDOkyCCUJSFm xQYFtb+CluXZ8dWnSzBBIANcWq/OfMcm04OShYtF4gJ/iecJGV9cDsABpUXYBtIibBmF1vmZBON p1PPhML0jmXK0voMvJuI35x80zNejX8/JqNVoZ55izbge7M97BWRfie0gdTArOTeuU+pzVThdsv UWFXAPgyinCsaK9DOKT2nIxElEEmyGtQlZQE0aZw22sRyD3Fvas8e1K5jLhf414VZP888eY1aHO xuxTihlSCqSVJGyUSGDZ2lHK3vNexnU92jfrTO7E8oSUoGPWmw== X-Google-Smtp-Source: AGHT+IE/BEFnBXmTJIFtxBQCh7Cyp8TpgwnGvs4DrkZ9aFY9vLWaHkmli3wPGb/DGlVqmaIedS5CC9oFj66g X-Received: by 2002:a17:90b:3e83:b0:32e:23c9:6f41 with SMTP id 98e67ed59e1d1-33b51676ef2mr19489074a91.5.1760163715143; Fri, 10 Oct 2025 23:21:55 -0700 (PDT) Received: from postal.iol.unh.edu (postal.iol.unh.edu. [2606:4100:3880:1234::84]) by smtp-relay.gmail.com with ESMTPS id 98e67ed59e1d1-33b6264524esm393877a91.2.2025.10.10.23.21.55 (version=TLS1_2 cipher=ECDHE-ECDSA-AES128-GCM-SHA256 bits=128/128); Fri, 10 Oct 2025 23:21:55 -0700 (PDT) X-Relaying-Domain: iol.unh.edu Date: Fri, 10 Oct 2025 23:21:55 -0700 (PDT) Message-ID: <68e9f783.170a0220.128f99.43b1SMTPIN_ADDED_MISSING@mx.google.com> Received: from [172.21.0.2] (unknown [172.18.0.240]) by postal.iol.unh.edu (Postfix) with ESMTP id 226716051830; Sat, 11 Oct 2025 02:21:54 -0400 (EDT) Subject: |SUCCESS| [GIT MASTER] b287e404643aeab5bb5db084c142789df187844e From: dpdklab@iol.unh.edu To: Test Report Cc: dpdk-test-reports@iol.unh.edu, Xueming Li , Christian Ehrhardt , Kevin Traynor , Luca Boccassi Content-Type: text/plain X-BeenThere: test-report@dpdk.org X-Mailman-Version: 2.1.29 Precedence: list List-Id: automatic DPDK test reports List-Unsubscribe: , List-Archive: List-Post: List-Help: List-Subscribe: , Errors-To: test-report-bounces@dpdk.org _Testing PASS_ Branch: tags/v24.11 b287e404643aeab5bb5db084c142789df187844e --> testing pass Upstream job id: Generic-DPDK-Compile-Meson#433336 Test environment and result as below: +-------------------------------+--------------------+-------------------+------------------+-------------------+-------------------------+----------------------+ | Environment | dpdk_meson_compile | dpdk_compile_spdk | dpdk_compile_ovs | dpdk_msvc_compile | dpdk_llvm_clang_compile | dpdk_mingw64_compile | +===============================+====================+===================+==================+===================+=========================+======================+ | CentOS Stream 9 | PASS | PASS | SKIPPED | SKIPPED | SKIPPED | SKIPPED | +-------------------------------+--------------------+-------------------+------------------+-------------------+-------------------------+----------------------+ | CentOS Stream 10 | PASS | SKIPPED | SKIPPED | SKIPPED | SKIPPED | SKIPPED | +-------------------------------+--------------------+-------------------+------------------+-------------------+-------------------------+----------------------+ | Debian GNU/Linux 12 | PASS | PASS | SKIPPED | SKIPPED | SKIPPED | SKIPPED | +-------------------------------+--------------------+-------------------+------------------+-------------------+-------------------------+----------------------+ | Fedora Linux 42 | PASS | PASS | PASS | SKIPPED | SKIPPED | SKIPPED | +-------------------------------+--------------------+-------------------+------------------+-------------------+-------------------------+----------------------+ | Red Hat Enterprise Linux 8.10 | PASS | SKIPPED | SKIPPED | SKIPPED | SKIPPED | SKIPPED | +-------------------------------+--------------------+-------------------+------------------+-------------------+-------------------------+----------------------+ | Red Hat Enterprise Linux 9.5 | PASS | SKIPPED | SKIPPED | SKIPPED | SKIPPED | SKIPPED | +-------------------------------+--------------------+-------------------+------------------+-------------------+-------------------------+----------------------+ | Ubuntu 20.04 | PASS | SKIPPED | SKIPPED | SKIPPED | SKIPPED | SKIPPED | +-------------------------------+--------------------+-------------------+------------------+-------------------+-------------------------+----------------------+ | openSUSE Leap 15.6 | PASS | SKIPPED | SKIPPED | SKIPPED | SKIPPED | SKIPPED | +-------------------------------+--------------------+-------------------+------------------+-------------------+-------------------------+----------------------+ | Ubuntu 22.04 | PASS | PASS | SKIPPED | SKIPPED | SKIPPED | SKIPPED | +-------------------------------+--------------------+-------------------+------------------+-------------------+-------------------------+----------------------+ | Ubuntu 24.04 | PASS | PASS | PASS | SKIPPED | SKIPPED | SKIPPED | +-------------------------------+--------------------+-------------------+------------------+-------------------+-------------------------+----------------------+ | Alpine Linux 3.22.0 | PASS | SKIPPED | SKIPPED | SKIPPED | SKIPPED | SKIPPED | +-------------------------------+--------------------+-------------------+------------------+-------------------+-------------------------+----------------------+ | FreeBSD 14.2 | PASS | SKIPPED | SKIPPED | SKIPPED | SKIPPED | SKIPPED | +-------------------------------+--------------------+-------------------+------------------+-------------------+-------------------------+----------------------+ | Windows Server 2022 | SKIPPED | SKIPPED | SKIPPED | PASS | PASS | PASS | +-------------------------------+--------------------+-------------------+------------------+-------------------+-------------------------+----------------------+ CentOS Stream 9 Kernel: 5.15 Compiler: gcc gcc (GCC) 11.5.0 20240719 (Red Hat 11.5.0-11) CentOS Stream 10 Kernel: 5.15 Compiler: gcc gcc (GCC) 14.2.1 20250110 (Red Hat 14.2.1-8) Debian GNU/Linux 12 Kernel: 5.15 Compiler: gcc gcc (Debian 12.2.0-14+deb12u1) 12.2.0 Fedora Linux 42 Kernel: 5.15 Compiler: clang gcc (GCC) 15.2.1 20250808 (Red Hat 15.2.1-1) Red Hat Enterprise Linux 8.10 Kernel: 5.15 Compiler: gcc gcc (GCC) 8.5.0 20210514 (Red Hat 8.5.0-22) Red Hat Enterprise Linux 9.5 Kernel: 5.15 Compiler: gcc gcc (GCC) 11.5.0 20240719 (Red Hat 11.5.0-2) Ubuntu 20.04 Kernel: 5.15 Compiler: gcc gcc (Ubuntu 9.4.0-1ubuntu1~20.04.2) 9.4.0 openSUSE Leap 15.6 Kernel: 5.15 Compiler: gcc gcc (SUSE Linux) 7.5.0 Ubuntu 22.04 Kernel: 5.15 Compiler: gcc gcc (Ubuntu 11.4.0-1ubuntu1~22.04) 11.4.0 Ubuntu 24.04 Kernel: 5.15 Compiler: gcc gcc (Ubuntu 13.3.0-6ubuntu2~24.04) 13.3.0 Alpine Linux 3.22.0 Kernel: 5.15 Compiler: gcc gcc (Alpine 14.2.0) 14.2.0 FreeBSD 14.2 Kernel: 14.2-RELEASE Compiler: clang 18.1.6 Windows Server 2022 Kernel: 10.0.20348.2031 Compiler: clang 15.0.7, gcc 14.1.0 (MinGW), and MSVC VS 19.39.33521 To view detailed results, visit: https://lab.dpdk.org/results/dashboard/tarballs/35173/ UNH-IOL DPDK Community Lab To manage your email subscriptions, visit: https://lab.dpdk.org/results/dashboard/preferences/subscriptions/