From mboxrd@z Thu Jan 1 00:00:00 1970 Return-Path: Received: from mails.dpdk.org (mails.dpdk.org [217.70.189.124]) by inbox.dpdk.org (Postfix) with ESMTP id E2D4F48909 for ; Sat, 11 Oct 2025 08:39:02 +0200 (CEST) Received: from mails.dpdk.org (localhost [127.0.0.1]) by mails.dpdk.org (Postfix) with ESMTP id BA6DD4021F; Sat, 11 Oct 2025 08:39:02 +0200 (CEST) Received: from mail-ot1-f99.google.com (mail-ot1-f99.google.com [209.85.210.99]) by mails.dpdk.org (Postfix) with ESMTP id 842E04021F for ; Sat, 11 Oct 2025 08:39:01 +0200 (CEST) Received: by mail-ot1-f99.google.com with SMTP id 46e09a7af769-7c0e357ab51so2305682a34.2 for ; Fri, 10 Oct 2025 23:39:01 -0700 (PDT) DKIM-Signature: v=1; a=rsa-sha256; c=relaxed/relaxed; d=iol.unh.edu; s=unh-iol; t=1760164740; x=1760769540; darn=dpdk.org; h=cc:to:from:subject:message-id:date:from:to:cc:subject:date :message-id:reply-to; bh=M4H14FArl3d9/qLDiA7QfuG1EF303LbPXj2VcTUxAXc=; b=ANucIZ3JWyof3Mo65yEcIcxkw6KXnC3F7F8pDbDqoNATO0wy31ieiiS+JMWDhNjxis pvramZIFX/ul0SE3Rzmp3skQmbd57SrV0jOwTl4fHBOuF0U4OX+wUeVqAXvXGcS1ZKUh 3yU+7BkiilmbqRnwMIZXk9cvQeILqNfBCWGl4= X-Google-DKIM-Signature: v=1; a=rsa-sha256; c=relaxed/relaxed; d=1e100.net; s=20230601; t=1760164740; x=1760769540; h=cc:to:from:subject:message-id:date:x-gm-message-state:from:to:cc :subject:date:message-id:reply-to; bh=M4H14FArl3d9/qLDiA7QfuG1EF303LbPXj2VcTUxAXc=; b=d//qxJ9vrpku/0a2Y9W0ENEwWXU90Qbjqlrk3/LOu8gSLVr1q0IAjNRgd/MdBOmUyO CvwBT/wj62t2qZQ7ZOeQSxE5iND3y0UIJWKm+Pfj4qwHvHk0f8SBiTrRPT9QVwoshrWz KnoK4OzqP8FKJwXwtLHDuD6hxfVdrqnaDW+DA7e3MRw4yidgZ/mclsBo2nPOwBxLyJFx JIfc9rAjZUus764Ffe0On1pren6wDVPr8cH4HShmvQo98EzmVRMwiwzEdDnREicUUNyM myjva6IR1ru1XwJTXWKywX96F8LNLS5MchfXYiMJI8Jv4JW0ezGuHaI/nyj+wegnytBZ aRMQ== X-Gm-Message-State: AOJu0Yyz7ids+oXqA6IQwkmExraaZFOp+pVUmOXR0fZTp5ahBcXXKXBo 3+6chiE27KkzXwivyL/6yLpaQwJ3BSzKRFe5/Kc4GtgA1VBGLxEphhJ9ONs6yFe8o6+VmmahNXB 1ajCTqEyuqYr+fEGWi1ylA1kPyIcsTof+sD9d X-Gm-Gg: ASbGnctTtfHS5DdtxqoyF95vomq4j1bmmmiBg5tHtR08/yx8EWxoOAURycxzOdfxuU0 2NwejZi8Pe9GPwiWFrBODUakXGqYC/VdKITzpv02zVS/2d5gsbdueB0LC/gNsbFrx0ylpeZWKPv uqcv9wDzwl9a4B36bABD1X68xGPsbCh8SsHikltezZICaC8yTjLLk7iAYWrn9hAezjGh1GbYLfq 6kkyDE9E9qfQtentN3M10B7sFZaiOQ9x0zVOxhMw2aam42zaJPDRvVR+EvKXF6KJ28IeLyls2Zp TWtsiSzGRbtItJ/Meeym8TOULJeu9MJO+R0xdzvTcqOcBwnYY7XhBFOroE4kPQAO70hYrEy4 X-Google-Smtp-Source: AGHT+IEhIdfxO6idX+8nbKTkm4gs8FXrXYdp+zzYicU51nTQbCs4FESN8akCgSn8Y3iSZNIBWDADwfRgxC71 X-Received: by 2002:a05:6830:b8e:b0:745:2585:9c84 with SMTP id 46e09a7af769-7c0df77f305mr7398503a34.9.1760164740663; Fri, 10 Oct 2025 23:39:00 -0700 (PDT) Received: from postal.iol.unh.edu (postal.iol.unh.edu. [132.177.123.84]) by smtp-relay.gmail.com with ESMTPS id 46e09a7af769-7c0f90fbadbsm414461a34.7.2025.10.10.23.39.00 (version=TLS1_2 cipher=ECDHE-ECDSA-AES128-GCM-SHA256 bits=128/128); Fri, 10 Oct 2025 23:39:00 -0700 (PDT) X-Relaying-Domain: iol.unh.edu Date: Fri, 10 Oct 2025 23:39:00 -0700 (PDT) Message-ID: <68e9fb84.050a0220.65232.5909SMTPIN_ADDED_MISSING@mx.google.com> Received: from [172.21.0.3] (unknown [172.18.0.240]) by postal.iol.unh.edu (Postfix) with ESMTP id 78E5F6051830; Sat, 11 Oct 2025 02:38:59 -0400 (EDT) Subject: |WARNING| [GIT MASTER] 62f583c49bf67dd4d6733ece14e55fe6839e66d1 From: dpdklab@iol.unh.edu To: Test Report Cc: dpdk-test-reports@iol.unh.edu, Xueming Li , Christian Ehrhardt , Kevin Traynor , Luca Boccassi Content-Type: text/plain X-BeenThere: test-report@dpdk.org X-Mailman-Version: 2.1.29 Precedence: list List-Id: automatic DPDK test reports List-Unsubscribe: , List-Archive: List-Post: List-Help: List-Subscribe: , Errors-To: test-report-bounces@dpdk.org _Testing issues_ Branch: tags/v23.11 62f583c49bf67dd4d6733ece14e55fe6839e66d1 --> testing issues Upstream job id: Generic-Unit-Test-DPDK#380379 Test environment and result as below: +------------------------------+----------------+------------------------------+---------------------------+--------------+ | Environment | dpdk_unit_test | cryptodev_sw_snow3g_autotest | cryptodev_sw_zuc_autotest | lpm_autotest | +==============================+================+==============================+===========================+==============+ | CentOS Stream 9 | PASS | SKIPPED | SKIPPED | SKIPPED | +------------------------------+----------------+------------------------------+---------------------------+--------------+ | Fedora Linux 40 | PASS | SKIPPED | SKIPPED | SKIPPED | +------------------------------+----------------+------------------------------+---------------------------+--------------+ | Fedora Linux 41 | PASS | SKIPPED | SKIPPED | SKIPPED | +------------------------------+----------------+------------------------------+---------------------------+--------------+ | Debian GNU/Linux 12 | PASS | SKIPPED | SKIPPED | SKIPPED | +------------------------------+----------------+------------------------------+---------------------------+--------------+ | Fedora Linux 42 | PASS | SKIPPED | SKIPPED | SKIPPED | +------------------------------+----------------+------------------------------+---------------------------+--------------+ | CentOS Stream 10 | PASS | SKIPPED | SKIPPED | SKIPPED | +------------------------------+----------------+------------------------------+---------------------------+--------------+ | Ubuntu 22.04 | PASS | SKIPPED | SKIPPED | SKIPPED | +------------------------------+----------------+------------------------------+---------------------------+--------------+ | Red Hat Enterprise Linux 9.5 | PASS | SKIPPED | SKIPPED | SKIPPED | +------------------------------+----------------+------------------------------+---------------------------+--------------+ | Ubuntu 24.04 | PASS | SKIPPED | SKIPPED | SKIPPED | +------------------------------+----------------+------------------------------+---------------------------+--------------+ | Ubuntu 20.04 | PASS | SKIPPED | SKIPPED | PASS | +------------------------------+----------------+------------------------------+---------------------------+--------------+ | Debian 12 (arm) | SKIPPED | PASS | PASS | SKIPPED | +------------------------------+----------------+------------------------------+---------------------------+--------------+ CentOS Stream 9 Kernel: 5.4 Compiler: gcc gcc (GCC) 11.5.0 20240719 (Red Hat 11.5.0-11) Fedora Linux 40 Kernel: 5.4 Compiler: gcc gcc (GCC) 14.2.1 20240912 (Red Hat 14.2.1-3) Fedora Linux 41 Kernel: 5.4 Compiler: clang gcc (GCC) 14.3.1 20250523 (Red Hat 14.3.1-1) Debian GNU/Linux 12 Kernel: 5.4 Compiler: gcc gcc (Debian 12.2.0-14+deb12u1) 12.2.0 Fedora Linux 42 Kernel: 5.4 Compiler: gcc gcc (GCC) 15.2.1 20250808 (Red Hat 15.2.1-1) CentOS Stream 10 Kernel: 5.4 Compiler: gcc gcc (GCC) 14.2.1 20250110 (Red Hat 14.2.1-8) Ubuntu 22.04 Kernel: 5.4 Compiler: gcc gcc (Ubuntu 11.4.0-1ubuntu1~22.04) 11.4.0 Red Hat Enterprise Linux 9.5 Kernel: 5.4 Compiler: gcc gcc (GCC) 11.5.0 20240719 (Red Hat 11.5.0-2) Ubuntu 24.04 Kernel: 5.4 Compiler: gcc gcc (Ubuntu 13.3.0-6ubuntu2~24.04) 13.3.0 Ubuntu 20.04 Kernel: 5.4 Compiler: gcc gcc (Ubuntu 9.4.0-1ubuntu1~20.04.2) 9.4.0 Debian 12 (arm) Kernel: Depends on container host Compiler: gcc (Debian 12.2.0-14) 12.2.0 To view detailed results, visit: https://lab.dpdk.org/results/dashboard/tarballs/35172/ UNH-IOL DPDK Community Lab To manage your email subscriptions, visit: https://lab.dpdk.org/results/dashboard/preferences/subscriptions/