From mboxrd@z Thu Jan 1 00:00:00 1970 Return-Path: Received: from mails.dpdk.org (mails.dpdk.org [217.70.189.124]) by inbox.dpdk.org (Postfix) with ESMTP id D655B48909 for ; Sat, 11 Oct 2025 08:39:23 +0200 (CEST) Received: from mails.dpdk.org (localhost [127.0.0.1]) by mails.dpdk.org (Postfix) with ESMTP id D185B4021F; Sat, 11 Oct 2025 08:39:23 +0200 (CEST) Received: from mail-il1-f226.google.com (mail-il1-f226.google.com [209.85.166.226]) by mails.dpdk.org (Postfix) with ESMTP id D5B464021F for ; Sat, 11 Oct 2025 08:39:22 +0200 (CEST) Received: by mail-il1-f226.google.com with SMTP id e9e14a558f8ab-42f90b88beaso10491575ab.3 for ; Fri, 10 Oct 2025 23:39:22 -0700 (PDT) DKIM-Signature: v=1; a=rsa-sha256; c=relaxed/relaxed; d=iol.unh.edu; s=unh-iol; t=1760164762; x=1760769562; darn=dpdk.org; h=references:in-reply-to:cc:to:from:subject:message-id:date:from:to :cc:subject:date:message-id:reply-to; bh=s23yYR7WQaJ7jUmVlrcW5Xo9aSdKL+U91QKsuDZegqM=; b=J0hO3iKuvAhr7QLQ3MxfUNsDFyvpR6XBkiAewtAY6OpNbRPfGz8ZfVm6doklej8y0a lhZfXdY2OR2y5bFahPwVD38T2HVC3jLYy4OKCqaI5WOFl2DEA7/hRg+lztz3jjw40WXf f83uXCDCxeWUwaqmKfGU0u+aKSlXybYDpQ1k8= X-Google-DKIM-Signature: v=1; a=rsa-sha256; c=relaxed/relaxed; d=1e100.net; s=20230601; t=1760164762; x=1760769562; h=references:in-reply-to:cc:to:from:subject:message-id:date :x-gm-message-state:from:to:cc:subject:date:message-id:reply-to; bh=s23yYR7WQaJ7jUmVlrcW5Xo9aSdKL+U91QKsuDZegqM=; b=m0ozHfM3Urfk4YMo5jYoFzpE+SCX210/PGJya/EpqEN6TrR4jxB71R+KSdRtnV7+mU oFdqwCLd+OQ9+Q0E1wIM4n/wN/tqkcuJUos4/pqjV+slY7GI8ILhJuRNN4qZ4qtKmoPz 3YjL6y5UklF1RkKEJYH9ZnSEvVG4zbY1wEFr8iZi4b+g4CjYmD3P6rpr3R5UitHwe6oL vMpnmNG04JL7qrXSxxiaQ9+1HKuEBQe+vapNZfjJsy78woo9VSX8JWZoH/78GGRzSDrD P7tW0ltBASmXHr9WVOtrbkOVB549yR8/fqq82qefYB6cvPXsSTUKpAfXOP3FhMDhnfxK 25OA== X-Gm-Message-State: AOJu0Yx6afG7X/7ie0+eUubJdra9TFMDbsnwwPsP2F4pARhQBKfdWD2C 0Aplm7BJ8mvW9lhCrZ7uqAGEtE4kp0vsfzq2xd06LxbHR9ugg5go8nhw/PN1x1sgX6fzxy0Jzog 5EansqHAg14XPDEqt/mAcFN6trMdYq2/UyNCry3o0Z3dI X-Gm-Gg: ASbGncv19h1PERukmGw9mQzrFjXSiW/GGKpcU3jeMjP0npxM2CGA8P1YVxPdzDRB+xS 9jKx1rFzJBQG2hhIgVgQMwRqAo0yl3kzOp/WBNo1WAXh8c8nAAj/FPRhseCPsbeMk1S+7T8P3tB bB+feQ1vGIlJUZ82oU2QbQc+hVqmQaIIzxy5wwhHR7e7LBDEVtqjcEyXndWdyHYwzOKR7txeSTv j/9Yen1tRZWUpOM18SSrfOwGXtbOqMdKDrtblrnbFWqPZg8Lys9Axfxgv1MakYbR7ehRULFQFFZ guaXNKHw6CvrqRyUPhRE0bxVW9URA2OhK1ogo9HkQyjfQ2bV3XRJVLlH5txA5x34KtOPdQVI X-Google-Smtp-Source: AGHT+IF1y4Xiy5RLtgkQvhqj6V/Jd3BDJd8rg/JZgVB72cGfgULGSRYyxl6ZGtfEPemAq8nUcVYuif1lVsFW X-Received: by 2002:a05:6e02:1c29:b0:42a:f84b:9e7f with SMTP id e9e14a558f8ab-42f873ebd1amr165126055ab.15.1760164762069; Fri, 10 Oct 2025 23:39:22 -0700 (PDT) Received: from postal.iol.unh.edu (postal.iol.unh.edu. [132.177.123.84]) by smtp-relay.gmail.com with ESMTPS id 8926c6da1cb9f-58f71469828sm386641173.28.2025.10.10.23.39.21 (version=TLS1_2 cipher=ECDHE-ECDSA-AES128-GCM-SHA256 bits=128/128); Fri, 10 Oct 2025 23:39:22 -0700 (PDT) X-Relaying-Domain: iol.unh.edu Date: Fri, 10 Oct 2025 23:39:22 -0700 (PDT) Message-ID: <68e9fb9a.050a0220.e795b.38dfSMTPIN_ADDED_MISSING@mx.google.com> Received: from [172.21.0.2] (unknown [172.18.0.240]) by postal.iol.unh.edu (Postfix) with ESMTP id 85A006051830; Sat, 11 Oct 2025 02:39:21 -0400 (EDT) Subject: |SUCCESS| pw157456 [PATCH] [v2] crypto/virtio: free memory used by o From: dpdklab@iol.unh.edu To: Test Report Cc: dpdk-test-reports@iol.unh.edu, Akhil Goyal In-Reply-To: <20251011043706.1554-1-gmuthukrishn@marvell.com> References: <20251011043706.1554-1-gmuthukrishn@marvell.com> Content-Type: text/plain X-BeenThere: test-report@dpdk.org X-Mailman-Version: 2.1.29 Precedence: list List-Id: automatic DPDK test reports List-Unsubscribe: , List-Archive: List-Post: List-Help: List-Subscribe: , Errors-To: test-report-bounces@dpdk.org Test-Label: iol-compile-amd64-testing Test-Status: SUCCESS http://dpdk.org/patch/157456 _Testing PASS_ Submitter: Gowrishankar Muthukrishnan Date: Saturday, October 11 2025 04:37:03 DPDK git baseline: Repo:dpdk-next-crypto Branch: master CommitID:2aa7141a4e2c78e3cce03dbd613532a2166123c1 157456 --> testing pass Upstream job id: Generic-DPDK-Compile-Meson#433376 Test environment and result as below: +-------------------------------+--------------------+-------------------------+-------------------+----------------------+-------------------+------------------+ | Environment | dpdk_meson_compile | dpdk_llvm_clang_compile | dpdk_msvc_compile | dpdk_mingw64_compile | dpdk_compile_spdk | dpdk_compile_ovs | +===============================+====================+=========================+===================+======================+===================+==================+ | FreeBSD 14.2 | PASS | SKIPPED | SKIPPED | SKIPPED | SKIPPED | SKIPPED | +-------------------------------+--------------------+-------------------------+-------------------+----------------------+-------------------+------------------+ | Ubuntu 20.04 | PASS | SKIPPED | SKIPPED | SKIPPED | SKIPPED | SKIPPED | +-------------------------------+--------------------+-------------------------+-------------------+----------------------+-------------------+------------------+ | CentOS Stream 9 | PASS | SKIPPED | SKIPPED | SKIPPED | PASS | SKIPPED | +-------------------------------+--------------------+-------------------------+-------------------+----------------------+-------------------+------------------+ | CentOS Stream 10 | PASS | SKIPPED | SKIPPED | SKIPPED | SKIPPED | SKIPPED | +-------------------------------+--------------------+-------------------------+-------------------+----------------------+-------------------+------------------+ | Debian GNU/Linux 12 | PASS | SKIPPED | SKIPPED | SKIPPED | PASS | SKIPPED | +-------------------------------+--------------------+-------------------------+-------------------+----------------------+-------------------+------------------+ | Fedora Linux 42 | PASS | SKIPPED | SKIPPED | SKIPPED | PASS | PASS | +-------------------------------+--------------------+-------------------------+-------------------+----------------------+-------------------+------------------+ | openSUSE Leap 15.6 | PASS | SKIPPED | SKIPPED | SKIPPED | SKIPPED | SKIPPED | +-------------------------------+--------------------+-------------------------+-------------------+----------------------+-------------------+------------------+ | Red Hat Enterprise Linux 8.10 | PASS | SKIPPED | SKIPPED | SKIPPED | SKIPPED | SKIPPED | +-------------------------------+--------------------+-------------------------+-------------------+----------------------+-------------------+------------------+ | Red Hat Enterprise Linux 9.5 | PASS | SKIPPED | SKIPPED | SKIPPED | SKIPPED | SKIPPED | +-------------------------------+--------------------+-------------------------+-------------------+----------------------+-------------------+------------------+ | Ubuntu 22.04 | PASS | SKIPPED | SKIPPED | SKIPPED | PASS | SKIPPED | +-------------------------------+--------------------+-------------------------+-------------------+----------------------+-------------------+------------------+ | Ubuntu 24.04 | PASS | SKIPPED | SKIPPED | SKIPPED | PASS | PASS | +-------------------------------+--------------------+-------------------------+-------------------+----------------------+-------------------+------------------+ | Alpine Linux 3.22.0 | PASS | SKIPPED | SKIPPED | SKIPPED | SKIPPED | SKIPPED | +-------------------------------+--------------------+-------------------------+-------------------+----------------------+-------------------+------------------+ | Windows Server 2022 | SKIPPED | PASS | PASS | PASS | SKIPPED | SKIPPED | +-------------------------------+--------------------+-------------------------+-------------------+----------------------+-------------------+------------------+ FreeBSD 14.2 Kernel: 14.2-RELEASE Compiler: clang 18.1.6 Ubuntu 20.04 Kernel: 4.19 Compiler: gcc gcc (Ubuntu 9.4.0-1ubuntu1~20.04.2) 9.4.0 CentOS Stream 9 Kernel: 5.15 Compiler: gcc gcc (GCC) 11.5.0 20240719 (Red Hat 11.5.0-11) CentOS Stream 10 Kernel: 5.15 Compiler: gcc gcc (GCC) 14.2.1 20250110 (Red Hat 14.2.1-8) Debian GNU/Linux 12 Kernel: 5.15 Compiler: gcc gcc (Debian 12.2.0-14+deb12u1) 12.2.0 Fedora Linux 42 Kernel: 5.15 Compiler: clang gcc (GCC) 15.2.1 20250808 (Red Hat 15.2.1-1) openSUSE Leap 15.6 Kernel: 5.15 Compiler: gcc gcc (SUSE Linux) 7.5.0 Red Hat Enterprise Linux 8.10 Kernel: 5.15 Compiler: gcc gcc (GCC) 8.5.0 20210514 (Red Hat 8.5.0-22) Red Hat Enterprise Linux 9.5 Kernel: 5.15 Compiler: gcc gcc (GCC) 11.5.0 20240719 (Red Hat 11.5.0-2) Ubuntu 22.04 Kernel: 5.15 Compiler: gcc gcc (Ubuntu 11.4.0-1ubuntu1~22.04) 11.4.0 Ubuntu 24.04 Kernel: 5.15 Compiler: gcc gcc (Ubuntu 13.3.0-6ubuntu2~24.04) 13.3.0 Alpine Linux 3.22.0 Kernel: 5.15 Compiler: gcc gcc (Alpine 14.2.0) 14.2.0 Windows Server 2022 Kernel: 10.0.20348.2031 Compiler: clang 15.0.7, gcc 14.1.0 (MinGW), and MSVC VS 19.39.33521 To view detailed results, visit: https://lab.dpdk.org/results/dashboard/patchsets/34254/ UNH-IOL DPDK Community Lab To manage your email subscriptions, visit: https://lab.dpdk.org/results/dashboard/preferences/subscriptions/