From mboxrd@z Thu Jan 1 00:00:00 1970 Return-Path: Received: from mails.dpdk.org (mails.dpdk.org [217.70.189.124]) by inbox.dpdk.org (Postfix) with ESMTP id 649AB48909 for ; Sat, 11 Oct 2025 08:43:45 +0200 (CEST) Received: from mails.dpdk.org (localhost [127.0.0.1]) by mails.dpdk.org (Postfix) with ESMTP id 393074021F; Sat, 11 Oct 2025 08:43:45 +0200 (CEST) Received: from mail-io1-f98.google.com (mail-io1-f98.google.com [209.85.166.98]) by mails.dpdk.org (Postfix) with ESMTP id 155A64021F for ; Sat, 11 Oct 2025 08:43:44 +0200 (CEST) Received: by mail-io1-f98.google.com with SMTP id ca18e2360f4ac-91122373653so108870039f.1 for ; Fri, 10 Oct 2025 23:43:44 -0700 (PDT) DKIM-Signature: v=1; a=rsa-sha256; c=relaxed/relaxed; d=iol.unh.edu; s=unh-iol; t=1760165023; x=1760769823; darn=dpdk.org; h=cc:to:from:subject:message-id:date:from:to:cc:subject:date :message-id:reply-to; bh=hWoKHhxSCkePzZJPOZCdVGHiosal26+RwG+xFxOY+FE=; b=e/Bu4JTClnFwgRrdFWZ6eohiAEFdUMA0fW7/91BhxSW6M9h/EU05o7pSFw4xMMhXlp gZ5Yi7oLLbDS+aUhdcaYWN3hiq/GUYh/xQCCwMAlLseETz4NoIi+aVGOggUc2U3xrG/v qGeIwgS3zk1RtARxGTjMDurxRmQ3r7mNnZyV8= X-Google-DKIM-Signature: v=1; a=rsa-sha256; c=relaxed/relaxed; d=1e100.net; s=20230601; t=1760165023; x=1760769823; h=cc:to:from:subject:message-id:date:x-gm-message-state:from:to:cc :subject:date:message-id:reply-to; bh=hWoKHhxSCkePzZJPOZCdVGHiosal26+RwG+xFxOY+FE=; b=HKy/+x0rx3gA08aV1MfO6TcVYoqDCnljHQihjyRndGQeXkigNa71OmIc5HZ4iOD/ls ZGdMGGcxDymjyR/GGLWkmtB/pYbAT7RgsQzMCLWpWaXvg9HQOi14HO7ZqFgXFgElXUgk GlPevUGhISTDOVlsFjn3aFl9lsf5LNKZ5E/JA5hzWDOhGIv257icNWVd+D727SozmYQl aX8exFmueO5Ec4F78VOQ9UlAi+GYv16NiCw1Dzs+pwikbfX90rU4hwP7xaunjVKB/kw2 0a8kV9kU/1n1a75aZvHLeQZhuzjuWeAglpXcHdFjAQIYvIoN+tk/Pf4QoZEiFgxB00MQ +Gug== X-Gm-Message-State: AOJu0YxHoXnJe2lSWdkCNFSCTGhPWTJrFFvQEvBoZw5QLkucSvj9bj6G 4At245dXStUL2ohRBcwxArzEMrqZbT1YYVGYKZ9aTgxR1yo8y5Gng88nw1betIVn+qSaBBTjlUf xaSHgadfIpPbGzvHpVhYFpTBD7FNdbujS9cIH X-Gm-Gg: ASbGncvkd7JT7TOJW3OM9LqQZG+tBLKsWndA3HsBBSWXhDil/z5Et6jUZYu+zT3uBYX 3cKBmpJxUOQVCllkZetgfo2obUbjy8KZ0aGPCCuoe/Xls/SHn7MEa5HYcdm7fPf8BuGO5sXw8D7 C8fkAzlm4GtCSE74BQua/Peoj4FIoZ0uMlgMeazb2RRj6tgovI2ma/d8XpZ/ylrL3JYbSpL20DJ enFZK9geYSDgOU+eGfMoVg/fJsZi7wKjkaIbw/HsSz1CVsxSs14z41yzSgevwucZY2n6Ejozuij /ruDGAG9tLE86sKq6Ri5ydQIKiREbKBdcLcJnkLHIubYu948ch8FLQdWuaYZwl3Pr77CKjX2 X-Google-Smtp-Source: AGHT+IEA9GDLjSWu4ZY1PZDAs5RdloG9zOCjfFBScKnM/FVi0egM0sJB3nhoMB8wvCzTaLihjFe0PimsGDYL X-Received: by 2002:a05:6e02:3811:b0:42d:8525:ac81 with SMTP id e9e14a558f8ab-42f87403addmr166889035ab.17.1760165023297; Fri, 10 Oct 2025 23:43:43 -0700 (PDT) Received: from postal.iol.unh.edu (postal.iol.unh.edu. [132.177.123.84]) by smtp-relay.gmail.com with ESMTPS id e9e14a558f8ab-42f90318eefsm4936325ab.23.2025.10.10.23.43.43 (version=TLS1_2 cipher=ECDHE-ECDSA-AES128-GCM-SHA256 bits=128/128); Fri, 10 Oct 2025 23:43:43 -0700 (PDT) X-Relaying-Domain: iol.unh.edu Date: Fri, 10 Oct 2025 23:43:43 -0700 (PDT) Message-ID: <68e9fc9f.050a0220.d88ae.98a7SMTPIN_ADDED_MISSING@mx.google.com> Received: from [172.21.0.2] (unknown [172.18.0.240]) by postal.iol.unh.edu (Postfix) with ESMTP id D494B6051830; Sat, 11 Oct 2025 02:43:42 -0400 (EDT) Subject: |SUCCESS| [GIT MASTER] b287e404643aeab5bb5db084c142789df187844e From: dpdklab@iol.unh.edu To: Test Report Cc: dpdk-test-reports@iol.unh.edu, Xueming Li , Christian Ehrhardt , Kevin Traynor , Luca Boccassi Content-Type: text/plain X-BeenThere: test-report@dpdk.org X-Mailman-Version: 2.1.29 Precedence: list List-Id: automatic DPDK test reports List-Unsubscribe: , List-Archive: List-Post: List-Help: List-Subscribe: , Errors-To: test-report-bounces@dpdk.org _Testing PASS_ Branch: tags/v24.11 b287e404643aeab5bb5db084c142789df187844e --> testing pass Upstream job id: Generic-Unit-Test-DPDK#380410 Test environment and result as below: +-------------------------------+----------------+ | Environment | dpdk_unit_test | +===============================+================+ | CentOS Stream 9 | PASS | +-------------------------------+----------------+ | Fedora Linux 41 | PASS | +-------------------------------+----------------+ | Fedora Linux 40 | PASS | +-------------------------------+----------------+ | CentOS Stream 10 | PASS | +-------------------------------+----------------+ | Debian GNU/Linux 12 | PASS | +-------------------------------+----------------+ | Fedora Linux 42 | PASS | +-------------------------------+----------------+ | Red Hat Enterprise Linux 8.10 | PASS | +-------------------------------+----------------+ | Ubuntu 24.04 | PASS | +-------------------------------+----------------+ | Ubuntu 20.04 | PASS | +-------------------------------+----------------+ | Red Hat Enterprise Linux 9.5 | PASS | +-------------------------------+----------------+ | Ubuntu 22.04 | PASS | +-------------------------------+----------------+ | Windows Server 2022 | PASS | +-------------------------------+----------------+ CentOS Stream 9 Kernel: 5.15 Compiler: gcc gcc (GCC) 11.5.0 20240719 (Red Hat 11.5.0-11) Fedora Linux 41 Kernel: 5.15 Compiler: gcc gcc (GCC) 14.3.1 20250523 (Red Hat 14.3.1-1) Fedora Linux 40 Kernel: 5.15 Compiler: clang gcc (GCC) 14.2.1 20240912 (Red Hat 14.2.1-3) CentOS Stream 10 Kernel: 5.15 Compiler: gcc gcc (GCC) 14.2.1 20250110 (Red Hat 14.2.1-8) Debian GNU/Linux 12 Kernel: 5.15 Compiler: gcc gcc (Debian 12.2.0-14+deb12u1) 12.2.0 Fedora Linux 42 Kernel: 5.15 Compiler: clang gcc (GCC) 15.2.1 20250808 (Red Hat 15.2.1-1) Red Hat Enterprise Linux 8.10 Kernel: 5.15 Compiler: gcc gcc (GCC) 8.5.0 20210514 (Red Hat 8.5.0-22) Ubuntu 24.04 Kernel: 5.15 Compiler: gcc gcc (Ubuntu 13.3.0-6ubuntu2~24.04) 13.3.0 Ubuntu 20.04 Kernel: 5.15 Compiler: gcc gcc (Ubuntu 9.4.0-1ubuntu1~20.04.2) 9.4.0 Red Hat Enterprise Linux 9.5 Kernel: 5.15 Compiler: gcc gcc (GCC) 11.5.0 20240719 (Red Hat 11.5.0-2) Ubuntu 22.04 Kernel: 5.15 Compiler: gcc gcc (Ubuntu 11.4.0-1ubuntu1~22.04) 11.4.0 Windows Server 2022 Kernel: 10.0.20348.2031 Compiler: clang 15.0.7, gcc 14.1.0 (MinGW), and MSVC VS 19.39.33521 To view detailed results, visit: https://lab.dpdk.org/results/dashboard/tarballs/35173/ UNH-IOL DPDK Community Lab To manage your email subscriptions, visit: https://lab.dpdk.org/results/dashboard/preferences/subscriptions/