From mboxrd@z Thu Jan 1 00:00:00 1970 Return-Path: Received: from mails.dpdk.org (mails.dpdk.org [217.70.189.124]) by inbox.dpdk.org (Postfix) with ESMTP id 4E5AF48909 for ; Sat, 11 Oct 2025 09:06:00 +0200 (CEST) Received: from mails.dpdk.org (localhost [127.0.0.1]) by mails.dpdk.org (Postfix) with ESMTP id 486BA4021F; Sat, 11 Oct 2025 09:06:00 +0200 (CEST) Received: from mail-pl1-f227.google.com (mail-pl1-f227.google.com [209.85.214.227]) by mails.dpdk.org (Postfix) with ESMTP id 9D3BC4021F for ; Sat, 11 Oct 2025 09:05:58 +0200 (CEST) Received: by mail-pl1-f227.google.com with SMTP id d9443c01a7336-2897522a1dfso26973355ad.1 for ; Sat, 11 Oct 2025 00:05:58 -0700 (PDT) DKIM-Signature: v=1; a=rsa-sha256; c=relaxed/relaxed; d=iol.unh.edu; s=unh-iol; t=1760166358; x=1760771158; darn=dpdk.org; h=references:in-reply-to:cc:to:from:subject:message-id:date:from:to :cc:subject:date:message-id:reply-to; bh=eFxaSPigXEWdf13RjggAjkgStkV0iQn8Mj8/W+kmK+s=; b=VfDUnZMOF2noBtc9EpjC3C3RIhVerDsgUXjEWWhz8Mfkasxu2SINpDX2NX1LMhnR20 O/8Vo84jMAtPGqASZEiabkSMZ9Kr+3I6c4ndEG9JZJnIDGR0EqjQ71IN8VNHNQSE5PpQ ADzedqXvJ/au5DD9mXfa1UBaxC1LUXCi9ruy8= X-Google-DKIM-Signature: v=1; a=rsa-sha256; c=relaxed/relaxed; d=1e100.net; s=20230601; t=1760166358; x=1760771158; h=references:in-reply-to:cc:to:from:subject:message-id:date :x-gm-message-state:from:to:cc:subject:date:message-id:reply-to; bh=eFxaSPigXEWdf13RjggAjkgStkV0iQn8Mj8/W+kmK+s=; b=Chzpy15NLoGGuZYaoPY1lKdEGyS2oM+/11c0Q1xn0X9XN9GzT519c1i54p6hsjyKu8 RbOSBp9tdRDyjHmd5c3g8mSoTIavtO/lvOMvVJNVedCzojgk+VmybBkb+HZf+dOOLAhR fF/6H38zSiOUIj4LDJgA7UjARqlDSvAEuuCK3LOjnIx4LUhbptGvTHicvfW20qzjT+wV vBC+MBXpcGZc2i4JvsJt7uDLIUBD6mLaUid6hjmDoH7WhocUwltJlkknKOhXwyDKQuXW u1pJYb6Lk+NAmlX0NKPTTZY6igMtEDr72RO33ckLO7vsHe3Fy12OOb4W6GkRvvZIkxCj afRg== X-Gm-Message-State: AOJu0YweFzKTmAwr7k6ZbrEfc3ZKxmmGo7xKJPbLwhIFcbETMWOyDrIz iFuwA53uKmxj3ACOnpgtKU+C5EYRZsyQPy5ms+46+JI8miD3POD5zI2tIyb6uWkorUnnmeJvnik rg5IYqiifqgfbHO5/Q/I19+SH0KVtdcTMnear1fZ/TCcsKlsNZsxmjH5DGA11 X-Gm-Gg: ASbGncuI9CPMtz3FHPBtiB1F/TEfERqvbSGJrYw+YK894f4egMXkl69j4LlMjNfyhFX 2tBr3l6lvIUPYEZRojMGfq+VsImMlPXezM7kevcvPlyY6c8GAFYES+qmF86iGDkeIac9UfhO6TP iudrhVGZQ7GL0lIJ6QatB++C1UTX+nNn5jj6UmjaFCLVv+9cgLTFN9HzkY4A1m8/WcRMO5D4Dl4 IevvuhXU+phDYXFZLXLHfZtt44r2cpxCGPZ0WZemMMiMwu0iW+YGejq5Sz+r5aqtjt+DDC9Cj3/ bN3pBK1b4Cbo8ZWnmjqCNSgqAp40xFG+ajtKpmhizC45RKmxeA== X-Google-Smtp-Source: AGHT+IHSvYKYFVPdDVbJeZaA0M2exBcHByqmS1auxIHsiAa2bx3M1hMpw6Fy+OypliZpVEMxmvRudS6CbqbN X-Received: by 2002:a17:902:ef10:b0:271:5bde:697e with SMTP id d9443c01a7336-29027213340mr191958815ad.3.1760166357670; Sat, 11 Oct 2025 00:05:57 -0700 (PDT) Received: from postal.iol.unh.edu (postal.iol.unh.edu. [2606:4100:3880:1234::84]) by smtp-relay.gmail.com with ESMTPS id d9443c01a7336-29034cc00c4sm6617515ad.0.2025.10.11.00.05.57 (version=TLS1_2 cipher=ECDHE-ECDSA-AES128-GCM-SHA256 bits=128/128); Sat, 11 Oct 2025 00:05:57 -0700 (PDT) X-Relaying-Domain: iol.unh.edu Date: Sat, 11 Oct 2025 00:05:57 -0700 (PDT) Message-ID: <68ea01d5.170a0220.249a46.2156SMTPIN_ADDED_MISSING@mx.google.com> Received: from [172.21.0.2] (unknown [172.18.0.240]) by postal.iol.unh.edu (Postfix) with ESMTP id CE5ED6051830; Sat, 11 Oct 2025 03:05:56 -0400 (EDT) Subject: |SUCCESS| pw157456 [PATCH] [v2] crypto/virtio: free memory used by o From: dpdklab@iol.unh.edu To: Test Report Cc: dpdk-test-reports@iol.unh.edu, Akhil Goyal In-Reply-To: <20251011043706.1554-1-gmuthukrishn@marvell.com> References: <20251011043706.1554-1-gmuthukrishn@marvell.com> Content-Type: text/plain X-BeenThere: test-report@dpdk.org X-Mailman-Version: 2.1.29 Precedence: list List-Id: automatic DPDK test reports List-Unsubscribe: , List-Archive: List-Post: List-Help: List-Subscribe: , Errors-To: test-report-bounces@dpdk.org Test-Label: iol-unit-amd64-testing Test-Status: SUCCESS http://dpdk.org/patch/157456 _Testing PASS_ Submitter: Gowrishankar Muthukrishnan Date: Saturday, October 11 2025 04:37:03 DPDK git baseline: Repo:dpdk-next-crypto Branch: master CommitID:2aa7141a4e2c78e3cce03dbd613532a2166123c1 157456 --> testing pass Upstream job id: Generic-Unit-Test-DPDK#380439 Test environment and result as below: +-------------------------------+----------------+ | Environment | dpdk_unit_test | +===============================+================+ | CentOS Stream 9 | PASS | +-------------------------------+----------------+ | CentOS Stream 10 | PASS | +-------------------------------+----------------+ | Debian GNU/Linux 12 | PASS | +-------------------------------+----------------+ | Fedora Linux 40 | PASS | +-------------------------------+----------------+ | Fedora Linux 42 | PASS | +-------------------------------+----------------+ | Fedora Linux 41 | PASS | +-------------------------------+----------------+ | Red Hat Enterprise Linux 8.10 | PASS | +-------------------------------+----------------+ | Ubuntu 20.04 | PASS | +-------------------------------+----------------+ | Red Hat Enterprise Linux 9.5 | PASS | +-------------------------------+----------------+ | Ubuntu 24.04 | PASS | +-------------------------------+----------------+ | Ubuntu 22.04 | PASS | +-------------------------------+----------------+ | Windows Server 2022 | PASS | +-------------------------------+----------------+ CentOS Stream 9 Kernel: 5.15 Compiler: gcc gcc (GCC) 11.5.0 20240719 (Red Hat 11.5.0-11) CentOS Stream 10 Kernel: 5.15 Compiler: gcc gcc (GCC) 14.2.1 20250110 (Red Hat 14.2.1-8) Debian GNU/Linux 12 Kernel: 5.15 Compiler: gcc gcc (Debian 12.2.0-14+deb12u1) 12.2.0 Fedora Linux 40 Kernel: 5.15 Compiler: gcc gcc (GCC) 14.2.1 20240912 (Red Hat 14.2.1-3) Fedora Linux 42 Kernel: 5.15 Compiler: clang gcc (GCC) 15.2.1 20250808 (Red Hat 15.2.1-1) Fedora Linux 41 Kernel: 5.15 Compiler: clang gcc (GCC) 14.3.1 20250523 (Red Hat 14.3.1-1) Red Hat Enterprise Linux 8.10 Kernel: 5.15 Compiler: gcc gcc (GCC) 8.5.0 20210514 (Red Hat 8.5.0-22) Ubuntu 20.04 Kernel: 5.15 Compiler: gcc gcc (Ubuntu 9.4.0-1ubuntu1~20.04.2) 9.4.0 Red Hat Enterprise Linux 9.5 Kernel: 5.15 Compiler: gcc gcc (GCC) 11.5.0 20240719 (Red Hat 11.5.0-2) Ubuntu 24.04 Kernel: 5.15 Compiler: gcc gcc (Ubuntu 13.3.0-6ubuntu2~24.04) 13.3.0 Ubuntu 22.04 Kernel: 5.15 Compiler: gcc gcc (Ubuntu 11.4.0-1ubuntu1~22.04) 11.4.0 Windows Server 2022 Kernel: 10.0.20348.2031 Compiler: clang 15.0.7, gcc 14.1.0 (MinGW), and MSVC VS 19.39.33521 To view detailed results, visit: https://lab.dpdk.org/results/dashboard/patchsets/34254/ UNH-IOL DPDK Community Lab To manage your email subscriptions, visit: https://lab.dpdk.org/results/dashboard/preferences/subscriptions/